BEGIN:VCALENDAR
VERSION:2.0
PRODID:-//Polskie Stowarzyszenie Racjonalistów - ECPv5.16.3.1//NONSGML v1.0//EN
CALSCALE:GREGORIAN
METHOD:PUBLISH
X-WR-CALNAME:Polskie Stowarzyszenie Racjonalistów
X-ORIGINAL-URL:https://www.psr.org.pl
X-WR-CALDESC:Wydarzenia dla Polskie Stowarzyszenie Racjonalistów
REFRESH-INTERVAL;VALUE=DURATION:PT1H
X-Robots-Tag:noindex
X-PUBLISHED-TTL:PT1H
BEGIN:VTIMEZONE
TZID:UTC
BEGIN:STANDARD
TZOFFSETFROM:+0000
TZOFFSETTO:+0000
TZNAME:UTC
DTSTART:20250101T000000
END:STANDARD
END:VTIMEZONE
BEGIN:VEVENT
DTSTART;VALUE=DATE:20250429
DTEND;VALUE=DATE:20250430
DTSTAMP:20260419T193557
CREATED:20250120T130402Z
LAST-MODIFIED:20250120T130402Z
UID:9758-1745884800-1745971199@www.psr.org.pl
SUMMARY:1946 Urodził się Aleksander Wolszczan\, polski radioastronom\, odkrywca pierwszych planet poza Układem Słonecznym
DESCRIPTION:1946 Народився Александер Вольщан\, польський радіоастроном\, першовідкривач перших планет поза Сонячною системою
URL:https://www.psr.org.pl/wydarzenie/1946-urodzil-sie-aleksander-wolszczan-polski-radioastronom-odkrywca-pierwszych-planet-poza-ukladem-slonecznym-2-2-2/
END:VEVENT
END:VCALENDAR