BEGIN:VCALENDAR
VERSION:2.0
PRODID:-//Polskie Stowarzyszenie Racjonalistów - ECPv5.16.3.1//NONSGML v1.0//EN
CALSCALE:GREGORIAN
METHOD:PUBLISH
X-ORIGINAL-URL:https://www.psr.org.pl
X-WR-CALDESC:Wydarzenia dla Polskie Stowarzyszenie Racjonalistów
REFRESH-INTERVAL;VALUE=DURATION:PT1H
X-Robots-Tag:noindex
X-PUBLISHED-TTL:PT1H
BEGIN:VTIMEZONE
TZID:UTC
BEGIN:STANDARD
TZOFFSETFROM:+0000
TZOFFSETTO:+0000
TZNAME:UTC
DTSTART:20250101T000000
END:STANDARD
END:VTIMEZONE
BEGIN:VEVENT
DTSTART;VALUE=DATE:20250512
DTEND;VALUE=DATE:20250513
DTSTAMP:20260419T193838
CREATED:20250120T130428Z
LAST-MODIFIED:20250121T103543Z
UID:9772-1747008000-1747094399@www.psr.org.pl
SUMMARY:1803 Urodził się Justus von Liebig\, twórca nawozów\, proszku do pieczenia i ekstraktu mięsnego
DESCRIPTION:1803 Народився Юстус фон Лібіх\, винахідник мінеральних добрив\, порошку для випічки і м’ясних екстрактів (прототипу сучасних бульйонних кубиків)
URL:https://www.psr.org.pl/wydarzenie/1803-urodzil-sie-justus-von-liebig-tworca-nawozow-proszku-do-pieczenia-i-ekstraktu-miesnego/
END:VEVENT
END:VCALENDAR