BEGIN:VCALENDAR
VERSION:2.0
PRODID:-//Polskie Stowarzyszenie Racjonalistów - ECPv5.16.3.1//NONSGML v1.0//EN
CALSCALE:GREGORIAN
METHOD:PUBLISH
X-ORIGINAL-URL:https://www.psr.org.pl
X-WR-CALDESC:Wydarzenia dla Polskie Stowarzyszenie Racjonalistów
REFRESH-INTERVAL;VALUE=DURATION:PT1H
X-Robots-Tag:noindex
X-PUBLISHED-TTL:PT1H
BEGIN:VTIMEZONE
TZID:UTC
BEGIN:STANDARD
TZOFFSETFROM:+0000
TZOFFSETTO:+0000
TZNAME:UTC
DTSTART:20250101T000000
END:STANDARD
END:VTIMEZONE
BEGIN:VEVENT
DTSTART;VALUE=DATE:20250515
DTEND;VALUE=DATE:20250516
DTSTAMP:20260419T193942
CREATED:20250120T130427Z
LAST-MODIFIED:20250120T130427Z
UID:9778-1747267200-1747353599@www.psr.org.pl
SUMMARY:1888 Urodziła się Inge Lehmann\, geofizyczka i sejsmolożka\, odkrywczyni wewnętrznego jądra Ziemi
DESCRIPTION:1888 Народилася Інґе Леманн\, науковиця-геофізик і сейсмологиня\, першовідкривачка внутрішнього ядра Землі
URL:https://www.psr.org.pl/wydarzenie/1888-urodzila-sie-inge-lehmann-geofizyczka-i-sejsmolozka-odkrywczyni-wewnetrznego-jadra-ziemi-2/
END:VEVENT
END:VCALENDAR