BEGIN:VCALENDAR
VERSION:2.0
PRODID:-//Polskie Stowarzyszenie Racjonalistów - ECPv5.16.3.1//NONSGML v1.0//EN
CALSCALE:GREGORIAN
METHOD:PUBLISH
X-ORIGINAL-URL:https://www.psr.org.pl
X-WR-CALDESC:Wydarzenia dla Polskie Stowarzyszenie Racjonalistów
REFRESH-INTERVAL;VALUE=DURATION:PT1H
X-Robots-Tag:noindex
X-PUBLISHED-TTL:PT1H
BEGIN:VTIMEZONE
TZID:UTC
BEGIN:STANDARD
TZOFFSETFROM:+0000
TZOFFSETTO:+0000
TZNAME:UTC
DTSTART:20250101T000000
END:STANDARD
END:VTIMEZONE
BEGIN:VEVENT
DTSTART;VALUE=DATE:20250518
DTEND;VALUE=DATE:20250519
DTSTAMP:20260419T193843
CREATED:20250120T130426Z
LAST-MODIFIED:20250120T130426Z
UID:9775-1747526400-1747612799@www.psr.org.pl
SUMMARY:1872 Urodził się Bertrand Russell – filozof analityczny\, logik\, matematyk i wielki obrońca wolności słowa
DESCRIPTION:1872 Народився Бертран Рассел\, аналітичний філософ\, логік\, математик і пристрасний захисник свободи слова
URL:https://www.psr.org.pl/wydarzenie/1872-urodzil-sie-bertrand-russell-filozof-analityczny-logik-matematyk-i-wielki-obronca-wolnosci-slowa-2-2-2/
END:VEVENT
END:VCALENDAR