BEGIN:VCALENDAR
VERSION:2.0
PRODID:-//Polskie Stowarzyszenie Racjonalistów - ECPv5.16.3.1//NONSGML v1.0//EN
CALSCALE:GREGORIAN
METHOD:PUBLISH
X-WR-CALNAME:Polskie Stowarzyszenie Racjonalistów
X-ORIGINAL-URL:https://www.psr.org.pl
X-WR-CALDESC:Wydarzenia dla Polskie Stowarzyszenie Racjonalistów
REFRESH-INTERVAL;VALUE=DURATION:PT1H
X-Robots-Tag:noindex
X-PUBLISHED-TTL:PT1H
BEGIN:VTIMEZONE
TZID:UTC
BEGIN:STANDARD
TZOFFSETFROM:+0000
TZOFFSETTO:+0000
TZNAME:UTC
DTSTART:20250101T000000
END:STANDARD
END:VTIMEZONE
BEGIN:VEVENT
DTSTART;VALUE=DATE:20250522
DTEND;VALUE=DATE:20250523
DTSTAMP:20260419T193714
CREATED:20250120T130425Z
LAST-MODIFIED:20250120T130425Z
UID:9783-1747872000-1747958399@www.psr.org.pl
SUMMARY:1922 Willis Carrier\, ojciec współczesnej klimatyzacji\, zaprezentował urządzenie chłodnicze ze sprężarką odśrodkową
DESCRIPTION:1922 «Батько сучасного кондиціонування» Вілліс Керріер представив холодильну установку з відцентровим компресором
URL:https://www.psr.org.pl/wydarzenie/1922-willis-carrier-ojciec-wspolczesnej-klimatyzacji-zaprezentowal-urzadzenie-chlodnicze-ze-sprezarka-odsrodkowa-2-2-2/
END:VEVENT
END:VCALENDAR