BEGIN:VCALENDAR
VERSION:2.0
PRODID:-//Polskie Stowarzyszenie Racjonalistów - ECPv5.16.3.1//NONSGML v1.0//EN
CALSCALE:GREGORIAN
METHOD:PUBLISH
X-ORIGINAL-URL:https://www.psr.org.pl
X-WR-CALDESC:Wydarzenia dla Polskie Stowarzyszenie Racjonalistów
REFRESH-INTERVAL;VALUE=DURATION:PT1H
X-Robots-Tag:noindex
X-PUBLISHED-TTL:PT1H
BEGIN:VTIMEZONE
TZID:UTC
BEGIN:STANDARD
TZOFFSETFROM:+0000
TZOFFSETTO:+0000
TZNAME:UTC
DTSTART:20250101T000000
END:STANDARD
END:VTIMEZONE
BEGIN:VEVENT
DTSTART;VALUE=DATE:20250616
DTEND;VALUE=DATE:20250617
DTSTAMP:20260419T175950
CREATED:20250120T130535Z
LAST-MODIFIED:20250121T105006Z
UID:9808-1750032000-1750118399@www.psr.org.pl
SUMMARY:1902 Urodziła się Barbara McClintock\, odkrywczyni transpozonów (ruchomych sekwencji DNA)
DESCRIPTION:1902 Народилася Барбара Мак-Клінток\, вчена-цитогенетик\, першовідкривачка транспозонів (стрибаючих генів)
URL:https://www.psr.org.pl/wydarzenie/1902-urodzila-sie-barbara-mcclintock-odkrywczyni-transpozonow-ruchomych-sekwencji-dna/
END:VEVENT
END:VCALENDAR