BEGIN:VCALENDAR
VERSION:2.0
PRODID:-//Polskie Stowarzyszenie Racjonalistów - ECPv5.16.3.1//NONSGML v1.0//EN
CALSCALE:GREGORIAN
METHOD:PUBLISH
X-WR-CALNAME:Polskie Stowarzyszenie Racjonalistów
X-ORIGINAL-URL:https://www.psr.org.pl
X-WR-CALDESC:Wydarzenia dla Polskie Stowarzyszenie Racjonalistów
REFRESH-INTERVAL;VALUE=DURATION:PT1H
X-Robots-Tag:noindex
X-PUBLISHED-TTL:PT1H
BEGIN:VTIMEZONE
TZID:UTC
BEGIN:STANDARD
TZOFFSETFROM:+0000
TZOFFSETTO:+0000
TZNAME:UTC
DTSTART:20250101T000000
END:STANDARD
END:VTIMEZONE
BEGIN:VEVENT
DTSTART;VALUE=DATE:20251203
DTEND;VALUE=DATE:20251204
DTSTAMP:20260422T083214
CREATED:20250120T130936Z
LAST-MODIFIED:20250120T130936Z
UID:10070-1764720000-1764806399@www.psr.org.pl
SUMMARY:1896 Herman Hollerith założył TMC\, późniejsze IBM – firmę\, która w 1981 r. stworzyła nowy typ komputera osobistego (PC)
DESCRIPTION:1896 Герман Холлеріт заснував компанію TMC (пізніше\, IBM)\, яка у 1981 році створила новий тип персонального комп’ютера (ПК)
URL:https://www.psr.org.pl/wydarzenie/1896-herman-hollerith-zalozyl-tmc-pozniejsze-ibm-firme-ktora-w-1981-r-stworzyla-nowy-typ-komputera-osobistego-pc-2-2-2/
END:VEVENT
END:VCALENDAR