BEGIN:VCALENDAR
VERSION:2.0
PRODID:-//Polskie Stowarzyszenie Racjonalistów - ECPv5.16.3.1//NONSGML v1.0//EN
CALSCALE:GREGORIAN
METHOD:PUBLISH
X-WR-CALNAME:Polskie Stowarzyszenie Racjonalistów
X-ORIGINAL-URL:https://www.psr.org.pl
X-WR-CALDESC:Wydarzenia dla Polskie Stowarzyszenie Racjonalistów
REFRESH-INTERVAL;VALUE=DURATION:PT1H
X-Robots-Tag:noindex
X-PUBLISHED-TTL:PT1H
BEGIN:VTIMEZONE
TZID:UTC
BEGIN:STANDARD
TZOFFSETFROM:+0000
TZOFFSETTO:+0000
TZNAME:UTC
DTSTART:20230101T000000
END:STANDARD
END:VTIMEZONE
BEGIN:VEVENT
DTSTART;VALUE=DATE:20250301
DTEND;VALUE=DATE:20250302
DTSTAMP:20260420T002348
CREATED:20250120T125751Z
LAST-MODIFIED:20250120T125751Z
UID:9698-1740787200-1740873599@www.psr.org.pl
SUMMARY:1936 W Tatrach ukończono budowę kolei linowej na Kasprowy Wierch
DESCRIPTION:1936 У Татрах завершено будівництво канатної дороги на Каспровий Верх
URL:https://www.psr.org.pl/wydarzenie/1936-w-tatrach-ukonczono-budowe-kolei-linowej-na-kasprowy-wierch-2/
END:VEVENT
BEGIN:VEVENT
DTSTART;VALUE=DATE:20230617
DTEND;VALUE=DATE:20230618
DTSTAMP:20260420T002348
CREATED:20230131T140106Z
LAST-MODIFIED:20230131T140106Z
UID:5699-1686960000-1687046399@www.psr.org.pl
SUMMARY:1885 Do Nowego Jorku przybyła z Francji Statua Wolności
DESCRIPTION:1885 У Нью-Йорк прибула з Франції Статуя Свободи
URL:https://www.psr.org.pl/wydarzenie/1885-do-nowego-jorku-przybyla-z-francji-statua-wolnosci-2/
END:VEVENT
BEGIN:VEVENT
DTSTART;VALUE=DATE:20230618
DTEND;VALUE=DATE:20230619
DTSTAMP:20260420T002348
CREATED:20230131T140130Z
LAST-MODIFIED:20230131T140130Z
UID:5701-1687046400-1687132799@www.psr.org.pl
SUMMARY:1992 Uruchomiono pierwszą polską sieć telefonii komórkowej\, PTK Centertel
DESCRIPTION:1992 Запущено першу польську мережу мобільного зв’язку PTK Centertel
URL:https://www.psr.org.pl/wydarzenie/1992-uruchomiono-pierwsza-polska-siec-telefonii-komorkowej-ptk-centertel-2/
END:VEVENT
BEGIN:VEVENT
DTSTART;VALUE=DATE:20230619
DTEND;VALUE=DATE:20230620
DTSTAMP:20260420T002348
CREATED:20230131T140203Z
LAST-MODIFIED:20230131T140203Z
UID:5703-1687132800-1687219199@www.psr.org.pl
SUMMARY:1963 Kosmonautka Walentina Tierieszkowa powróciła na Ziemię po ukończeniu lotu kosmicznego Wostok 6
DESCRIPTION:1963 Космонавтка Валентина Терешкова повернулася на землю після закінчення польоту на космічному кораблі «Восток-6»
URL:https://www.psr.org.pl/wydarzenie/1963-kosmonautka-walentina-tierieszkowa-powrocila-na-ziemie-po-ukonczeniu-lotu-kosmicznego-wostok-6-2/
END:VEVENT
BEGIN:VEVENT
DTSTART;VALUE=DATE:20230620
DTEND;VALUE=DATE:20230621
DTSTAMP:20260420T002348
CREATED:20230131T140238Z
LAST-MODIFIED:20230131T140238Z
UID:5705-1687219200-1687305599@www.psr.org.pl
SUMMARY:1916 Urodziła się Aniela DziewulskaŁosiowa\, astronomka\, założycielka stacji pomiarów ozonu atmosferycznego w Belsku
DESCRIPTION:1916 Народилася Анєла Дзевульська-Лосьова\, астрономка\, засновниця станції вимірювання атмосферного озону у Бельську
URL:https://www.psr.org.pl/wydarzenie/1916-urodzila-sie-aniela-dziewulskalosiowa-astronomka-zalozycielka-stacji-pomiarow-ozonu-atmosferycznego-w-belsku/
END:VEVENT
BEGIN:VEVENT
DTSTART;VALUE=DATE:20230621
DTEND;VALUE=DATE:20230622
DTSTAMP:20260420T002348
CREATED:20230131T140311Z
LAST-MODIFIED:20230131T140311Z
UID:5707-1687305600-1687391999@www.psr.org.pl
SUMMARY:1948 Po raz pierwszy uruchomiono program zapisany w pamięci komputera\, na Manchester Small- -Scale Experimental Machine
DESCRIPTION:1948 Вперше запущено програму збережену в пам’яті комп’ютера (Manchester Small-Scale Experimental Machine)
URL:https://www.psr.org.pl/wydarzenie/1948-po-raz-pierwszy-uruchomiono-program-zapisany-w-pamieci-komputera-na-manchester-small-scale-experimental-machine-2/
END:VEVENT
BEGIN:VEVENT
DTSTART;VALUE=DATE:20230622
DTEND;VALUE=DATE:20230623
DTSTAMP:20260420T002348
CREATED:20230131T140335Z
LAST-MODIFIED:20230131T140335Z
UID:5709-1687392000-1687478399@www.psr.org.pl
SUMMARY:1978 James Christy odkrył Charona\, księżyc Plutona
DESCRIPTION:1978 Джеймс Крісті відкрив супутник Плутонa – Харон
URL:https://www.psr.org.pl/wydarzenie/1978-james-christy-odkryl-charona-ksiezyc-plutona-2/
END:VEVENT
BEGIN:VEVENT
DTSTART;VALUE=DATE:20230623
DTEND;VALUE=DATE:20230624
DTSTAMP:20260420T002348
CREATED:20230131T140406Z
LAST-MODIFIED:20230131T140406Z
UID:5711-1687478400-1687564799@www.psr.org.pl
SUMMARY:2013 Kopalnia soli w Bochni została wpisana na Listę Światowego Dziedzictwa UNESCO
DESCRIPTION:2013 Соляну копальню в Бохні включено до списку об’єктів Світової спадщини ЮНЕСКО
URL:https://www.psr.org.pl/wydarzenie/2013-kopalnia-soli-w-bochni-zostala-wpisana-na-liste-swiatowego-dziedzictwa-unesco-2/
END:VEVENT
BEGIN:VEVENT
DTSTART;VALUE=DATE:20230624
DTEND;VALUE=DATE:20230625
DTSTAMP:20260420T002348
CREATED:20230131T140430Z
LAST-MODIFIED:20230131T140430Z
UID:5713-1687564800-1687651199@www.psr.org.pl
SUMMARY:1400 Uznaje się za dzień narodzin Johannesa Gutenberga\, wynalazcy prasy drukarskiej z ruchomą czcionką
DESCRIPTION:1400 Визнано за день народження Йоганна Гутенберга\, винахідника друкарського верстатa з рухливими літерами
URL:https://www.psr.org.pl/wydarzenie/1400-uznaje-sie-za-dzien-narodzin-johannesa-gutenberga-wynalazcy-prasy-drukarskiej-z-ruchoma-czcionka/
END:VEVENT
BEGIN:VEVENT
DTSTART;VALUE=DATE:20230625
DTEND;VALUE=DATE:20230626
DTSTAMP:20260420T002348
CREATED:20230131T140457Z
LAST-MODIFIED:20230131T140457Z
UID:5715-1687651200-1687737599@www.psr.org.pl
SUMMARY:1678 Matematyczka i filozofka Elena Cornaro Piscopia jako pierwsza kobieta otrzymała stopień naukowy doktora
DESCRIPTION:1678 Математикиня і філософиня Елена Корнаро Піскопія стала першою жінкою\, яка здобула докторське звання
URL:https://www.psr.org.pl/wydarzenie/1678-matematyczka-i-filozofka-elena-cornaro-piscopia-jako-pierwsza-kobieta-otrzymala-stopien-naukowy-doktora-2/
END:VEVENT
BEGIN:VEVENT
DTSTART;VALUE=DATE:20230626
DTEND;VALUE=DATE:20230627
DTSTAMP:20260420T002348
CREATED:20230131T140522Z
LAST-MODIFIED:20230131T140522Z
UID:5717-1687737600-1687823999@www.psr.org.pl
SUMMARY:1730 Urodził się Charles Messier\, twórca pierwszego systematycznego katalogu obiektów mgławicowych i gromad gwiazd
DESCRIPTION:1730 Народився Шарль Мессьє\, автор першого систематичного каталогу туманностей і зоряних скупчень
URL:https://www.psr.org.pl/wydarzenie/1730-urodzil-sie-charles-messier-tworca-pierwszego-systematycznego-katalogu-obiektow-mglawicowych-i-gromad-gwiazd-2/
END:VEVENT
BEGIN:VEVENT
DTSTART;VALUE=DATE:20230627
DTEND;VALUE=DATE:20230628
DTSTAMP:20260420T002348
CREATED:20230131T140545Z
LAST-MODIFIED:20230131T140545Z
UID:5719-1687824000-1687910399@www.psr.org.pl
SUMMARY:1923 W Stanach Zjednoczonych przeprowadzono pierwsze tankowanie samolotu w powietrzu
DESCRIPTION:1923 У Сполучених Штатах проведено першу заправку літака у повітрі
URL:https://www.psr.org.pl/wydarzenie/1923-w-stanach-zjednoczonych-przeprowadzono-pierwsze-tankowanie-samolotu-w-powietrzu-2/
END:VEVENT
BEGIN:VEVENT
DTSTART;VALUE=DATE:20230628
DTEND;VALUE=DATE:20230629
DTSTAMP:20260420T002348
CREATED:20230131T140607Z
LAST-MODIFIED:20230131T140607Z
UID:5721-1687910400-1687996799@www.psr.org.pl
SUMMARY:1911 W okolicach Aleksandrii w Egipcie spadł pochodzący z Marsa meteoryt Nakhla
DESCRIPTION:1911 Поблизу Александрії в Єгипті упав марсіанський метеорит Нахла
URL:https://www.psr.org.pl/wydarzenie/1911-w-okolicach-aleksandrii-w-egipcie-spadl-pochodzacy-z-marsa-meteoryt-nakhla-2/
END:VEVENT
BEGIN:VEVENT
DTSTART;VALUE=DATE:20230629
DTEND;VALUE=DATE:20230630
DTSTAMP:20260420T002348
CREATED:20230131T140630Z
LAST-MODIFIED:20230131T140630Z
UID:5723-1687996800-1688083199@www.psr.org.pl
SUMMARY:1822 Urodził się Robert William Thomson\, wynalazca gumowej opony pneumatycznej\, kotłów parowych i wiecznego pióra
DESCRIPTION:1822 Народився Роберт Вільям Томсон\, винахідник пневматичної шини\, роторної парової машини й авторучки
URL:https://www.psr.org.pl/wydarzenie/1822-urodzil-sie-robert-william-thomson-wynalazca-gumowej-opony-pneumatycznej-kotlow-parowych-i-wiecznego-piora-2/
END:VEVENT
BEGIN:VEVENT
DTSTART;VALUE=DATE:20230630
DTEND;VALUE=DATE:20230701
DTSTAMP:20260420T002348
CREATED:20230131T140652Z
LAST-MODIFIED:20230131T140652Z
UID:5725-1688083200-1688169599@www.psr.org.pl
SUMMARY:1937 W Londynie wdrożono pierwszy system telefonicznych numerów alarmowych
DESCRIPTION:1937 В Лондоні запроваджено першу систему екстрених телефонних номерів
URL:https://www.psr.org.pl/wydarzenie/1937-w-londynie-wdrozono-pierwszy-system-telefonicznych-numerow-alarmowych-2/
END:VEVENT
BEGIN:VEVENT
DTSTART;VALUE=DATE:20230701
DTEND;VALUE=DATE:20230702
DTSTAMP:20260420T002348
CREATED:20230131T140734Z
LAST-MODIFIED:20230131T140734Z
UID:5727-1688169600-1688255999@www.psr.org.pl
SUMMARY:1903 Urodziła się Amy Johnson – pilotka i mechaniczka lotnicza\, rekordzistka przelotów z Anglii do Japonii i do Kapsztadu w RPA
DESCRIPTION:1903 Народилася Емі Джонсон\, жінка- пілот і авіамеханік\, рекордсменка перельотів з Англії до Японії та до Кейптауна у ПАР
URL:https://www.psr.org.pl/wydarzenie/1903-urodzila-sie-amy-johnson-pilotka-i-mechaniczka-lotnicza-rekordzistka-przelotow-z-anglii-do-japonii-i-do-kapsztadu-w-rpa-2/
END:VEVENT
BEGIN:VEVENT
DTSTART;VALUE=DATE:20230702
DTEND;VALUE=DATE:20230703
DTSTAMP:20260420T002348
CREATED:20230131T140803Z
LAST-MODIFIED:20230131T140803Z
UID:5729-1688256000-1688342399@www.psr.org.pl
SUMMARY:1698 Thomas Savery opatentował jeden z pierwszych silników parowych
DESCRIPTION:1698 Томас Савері запатентував один із перших парових двигунів
URL:https://www.psr.org.pl/wydarzenie/1698-thomas-savery-opatentowal-jeden-z-pierwszych-silnikow-parowych-2/
END:VEVENT
BEGIN:VEVENT
DTSTART;VALUE=DATE:20230703
DTEND;VALUE=DATE:20230704
DTSTAMP:20260420T002348
CREATED:20230131T140826Z
LAST-MODIFIED:20230131T140826Z
UID:5731-1688342400-1688428799@www.psr.org.pl
SUMMARY:1928 W Londynie odbyła się pierwsza na świecie transmisja telewizyjna w kolorze
DESCRIPTION:1928 В Лондоні відбулася перша у світі телетрансляція у кольорі
URL:https://www.psr.org.pl/wydarzenie/1928-w-londynie-odbyla-sie-pierwsza-na-swiecie-transmisja-telewizyjna-w-kolorze-2/
END:VEVENT
BEGIN:VEVENT
DTSTART;VALUE=DATE:20230704
DTEND;VALUE=DATE:20230705
DTSTAMP:20260420T002348
CREATED:20230131T140857Z
LAST-MODIFIED:20230131T140857Z
UID:5733-1688428800-1688515199@www.psr.org.pl
SUMMARY:2012 Potwierdzono odkrycie bozonu Higgsa
DESCRIPTION:2012 Підтверджено відкриття Бозона Хіггса
URL:https://www.psr.org.pl/wydarzenie/2012-potwierdzono-odkrycie-bozonu-higgsa-2/
END:VEVENT
BEGIN:VEVENT
DTSTART;VALUE=DATE:20230705
DTEND;VALUE=DATE:20230706
DTSTAMP:20260420T002348
CREATED:20230131T140920Z
LAST-MODIFIED:20230131T140920Z
UID:5735-1688515200-1688601599@www.psr.org.pl
SUMMARY:1978 Mirosław Hermaszewski powrócił z polsko-radzieckiej badawczej misji kosmicznej Salut 6 EP-3 na statku Sojuz 30
DESCRIPTION:1978 На космічному кораблі «Союз- 30» Мирослав Гермашевський повернувся з польсько- радянської дослідницької місії на орбітальній станції «Салют-6»
URL:https://www.psr.org.pl/wydarzenie/1978-miroslaw-hermaszewski-powrocil-z-polsko-radzieckiej-badawczej-misji-kosmicznej-salut-6-ep-3-na-statku-sojuz-30-2/
END:VEVENT
BEGIN:VEVENT
DTSTART;VALUE=DATE:20230706
DTEND;VALUE=DATE:20230707
DTSTAMP:20260420T002348
CREATED:20230131T140951Z
LAST-MODIFIED:20230131T140951Z
UID:5737-1688601600-1688687999@www.psr.org.pl
SUMMARY:1946 Urodził się etyk Peter Singer\, który spopularyzował ideę wyzwolenia zwierząt
DESCRIPTION:1946 Народився Пітер Сінґер\, етик\, який популяризував ідею визволення тварин
URL:https://www.psr.org.pl/wydarzenie/1946-urodzil-sie-etyk-peter-singer-ktory-spopularyzowal-idee-wyzwolenia-zwierzat-2/
END:VEVENT
BEGIN:VEVENT
DTSTART;VALUE=DATE:20230707
DTEND;VALUE=DATE:20230708
DTSTAMP:20260420T002348
CREATED:20230131T141022Z
LAST-MODIFIED:20230131T141022Z
UID:5739-1688688000-1688774399@www.psr.org.pl
SUMMARY:1843 Urodził się Camillo Golgi – lekarz patolog\, badacz układu nerwowego\, odkrywca organellum zwanego aparatem Golgiego
DESCRIPTION:1843 Народився Камілло Ґольджі\, лікар\, патолог\, дослідник нервової системи\, першовідкривач одномембранної органели\, що отримала назву комплекс Ґольджі
URL:https://www.psr.org.pl/wydarzenie/1843-urodzil-sie-camillo-golgi-lekarz-patolog-badacz-ukladu-nerwowego-odkrywca-organellum-zwanego-aparatem-golgiego-2/
END:VEVENT
BEGIN:VEVENT
DTSTART;VALUE=DATE:20230708
DTEND;VALUE=DATE:20230709
DTSTAMP:20260420T002348
CREATED:20230131T141046Z
LAST-MODIFIED:20230131T141046Z
UID:5741-1688774400-1688860799@www.psr.org.pl
SUMMARY:1497 Vasco da Gama wyruszył z portu w Lizbonie w poszukiwaniu drogi morskiej do Indii
DESCRIPTION:1497 З Лісабонського порту Васко да Гама вирушив на пошуки морського шляху до Індії
URL:https://www.psr.org.pl/wydarzenie/1497-vasco-da-gama-wyruszyl-z-portu-w-lizbonie-w-poszukiwaniu-drogi-morskiej-do-indii-2/
END:VEVENT
BEGIN:VEVENT
DTSTART;VALUE=DATE:20230709
DTEND;VALUE=DATE:20230710
DTSTAMP:20260420T002348
CREATED:20230131T141120Z
LAST-MODIFIED:20230131T141120Z
UID:5743-1688860800-1688947199@www.psr.org.pl
SUMMARY:1926 Urodził się Benjamin Mottelson – fizyk jądrowy\, współtwórca kolektywnego modelu jądra atomowego
DESCRIPTION:1926 Народився Бенджамін Моттельсон\, ядерний фізик\, співавтор колективної моделі атомного ядра
URL:https://www.psr.org.pl/wydarzenie/1926-urodzil-sie-benjamin-mottelson-fizyk-jadrowy-wspoltworca-kolektywnego-modelu-jadra-atomowego-2/
END:VEVENT
BEGIN:VEVENT
DTSTART;VALUE=DATE:20230710
DTEND;VALUE=DATE:20230711
DTSTAMP:20260420T002348
CREATED:20230131T141144Z
LAST-MODIFIED:20230131T141200Z
UID:5745-1688947200-1689033599@www.psr.org.pl
SUMMARY:1918 Urodziła się Venetia Burney\, która jako 11-letnia dziewczynka wymyśliła nazwę dla nowo odkrytego Plutona
DESCRIPTION:1918 Народилася Венеція Берні\, що вона\, будучи 11-річною дівчинкою\, запропонувала назвати нещодавно відкриту карликову планету Плутоном
URL:https://www.psr.org.pl/wydarzenie/1918-urodzila-sie-venetia-burney-ktora-jako-11-letnia-dziewczynka-wymyslila-nazwe-dla-nowo-odkrytego-plutona-2/
END:VEVENT
BEGIN:VEVENT
DTSTART;VALUE=DATE:20230711
DTEND;VALUE=DATE:20230712
DTSTAMP:20260420T002348
CREATED:20230201T125748Z
LAST-MODIFIED:20230201T125748Z
UID:5749-1689033600-1689119999@www.psr.org.pl
SUMMARY:1791 Ciało Woltera zostało złożone w paryskim Panteonie
DESCRIPTION:1791 Тіло Вольтера перенесено до паризького Пантеона
URL:https://www.psr.org.pl/wydarzenie/1791-cialo-woltera-zostalo-zlozone-w-paryskim-panteonie-2/
END:VEVENT
BEGIN:VEVENT
DTSTART;VALUE=DATE:20230712
DTEND;VALUE=DATE:20230713
DTSTAMP:20260420T002348
CREATED:20230201T125813Z
LAST-MODIFIED:20230201T125813Z
UID:5751-1689120000-1689206399@www.psr.org.pl
SUMMARY:1870 Bracia Hyatt opatentowali technologię produkcji celuloidu\, z którego wyrabiano zabawki i filmy fotograficzne
DESCRIPTION:1870 Брати Гаят запатентували целулоїд\, що з нього виробляють іграшки і фотоплівку
URL:https://www.psr.org.pl/wydarzenie/1870-bracia-hyatt-opatentowali-technologie-produkcji-celuloidu-z-ktorego-wyrabiano-zabawki-i-filmy-fotograficzne-2/
END:VEVENT
BEGIN:VEVENT
DTSTART;VALUE=DATE:20230713
DTEND;VALUE=DATE:20230714
DTSTAMP:20260420T002348
CREATED:20230201T125839Z
LAST-MODIFIED:20230201T125839Z
UID:5753-1689206400-1689292799@www.psr.org.pl
SUMMARY:1772 James Cook wypłynął w drugą podróż dookoła świata (odkrył Nową Kaledonię\, archipelag Fidżi i wyspy w Polinezji)
DESCRIPTION:1772 Джеймс Кук відплив у другу навколосвітню подорож (відкрив Нову Каледонію\, архіпелаг Фіджі та острови Полінезії)
URL:https://www.psr.org.pl/wydarzenie/1772-james-cook-wyplynal-w-druga-podroz-dookola-swiata-odkryl-nowa-kaledonie-archipelag-fidzi-i-wyspy-w-polinezji-2/
END:VEVENT
BEGIN:VEVENT
DTSTART;VALUE=DATE:20230714
DTEND;VALUE=DATE:20230715
DTSTAMP:20260420T002348
CREATED:20230201T125907Z
LAST-MODIFIED:20230201T125907Z
UID:5755-1689292800-1689379199@www.psr.org.pl
SUMMARY:1862 Urodziła się wybitna geolożka Florence Bascom\, badaczka skał wulkanicznych
DESCRIPTION:1862 Народилася Флоренс Беском\, видатна геологиня\, дослідник вулканічних порід
URL:https://www.psr.org.pl/wydarzenie/1862-urodzila-sie-wybitna-geolozka-florence-bascom-badaczka-skal-wulkanicznych/
END:VEVENT
BEGIN:VEVENT
DTSTART;VALUE=DATE:20230715
DTEND;VALUE=DATE:20230716
DTSTAMP:20260420T002348
CREATED:20230201T125930Z
LAST-MODIFIED:20230201T125930Z
UID:5757-1689379200-1689465599@www.psr.org.pl
SUMMARY:1943 Urodziła się Jocelyn Bell Burnell – odkrywczyni pierwszych pulsarów
DESCRIPTION:1943 Народилася Джоселін Белл Бернелл\, першовідкривачка пульсарів
URL:https://www.psr.org.pl/wydarzenie/1943-urodzila-sie-jocelyn-bell-burnell-odkrywczyni-pierwszych-pulsarow-2/
END:VEVENT
END:VCALENDAR