BEGIN:VCALENDAR
VERSION:2.0
PRODID:-//Polskie Stowarzyszenie Racjonalistów - ECPv5.16.3.1//NONSGML v1.0//EN
CALSCALE:GREGORIAN
METHOD:PUBLISH
X-WR-CALNAME:Polskie Stowarzyszenie Racjonalistów
X-ORIGINAL-URL:https://www.psr.org.pl
X-WR-CALDESC:Wydarzenia dla Polskie Stowarzyszenie Racjonalistów
REFRESH-INTERVAL;VALUE=DURATION:PT1H
X-Robots-Tag:noindex
X-PUBLISHED-TTL:PT1H
BEGIN:VTIMEZONE
TZID:UTC
BEGIN:STANDARD
TZOFFSETFROM:+0000
TZOFFSETTO:+0000
TZNAME:UTC
DTSTART:20230101T000000
END:STANDARD
END:VTIMEZONE
BEGIN:VEVENT
DTSTART;VALUE=DATE:20250301
DTEND;VALUE=DATE:20250302
DTSTAMP:20260420T070356
CREATED:20250120T125751Z
LAST-MODIFIED:20250120T125751Z
UID:9698-1740787200-1740873599@www.psr.org.pl
SUMMARY:1936 W Tatrach ukończono budowę kolei linowej na Kasprowy Wierch
DESCRIPTION:1936 У Татрах завершено будівництво канатної дороги на Каспровий Верх
URL:https://www.psr.org.pl/wydarzenie/1936-w-tatrach-ukonczono-budowe-kolei-linowej-na-kasprowy-wierch-2/
END:VEVENT
BEGIN:VEVENT
DTSTART;VALUE=DATE:20230724
DTEND;VALUE=DATE:20230725
DTSTAMP:20260420T070356
CREATED:20230201T130605Z
LAST-MODIFIED:20230201T130605Z
UID:5775-1690156800-1690243199@www.psr.org.pl
SUMMARY:1909 Urodził się Jerzy Różycki\, który w 1933 roku z M. Rejewskim i H. Zygalskim złamał kod Enigmy
DESCRIPTION:1909 Народився Єжи Рожицький\, що він у 1933 році разом з М. Реєвським і Х. Зигальським розкрив код «Енігми»
URL:https://www.psr.org.pl/wydarzenie/1909-urodzil-sie-jerzy-rozycki-ktory-w-1933-roku-z-m-rejewskim-i-h-zygalskim-zlamal-kod-enigmy-2/
END:VEVENT
BEGIN:VEVENT
DTSTART;VALUE=DATE:20230725
DTEND;VALUE=DATE:20230726
DTSTAMP:20260420T070356
CREATED:20230201T130642Z
LAST-MODIFIED:20230201T130642Z
UID:5777-1690243200-1690329599@www.psr.org.pl
SUMMARY:1893 W Grecji otwarto Kanał Koryncki\, który oddzielił Peloponez od stałego lądu
DESCRIPTION:1893 У Греції відкрито Коринфський Канал\, який відокремив Пелопоннес від материка
URL:https://www.psr.org.pl/wydarzenie/1893-w-grecji-otwarto-kanal-koryncki-ktory-oddzielil-peloponez-od-stalego-ladu-2/
END:VEVENT
BEGIN:VEVENT
DTSTART;VALUE=DATE:20230726
DTEND;VALUE=DATE:20230727
DTSTAMP:20260420T070356
CREATED:20230201T130711Z
LAST-MODIFIED:20230201T130711Z
UID:5779-1690329600-1690415999@www.psr.org.pl
SUMMARY:1968 W unikatowym XVII-wiecznym młynie papierniczym w Dusznikach Zdroju otwarto Muzeum Papiernictwa
DESCRIPTION:1968 В унікальній фабриці з виробництва паперу XVII ст. у містечку Душники- Здруй відкрито Музей паперової справи
URL:https://www.psr.org.pl/wydarzenie/1968-w-unikatowym-xvii-wiecznym-mlynie-papierniczym-w-dusznikach-zdroju-otwarto-muzeum-papiernictwa-2/
END:VEVENT
BEGIN:VEVENT
DTSTART;VALUE=DATE:20230727
DTEND;VALUE=DATE:20230728
DTSTAMP:20260420T070356
CREATED:20230201T130743Z
LAST-MODIFIED:20230201T130743Z
UID:5781-1690416000-1690502399@www.psr.org.pl
SUMMARY:1949 Dokonano oblotu pierwszego odrzutowego samolotu pasażerskiego\, de Havilland Comet
DESCRIPTION:1949 Здійснено перший політ реактивного пасажирського літака – de Havilland Comet
URL:https://www.psr.org.pl/wydarzenie/1949-dokonano-oblotu-pierwszego-odrzutowego-samolotu-pasazerskiego-de-havilland-comet-2/
END:VEVENT
BEGIN:VEVENT
DTSTART;VALUE=DATE:20230728
DTEND;VALUE=DATE:20230729
DTSTAMP:20260420T070356
CREATED:20230201T130811Z
LAST-MODIFIED:20230201T130811Z
UID:5783-1690502400-1690588799@www.psr.org.pl
SUMMARY:1978 Pierwsze superszybkie pociągi TGV opuściły fabrykę Altshom w Belfort
DESCRIPTION:1978 Фабрика «Altshom» в Белфорті випустила першi надшвидкіснi потяги TGV
URL:https://www.psr.org.pl/wydarzenie/1978-pierwsze-superszybkie-pociagi-tgv-opuscily-fabryke-altshom-w-belfort-2/
END:VEVENT
BEGIN:VEVENT
DTSTART;VALUE=DATE:20230729
DTEND;VALUE=DATE:20230730
DTSTAMP:20260420T070356
CREATED:20230201T130857Z
LAST-MODIFIED:20230201T130857Z
UID:5785-1690588800-1690675199@www.psr.org.pl
SUMMARY:1938 Otwarto obserwatorium astronomiczno-meteorologiczne na szczycie Pop Iwan w Beskidach Wschodnich
DESCRIPTION:1938 На горі Піп Іван в Східних Бескидах відкрито астрономічно-метеорологічну обсерваторію
URL:https://www.psr.org.pl/wydarzenie/1938-otwarto-obserwatorium-astronomiczno-meteorologiczne-na-szczycie-pop-iwan-w-beskidach-wschodnich-2/
END:VEVENT
BEGIN:VEVENT
DTSTART;VALUE=DATE:20230730
DTEND;VALUE=DATE:20230731
DTSTAMP:20260420T070356
CREATED:20230201T130929Z
LAST-MODIFIED:20230201T130929Z
UID:5787-1690675200-1690761599@www.psr.org.pl
SUMMARY:1947 Urodziła się Françoise Barré-Sinoussi\, która w 1983 r. wraz z Lukiem Montagnierem wyizolowała ludzkiego wirusa niedoboru odporności (HIV)
DESCRIPTION:1947 Народилася Франсуаза Барре- Сінуссі\, що в 1983 році разом з Люком Монтаньє виділилa вірус імунодефіциту людини (ВІЛ)
URL:https://www.psr.org.pl/wydarzenie/1947-urodzila-sie-francoise-barre-sinoussi-ktora-w-1983-r-wraz-z-lukiem-montagnierem-wyizolowala-ludzkiego-wirusa-niedoboru-odpornosci-hiv/
END:VEVENT
BEGIN:VEVENT
DTSTART;VALUE=DATE:20230731
DTEND;VALUE=DATE:20230801
DTSTAMP:20260420T070356
CREATED:20230201T131000Z
LAST-MODIFIED:20230201T131000Z
UID:5789-1690761600-1690847999@www.psr.org.pl
SUMMARY:1853 Podczas nocnej operacji chirurgicznej we Lwowie użyto po raz pierwszy lamp naftowych wynalezionych przez Ignacego Łukasiewicza
DESCRIPTION:1853 Під час нічної хірургічної операції у Львові вперше використали гасову лампу\, винайдену Ігнатієм Лукасевичем
URL:https://www.psr.org.pl/wydarzenie/1853-podczas-nocnej-operacji-chirurgicznej-we-lwowie-uzyto-po-raz-pierwszy-lamp-naftowych-wynalezionych-przez-ignacego-lukasiewicza-2/
END:VEVENT
BEGIN:VEVENT
DTSTART;VALUE=DATE:20230801
DTEND;VALUE=DATE:20230802
DTSTAMP:20260420T070356
CREATED:20230201T131538Z
LAST-MODIFIED:20230201T131538Z
UID:5791-1690848000-1690934399@www.psr.org.pl
SUMMARY:1793 We Francji wprowadzono system metryczny
DESCRIPTION:1793 У Франції введено метричну систему
URL:https://www.psr.org.pl/wydarzenie/1793-we-francji-wprowadzono-system-metryczny-2/
END:VEVENT
BEGIN:VEVENT
DTSTART;VALUE=DATE:20230802
DTEND;VALUE=DATE:20230803
DTSTAMP:20260420T070356
CREATED:20230201T131610Z
LAST-MODIFIED:20230201T131610Z
UID:5793-1690934400-1691020799@www.psr.org.pl
SUMMARY:1932 Carl David Anderson jako pierwszy dokonał obserwacji pozytonu (antyelektronu)
DESCRIPTION:1932 Карл Девід Андерсон вперше виявив позитрони (античастинки електронів)
URL:https://www.psr.org.pl/wydarzenie/1932-carl-david-anderson-jako-pierwszy-dokonal-obserwacji-pozytonu-antyelektronu-2/
END:VEVENT
BEGIN:VEVENT
DTSTART;VALUE=DATE:20230803
DTEND;VALUE=DATE:20230804
DTSTAMP:20260420T070356
CREATED:20230201T131637Z
LAST-MODIFIED:20230201T131637Z
UID:5795-1691020800-1691107199@www.psr.org.pl
SUMMARY:2004 NASA wystrzeliła w kierunku Merkurego sondę kosmiczną MESSENGER
DESCRIPTION:2004 NASА відправила до Меркурія космічний зонд «Messenger»
URL:https://www.psr.org.pl/wydarzenie/2004-nasa-wystrzelila-w-kierunku-merkurego-sonde-kosmiczna-messenger-2/
END:VEVENT
BEGIN:VEVENT
DTSTART;VALUE=DATE:20230804
DTEND;VALUE=DATE:20230805
DTSTAMP:20260420T070356
CREATED:20230201T132006Z
LAST-MODIFIED:20230201T132006Z
UID:5797-1691107200-1691193599@www.psr.org.pl
SUMMARY:1770 James Cook nadał zwierzęciu odkrytemu nad brzegiem rzeki Endeavour w Australii nazwę „kangooroo”\, czyli kangur
DESCRIPTION:1770 Джеймс Кук дав виявленій на березі річки Ендевер в Австралії тварині назву „kangooroo” – кенгуру
URL:https://www.psr.org.pl/wydarzenie/1770-james-cook-nadal-zwierzeciu-odkrytemu-nad-brzegiem-rzeki-endeavour-w-australii-nazwe-kangooroo-czyli-kangur-2/
END:VEVENT
BEGIN:VEVENT
DTSTART;VALUE=DATE:20230805
DTEND;VALUE=DATE:20230806
DTSTAMP:20260420T070356
CREATED:20230201T132035Z
LAST-MODIFIED:20230201T132035Z
UID:5799-1691193600-1691279999@www.psr.org.pl
SUMMARY:1473 Leonardo da Vinci wykonał swój najstarszy znany rysunek „Pejzaż z rzeką”
DESCRIPTION:1473 Леонардо да Вінчі зробив свій найдавніший з відомих нам малюнок – „Пейзаж з річкою”
URL:https://www.psr.org.pl/wydarzenie/1473-leonardo-da-vinci-wykonal-swoj-najstarszy-znany-rysunek-pejzaz-z-rzeka-2/
END:VEVENT
BEGIN:VEVENT
DTSTART;VALUE=DATE:20230806
DTEND;VALUE=DATE:20230807
DTSTAMP:20260420T070356
CREATED:20230201T132104Z
LAST-MODIFIED:20230201T132104Z
UID:5801-1691280000-1691366399@www.psr.org.pl
SUMMARY:1881 Urodził się Alexander Fleming\, odkrywca penicyliny G: silnie bakteriobójczej\, łagodnej dla człowieka
DESCRIPTION:1881 Народився Александер Флемінг\, першовідкривач пеніциліну G: сильного бактерициду\, безпечного для людини
URL:https://www.psr.org.pl/wydarzenie/1881-urodzil-sie-alexander-fleming-odkrywca-penicyliny-g-silnie-bakteriobojczej-lagodnej-dla-czlowieka-2/
END:VEVENT
BEGIN:VEVENT
DTSTART;VALUE=DATE:20230807
DTEND;VALUE=DATE:20230808
DTSTAMP:20260420T070356
CREATED:20230201T132139Z
LAST-MODIFIED:20230201T132139Z
UID:5803-1691366400-1691452799@www.psr.org.pl
SUMMARY:1912 Victor Franz Hess odkrył promieniowanie kosmiczne w czasie lotu balonem
DESCRIPTION:1912 Під час польоту на повітряній кулі Віктор Франц Гесс відкрив космічні промені.
URL:https://www.psr.org.pl/wydarzenie/1912-victor-franz-hess-odkryl-promieniowanie-kosmiczne-w-czasie-lotu-balonem-2/
END:VEVENT
BEGIN:VEVENT
DTSTART;VALUE=DATE:20230808
DTEND;VALUE=DATE:20230809
DTSTAMP:20260420T070356
CREATED:20230201T132211Z
LAST-MODIFIED:20230201T132211Z
UID:5805-1691452800-1691539199@www.psr.org.pl
SUMMARY:1902 Urodził się Paul Dirac\, jeden z twórców mechaniki i elektrodynamiki kwantowej
DESCRIPTION:1902 Народився Поль Дірак\, один від творців квантової механіки та електродинаміки
URL:https://www.psr.org.pl/wydarzenie/1902-urodzil-sie-paul-dirac-jeden-z-tworcow-mechaniki-i-elektrodynamiki-kwantowej-2/
END:VEVENT
BEGIN:VEVENT
DTSTART;VALUE=DATE:20230809
DTEND;VALUE=DATE:20230810
DTSTAMP:20260420T070356
CREATED:20230201T132250Z
LAST-MODIFIED:20230201T132250Z
UID:5807-1691539200-1691625599@www.psr.org.pl
SUMMARY:1884 Charles Renard i Arthur Krebs na sterowcu La France pokonali trasę 7\,6 km z prędkością niemal 20 km/h
DESCRIPTION:1884 Шарль Ренар і Артур Кребс на дирижаблі La France подолали відстань 7\,6 км зі швидкістю майже 20 км/год
URL:https://www.psr.org.pl/wydarzenie/1884-charles-renard-i-arthur-krebs-na-sterowcu-la-france-pokonali-trase-76-km-z-predkoscia-niemal-20-km-h-2/
END:VEVENT
BEGIN:VEVENT
DTSTART;VALUE=DATE:20230810
DTEND;VALUE=DATE:20230811
DTSTAMP:20260420T070356
CREATED:20230201T132422Z
LAST-MODIFIED:20230201T132422Z
UID:5809-1691625600-1691711999@www.psr.org.pl
SUMMARY:1793 Otwarto muzeum w paryskim Luwrze
DESCRIPTION:1793 Відкрито музей у паризькому Луврі
URL:https://www.psr.org.pl/wydarzenie/1793-otwarto-muzeum-w-paryskim-luwrze-2/
END:VEVENT
BEGIN:VEVENT
DTSTART;VALUE=DATE:20230811
DTEND;VALUE=DATE:20230812
DTSTAMP:20260420T070356
CREATED:20230201T132454Z
LAST-MODIFIED:20230201T132454Z
UID:5811-1691712000-1691798399@www.psr.org.pl
SUMMARY:1933 Dokonano oblotu SG-3\, polskiego szybowca wyczynowego
DESCRIPTION:1933 Відбувся політ першого високопродуктивного польського планера SG-3
URL:https://www.psr.org.pl/wydarzenie/1933-dokonano-oblotu-sg-3-polskiego-szybowca-wyczynowego-2/
END:VEVENT
BEGIN:VEVENT
DTSTART;VALUE=DATE:20230812
DTEND;VALUE=DATE:20230813
DTSTAMP:20260420T070356
CREATED:20230201T132528Z
LAST-MODIFIED:20230201T132528Z
UID:5813-1691798400-1691884799@www.psr.org.pl
SUMMARY:1877 Astronom Asaph Hall odkrył Deimosa\, jeden z dwóch księżyców Marsa
DESCRIPTION:1877 Астроном Асаф Голл відкрив один із двох супутників Марса – Деймос
URL:https://www.psr.org.pl/wydarzenie/1877-astronom-asaph-hall-odkryl-deimosa-jeden-z-dwoch-ksiezycow-marsa-2/
END:VEVENT
BEGIN:VEVENT
DTSTART;VALUE=DATE:20230813
DTEND;VALUE=DATE:20230814
DTSTAMP:20260420T070356
CREATED:20230201T132555Z
LAST-MODIFIED:20230201T132555Z
UID:5815-1691884800-1691971199@www.psr.org.pl
SUMMARY:1923 Do portu w Gdyni zawinął pierwszy statek oceaniczny – SS „Kentucky” pod banderą francuską
DESCRIPTION:1923 У порт Гдині зайшов перший океанський лайнер – SS „Кентуккі” під французьким прапором
URL:https://www.psr.org.pl/wydarzenie/1923-do-portu-w-gdyni-zawinal-pierwszy-statek-oceaniczny-ss-kentucky-pod-bandera-francuska-2/
END:VEVENT
BEGIN:VEVENT
DTSTART;VALUE=DATE:20230814
DTEND;VALUE=DATE:20230815
DTSTAMP:20260420T070356
CREATED:20230201T132635Z
LAST-MODIFIED:20230201T132635Z
UID:5817-1691971200-1692057599@www.psr.org.pl
SUMMARY:1777 Urodził się Hans Christian Ørsted\, który wykazał\, że igła kompasu odchyla się pod wpływem prądu
DESCRIPTION:1777 Народився Ганс Крістіан Ерстед\, що він першим помітив дію електричного струму на магнітну стрілку
URL:https://www.psr.org.pl/wydarzenie/1777-urodzil-sie-hans-christian-orsted-ktory-wykazal-ze-igla-kompasu-odchyla-sie-pod-wplywem-pradu-2/
END:VEVENT
BEGIN:VEVENT
DTSTART;VALUE=DATE:20230815
DTEND;VALUE=DATE:20230816
DTSTAMP:20260420T070356
CREATED:20230201T132715Z
LAST-MODIFIED:20230201T132715Z
UID:5819-1692057600-1692143999@www.psr.org.pl
SUMMARY:1947 Jawaharlal Nehru został pierwszym premierem Indii
DESCRIPTION:1947 Джавахарлал Неру став першим прем’єр- міністром Індії
URL:https://www.psr.org.pl/wydarzenie/1947-jawaharlal-nehru-zostal-pierwszym-premierem-indii-2/
END:VEVENT
BEGIN:VEVENT
DTSTART;VALUE=DATE:20230816
DTEND;VALUE=DATE:20230817
DTSTAMP:20260420T070356
CREATED:20230201T132743Z
LAST-MODIFIED:20230201T132743Z
UID:5821-1692144000-1692230399@www.psr.org.pl
SUMMARY:1794 W Warszawie puszczono w obieg pierwsze polskie banknoty\, zwane wtedy biletami skarbowymi
DESCRIPTION:1794 У Варшаві введено в обіг перші польські банкноти\, т.зв. білети державної скарбниці
URL:https://www.psr.org.pl/wydarzenie/1794-w-warszawie-puszczono-w-obieg-pierwsze-polskie-banknoty-zwane-wtedy-biletami-skarbowymi-2/
END:VEVENT
BEGIN:VEVENT
DTSTART;VALUE=DATE:20230817
DTEND;VALUE=DATE:20230818
DTSTAMP:20260420T070356
CREATED:20230201T133053Z
LAST-MODIFIED:20230201T133053Z
UID:5823-1692230400-1692316799@www.psr.org.pl
SUMMARY:1982 Pierwsza prezentacja płyty kompaktowej (CD) odbyła się w fabryce Philipsa w Langenhagen
DESCRIPTION:1982 На фабриці Philips в Лангенгагені відбулася перша презентація компакт- диску (CD)
URL:https://www.psr.org.pl/wydarzenie/1982-pierwsza-prezentacja-plyty-kompaktowej-cd-odbyla-sie-w-fabryce-philipsa-w-langenhagen-2/
END:VEVENT
BEGIN:VEVENT
DTSTART;VALUE=DATE:20230818
DTEND;VALUE=DATE:20230819
DTSTAMP:20260420T070356
CREATED:20230201T133119Z
LAST-MODIFIED:20230201T133119Z
UID:5825-1692316800-1692403199@www.psr.org.pl
SUMMARY:1868 Pierre Janssen odkrył hel\, obserwując koronę Słońca podczas zaćmienia
DESCRIPTION:1868 Спостерігаючи корону Сонця під час затемнення\, П’єр Жансен відкрив гелій
URL:https://www.psr.org.pl/wydarzenie/1868-pierre-janssen-odkryl-hel-obserwujac-korone-slonca-podczas-zacmienia-2/
END:VEVENT
BEGIN:VEVENT
DTSTART;VALUE=DATE:20230819
DTEND;VALUE=DATE:20230820
DTSTAMP:20260420T070356
CREATED:20230201T133151Z
LAST-MODIFIED:20230201T133151Z
UID:5827-1692403200-1692489599@www.psr.org.pl
SUMMARY:1839 Otwarto główne obserwatorium astronomiczne Rosyjskiej Akademii Nauk w Pułkowie
DESCRIPTION:1839 Відкрито головну астрономічну обсерваторію Російської Академії Наук в Пулково
URL:https://www.psr.org.pl/wydarzenie/1839-otwarto-glowne-obserwatorium-astronomiczne-rosyjskiej-akademii-nauk-w-pulkowie-2/
END:VEVENT
BEGIN:VEVENT
DTSTART;VALUE=DATE:20230820
DTEND;VALUE=DATE:20230821
DTSTAMP:20260420T070356
CREATED:20230201T133215Z
LAST-MODIFIED:20230201T133215Z
UID:5829-1692489600-1692575999@www.psr.org.pl
SUMMARY:1977 Wystrzelono sondę Voyager 2\, jedyną sondę\, która dotarła do Urana i Neptuna
DESCRIPTION:1977 Стартував зонд «Вояджер-2»\, єдиний космічний апарат\, який досягнув Урана і Нептуна
URL:https://www.psr.org.pl/wydarzenie/1977-wystrzelono-sonde-voyager-2-jedyna-sonde-ktora-dotarla-do-urana-i-neptuna-2/
END:VEVENT
BEGIN:VEVENT
DTSTART;VALUE=DATE:20230821
DTEND;VALUE=DATE:20230822
DTSTAMP:20260420T070356
CREATED:20230201T133302Z
LAST-MODIFIED:20230201T133302Z
UID:5831-1692576000-1692662399@www.psr.org.pl
SUMMARY:1888 William Seward Burroughs otrzymał patent na pierwszy zapisujący wyniki sumator\, poprzednik kalkulatora i komputera
DESCRIPTION:1888 Вільям Сьюард Берроуз отримав патент на перший підсумовуючий пристрій із записом результату – арифмометр\, попередник калькуляторів і комп’ютерів
URL:https://www.psr.org.pl/wydarzenie/1888-william-seward-burroughs-otrzymal-patent-na-pierwszy-zapisujacy-wyniki-sumator-poprzednik-kalkulatora-i-komputera-2/
END:VEVENT
END:VCALENDAR