BEGIN:VCALENDAR
VERSION:2.0
PRODID:-//Polskie Stowarzyszenie Racjonalistów - ECPv5.16.3.1//NONSGML v1.0//EN
CALSCALE:GREGORIAN
METHOD:PUBLISH
X-WR-CALNAME:Polskie Stowarzyszenie Racjonalistów
X-ORIGINAL-URL:https://www.psr.org.pl
X-WR-CALDESC:Wydarzenia dla Polskie Stowarzyszenie Racjonalistów
REFRESH-INTERVAL;VALUE=DURATION:PT1H
X-Robots-Tag:noindex
X-PUBLISHED-TTL:PT1H
BEGIN:VTIMEZONE
TZID:UTC
BEGIN:STANDARD
TZOFFSETFROM:+0000
TZOFFSETTO:+0000
TZNAME:UTC
DTSTART:20240101T000000
END:STANDARD
END:VTIMEZONE
BEGIN:VEVENT
DTSTART;VALUE=DATE:20250301
DTEND;VALUE=DATE:20250302
DTSTAMP:20260423T121401
CREATED:20250120T125751Z
LAST-MODIFIED:20250120T125751Z
UID:9698-1740787200-1740873599@www.psr.org.pl
SUMMARY:1936 W Tatrach ukończono budowę kolei linowej na Kasprowy Wierch
DESCRIPTION:1936 У Татрах завершено будівництво канатної дороги на Каспровий Верх
URL:https://www.psr.org.pl/wydarzenie/1936-w-tatrach-ukonczono-budowe-kolei-linowej-na-kasprowy-wierch-2/
END:VEVENT
BEGIN:VEVENT
DTSTART;VALUE=DATE:20240524
DTEND;VALUE=DATE:20240525
DTSTAMP:20260423T121401
CREATED:20240320T124557Z
LAST-MODIFIED:20240320T124557Z
UID:7331-1716508800-1716595199@www.psr.org.pl
SUMMARY:1681 We Francji otwarto dla żeglugi Kanał Południowy o długości 240 km\, z pierwszym na świecie tunelem pod wzgórzem (173 m)
DESCRIPTION:1681 У Франції було відкрито для навігації Південний Канал довжиною 240 км\, з першим у світі тунелем під горою (173 м)
URL:https://www.psr.org.pl/wydarzenie/1681-we-francji-otwarto-dla-zeglugi-kanal-poludniowy-o-dlugosci-240-km-z-pierwszym-na-swiecie-tunelem-pod-wzgorzem-173-m-2-2/
END:VEVENT
BEGIN:VEVENT
DTSTART;VALUE=DATE:20240525
DTEND;VALUE=DATE:20240526
DTSTAMP:20260423T121401
CREATED:20240320T124656Z
LAST-MODIFIED:20240320T124656Z
UID:7350-1716595200-1716681599@www.psr.org.pl
SUMMARY:2012 Kapsuła Dragon firmy SpaceX połączyła się z Międzynarodową Stacją Kosmiczną
DESCRIPTION:2012 Космічний корабель «Дракон» компанії SpaceX приєднався до Міжнародної космічної станції
URL:https://www.psr.org.pl/wydarzenie/2012-kapsula-dragon-firmy-spacex-polaczyla-sie-z-miedzynarodowa-stacja-kosmiczna-2-2/
END:VEVENT
BEGIN:VEVENT
DTSTART;VALUE=DATE:20240526
DTEND;VALUE=DATE:20240527
DTSTAMP:20260423T121401
CREATED:20240320T124716Z
LAST-MODIFIED:20240320T124716Z
UID:7349-1716681600-1716767999@www.psr.org.pl
SUMMARY:2008 Amerykański lądownik Phoenix wylądował na Marsie
DESCRIPTION:2008 Американський марсохід «Фенікс» приземлився на Марс
URL:https://www.psr.org.pl/wydarzenie/2008-amerykanski-ladownik-phoenix-wyladowal-na-marsie-2-2/
END:VEVENT
BEGIN:VEVENT
DTSTART;VALUE=DATE:20240527
DTEND;VALUE=DATE:20240528
DTSTAMP:20260423T121401
CREATED:20240320T124740Z
LAST-MODIFIED:20240320T124740Z
UID:7348-1716768000-1716854399@www.psr.org.pl
SUMMARY:1937 W San Francisco otwarto most Golden Gate
DESCRIPTION:1937 В Сан-Франциско відкрито міст Золоті Ворота
URL:https://www.psr.org.pl/wydarzenie/1937-w-san-francisco-otwarto-most-golden-gate-2-2/
END:VEVENT
BEGIN:VEVENT
DTSTART;VALUE=DATE:20240528
DTEND;VALUE=DATE:20240529
DTSTAMP:20260423T121401
CREATED:20240320T124759Z
LAST-MODIFIED:20240320T125720Z
UID:7347-1716854400-1716940799@www.psr.org.pl
SUMMARY:1930 Urodził się Frank Drake\, współtwórca wiadomości o Ziemi umieszczonych w sondach Pioneer i Voyager
DESCRIPTION:1930 Народився Френк Дрейк\, співавтор послання для позаземних цивілізацій у зондах «Піонер» і «Вояджер»
URL:https://www.psr.org.pl/wydarzenie/1930-urodzil-sie-frank-drake-wspoltworca-wiadomosci-o-ziemi-umieszczonych-w-sondach-pioneer-i-voyager-2-2/
END:VEVENT
BEGIN:VEVENT
DTSTART;VALUE=DATE:20240529
DTEND;VALUE=DATE:20240530
DTSTAMP:20260423T121401
CREATED:20240320T125753Z
LAST-MODIFIED:20240320T125924Z
UID:7346-1716940800-1717027199@www.psr.org.pl
SUMMARY:1919 Obserwacja przesunięcia światła gwiazd podczas zaćmienia Słońca potwierdziła teorię względności Einsteina
DESCRIPTION:1919 Спостереження за гравітаційним відхиленням світла зірок під час сонячного затемнення підтвердило теорію відносності Ейнштейна
URL:https://www.psr.org.pl/wydarzenie/1919-obserwacja-przesuniecia-swiatla-gwiazd-podczas-zacmienia-slonca-potwierdzila-teorie-wzglednosci-einsteina-2-2/
END:VEVENT
BEGIN:VEVENT
DTSTART;VALUE=DATE:20240530
DTEND;VALUE=DATE:20240531
DTSTAMP:20260423T121401
CREATED:20240320T125818Z
LAST-MODIFIED:20240320T125818Z
UID:7345-1717027200-1717113599@www.psr.org.pl
SUMMARY:1966 Wystrzelono sondę Surveyor 1\, która zrobiła rekonesans na Księżycu dla misji załogowych Apollo
DESCRIPTION:1966 На Місяць відправлено зонд «Surveyor-1»\, який провiв розвідку для пілотованих місій «Аполлона»
URL:https://www.psr.org.pl/wydarzenie/1966-wystrzelono-sonde-surveyor-1-ktora-zrobila-rekonesans-na-ksiezycu-dla-misji-zalogowych-apollo-2-2/
END:VEVENT
BEGIN:VEVENT
DTSTART;VALUE=DATE:20240531
DTEND;VALUE=DATE:20240601
DTSTAMP:20260423T121401
CREATED:20240320T131317Z
LAST-MODIFIED:20240320T131317Z
UID:7364-1717113600-1717199999@www.psr.org.pl
SUMMARY:1912 Urodziła się Chien-Shiung Wu\, specjalistka w dziedzinie radioaktywności\, która udowodniła\, że w rozpadzie beta łamana jest parzystość
DESCRIPTION:1912 Народилася Чєн- Шунг Ву\, спеціалістка у галузі радіоактивності\, яка довела порушення паритету при бета- розпаді
URL:https://www.psr.org.pl/wydarzenie/1912-urodzila-sie-chien-shiung-wu-specjalistka-w-dziedzinie-radioaktywnosci-ktora-udowodnila-ze-w-rozpadzie-beta-lamana-jest-parzystosc-2/
END:VEVENT
BEGIN:VEVENT
DTSTART;VALUE=DATE:20240601
DTEND;VALUE=DATE:20240602
DTSTAMP:20260423T121401
CREATED:20240320T131344Z
LAST-MODIFIED:20240320T131344Z
UID:7363-1717200000-1717286399@www.psr.org.pl
SUMMARY:1994 Odbyły się pierwsze obrady Sejmu Dzieci i Młodzieży
DESCRIPTION:1994 Відбулося перше обговорення Сейму Дітей і Молоді
URL:https://www.psr.org.pl/wydarzenie/1994-odbyly-sie-pierwsze-obrady-sejmu-dzieci-i-mlodziezy-2-2/
END:VEVENT
BEGIN:VEVENT
DTSTART;VALUE=DATE:20240602
DTEND;VALUE=DATE:20240603
DTSTAMP:20260423T121401
CREATED:20240320T131439Z
LAST-MODIFIED:20240320T131439Z
UID:7362-1717286400-1717372799@www.psr.org.pl
SUMMARY:1897 Guglielmo Marconi otrzymał patent na radio
DESCRIPTION:1897 Гульєльмо Марконі отримав патент на радіо
URL:https://www.psr.org.pl/wydarzenie/1897-guglielmo-marconi-otrzymal-patent-na-radio-2-2/
END:VEVENT
BEGIN:VEVENT
DTSTART;VALUE=DATE:20240603
DTEND;VALUE=DATE:20240604
DTSTAMP:20260423T121401
CREATED:20240320T131501Z
LAST-MODIFIED:20240320T131501Z
UID:7361-1717372800-1717459199@www.psr.org.pl
SUMMARY:1880 Alexander Graham Bell przeprowadził pierwszą na świecie bezprzewodową transmisję telefoniczną przy użyciu fototelefonu
DESCRIPTION:1880 Александер Грем Белл провів першу у світі бездротову передачу звуку за допомогою фотофону
URL:https://www.psr.org.pl/wydarzenie/1880-alexander-graham-bell-przeprowadzil-pierwsza-na-swiecie-bezprzewodowa-transmisje-telefoniczna-przy-uzyciu-fototelefonu-2-2/
END:VEVENT
BEGIN:VEVENT
DTSTART;VALUE=DATE:20240604
DTEND;VALUE=DATE:20240605
DTSTAMP:20260423T121401
CREATED:20240320T131644Z
LAST-MODIFIED:20240320T131644Z
UID:7360-1717459200-1717545599@www.psr.org.pl
SUMMARY:1887 We Francji powstał Instytut Pasteura\, zajmujący się zwalczaniem chorób zakaźnych
DESCRIPTION:1887 У Франції засновано Пастерівський інститут боротьби з інфекційними хворобами
URL:https://www.psr.org.pl/wydarzenie/1887-we-francji-powstal-instytut-pasteura-zajmujacy-sie-zwalczaniem-chorob-zakaznych/
END:VEVENT
BEGIN:VEVENT
DTSTART;VALUE=DATE:20240605
DTEND;VALUE=DATE:20240606
DTSTAMP:20260423T121401
CREATED:20240320T131734Z
LAST-MODIFIED:20240320T131734Z
UID:7359-1717545600-1717631999@www.psr.org.pl
SUMMARY:1969 Radziecki Tu-144 jako pierwszy samolot pasażerski przekroczył barierę dźwięku
DESCRIPTION:1969 Радянський літак Ту-144 став першим пасажирським літаком\, який подолав звуковий бар’єр
URL:https://www.psr.org.pl/wydarzenie/1969-radziecki-tu-144-jako-pierwszy-samolot-pasazerski-przekroczyl-bariere-dzwieku/
END:VEVENT
BEGIN:VEVENT
DTSTART;VALUE=DATE:20240606
DTEND;VALUE=DATE:20240607
DTSTAMP:20260423T121401
CREATED:20240320T131837Z
LAST-MODIFIED:20240320T131837Z
UID:7376-1717632000-1717718399@www.psr.org.pl
SUMMARY:1885 Louis Pasteur po raz pierwszy zastosował szczepionkę przeciwko wściekliźnie\, ratując życie 9-letniemu Josephowi Meisterowi
DESCRIPTION:1885 Рятуючи життя 9-річного Йозефа Майстра\, Луї Пастер вперше застосував вакцину проти сказу
URL:https://www.psr.org.pl/wydarzenie/1885-louis-pasteur-po-raz-pierwszy-zastosowal-szczepionke-przeciwko-wsciekliznie-ratujac-zycie-9-letniemu-josephowi-meisterowi-2-2/
END:VEVENT
BEGIN:VEVENT
DTSTART;VALUE=DATE:20240607
DTEND;VALUE=DATE:20240608
DTSTAMP:20260423T121401
CREATED:20240320T131857Z
LAST-MODIFIED:20240320T131857Z
UID:7375-1717718400-1717804799@www.psr.org.pl
SUMMARY:1968 Otwarto park rozrywki Legoland Billund w Danii\, w całości zbudowany z klocków LEGO
DESCRIPTION:1968 В Біллунді (Данія) відкрито парк розваг Legoland\, повністю побудований з блоків LEGO
URL:https://www.psr.org.pl/wydarzenie/1968-otwarto-park-rozrywki-legoland-billund-w-danii-w-calosci-zbudowany-z-klockow-lego-2-2/
END:VEVENT
BEGIN:VEVENT
DTSTART;VALUE=DATE:20240608
DTEND;VALUE=DATE:20240609
DTSTAMP:20260423T121401
CREATED:20240320T131916Z
LAST-MODIFIED:20240320T131916Z
UID:7374-1717804800-1717891199@www.psr.org.pl
SUMMARY:2008 Sonda New Horizons\, wysłana w 2006 roku celem zbadania Plutona\, minęła orbitę Saturna
DESCRIPTION:2008 Зонд «Нью- Горайзонс»\, у 2006 році відправлений на дослідження Плутона\, проминув орбіту Сатурна
URL:https://www.psr.org.pl/wydarzenie/2008-sonda-new-horizons-wyslana-w-2006-roku-celem-zbadania-plutona-minela-orbite-saturna-2-2/
END:VEVENT
BEGIN:VEVENT
DTSTART;VALUE=DATE:20240609
DTEND;VALUE=DATE:20240610
DTSTAMP:20260423T121401
CREATED:20240320T131940Z
LAST-MODIFIED:20240320T131940Z
UID:7373-1717891200-1717977599@www.psr.org.pl
SUMMARY:1781 Urodził się George Stephenson\, konstruktor pierwszej współczesnej lokomotywy parowej
DESCRIPTION:1781 Народився Джордж Стефенсон\, винахідник сучасного паротяга
URL:https://www.psr.org.pl/wydarzenie/1781-urodzil-sie-george-stephenson-konstruktor-pierwszej-wspolczesnej-lokomotywy-parowej-2-2/
END:VEVENT
BEGIN:VEVENT
DTSTART;VALUE=DATE:20240610
DTEND;VALUE=DATE:20240611
DTSTAMP:20260423T121401
CREATED:20240320T132009Z
LAST-MODIFIED:20240320T132009Z
UID:7372-1717977600-1718063999@www.psr.org.pl
SUMMARY:1927 Urodził się Eugene Parker\, odkrywca wiatru słonecznego
DESCRIPTION:1927 Народився Юджин Паркер\, першовідкривач сонячного вітру
URL:https://www.psr.org.pl/wydarzenie/1927-urodzil-sie-eugene-parker-odkrywca-wiatru-slonecznego-2/
END:VEVENT
BEGIN:VEVENT
DTSTART;VALUE=DATE:20240611
DTEND;VALUE=DATE:20240612
DTSTAMP:20260423T121401
CREATED:20240320T132027Z
LAST-MODIFIED:20240320T132027Z
UID:7371-1718064000-1718150399@www.psr.org.pl
SUMMARY:2004 Sonda Cassini zrobiła zdjęcia Febe\, największego nieregularnego księżyca Saturna
DESCRIPTION:2004 Зонд «Кассіні» сфотографував найбільший серед нерегулярних супутників Сатурна – Фебу
URL:https://www.psr.org.pl/wydarzenie/2004-sonda-cassini-zrobila-zdjecia-febe-najwiekszego-nieregularnego-ksiezyca-saturna-2-2/
END:VEVENT
BEGIN:VEVENT
DTSTART;VALUE=DATE:20240612
DTEND;VALUE=DATE:20240613
DTSTAMP:20260423T121401
CREATED:20240320T132357Z
LAST-MODIFIED:20240320T132357Z
UID:7391-1718150400-1718236799@www.psr.org.pl
SUMMARY:1776 Urodził się Karl Friedrich Burdach\, pionier neuroanatomii\, a także twórca terminu „biologia”
DESCRIPTION:1776 Народився Карл Фрідріх Бурдах\, піонер нейроанатомії і автор терміну „біологія”
URL:https://www.psr.org.pl/wydarzenie/1776-urodzil-sie-karl-friedrich-burdach-pionier-neuroanatomii-a-takze-tworca-terminu-biologia/
END:VEVENT
BEGIN:VEVENT
DTSTART;VALUE=DATE:20240613
DTEND;VALUE=DATE:20240614
DTSTAMP:20260423T121401
CREATED:20240320T132142Z
LAST-MODIFIED:20240320T132142Z
UID:7390-1718236800-1718323199@www.psr.org.pl
SUMMARY:1872 Urodził się Jan Szczepanik – wynalazca telektroskopu (telewizji elektrycznej)\, kolorowej kliszy filmowej i filmu dźwiękowego
DESCRIPTION:1872 Народився Ян Щепаник\, винахідник телектроскопа (електричного телевізора)\, кольорового і звукового кінематографів
URL:https://www.psr.org.pl/wydarzenie/1872-urodzil-sie-jan-szczepanik-wynalazca-telektroskopu-telewizji-elektrycznej-kolorowej-kliszy-filmowej-i-filmu-dzwiekowego-2-2/
END:VEVENT
BEGIN:VEVENT
DTSTART;VALUE=DATE:20240614
DTEND;VALUE=DATE:20240615
DTSTAMP:20260423T121401
CREATED:20240320T132210Z
LAST-MODIFIED:20240320T132210Z
UID:7389-1718323200-1718409599@www.psr.org.pl
SUMMARY:1845 Otwarto pierwszą w Królestwie Polskim linię kolejową\, łączącą Warszawę z Wiedniem
DESCRIPTION:1845 Відкрито першу у Королівстві Польському залізничну лінію Варшава-Відень
URL:https://www.psr.org.pl/wydarzenie/1845-otwarto-pierwsza-w-krolestwie-polskim-linie-kolejowa-laczaca-warszawe-z-wiedniem-2-2/
END:VEVENT
BEGIN:VEVENT
DTSTART;VALUE=DATE:20240615
DTEND;VALUE=DATE:20240616
DTSTAMP:20260423T121401
CREATED:20240320T132231Z
LAST-MODIFIED:20240320T132231Z
UID:7388-1718409600-1718495999@www.psr.org.pl
SUMMARY:1752 Benjamin Franklin przeprowadził eksperyment udowadniający\, że piorun jest zjawiskiem elektrycznym
DESCRIPTION:1752 Бенджамін Франклін здійснив експеримент\, який довів\, що блискавка має електричну природу
URL:https://www.psr.org.pl/wydarzenie/1752-benjamin-franklin-przeprowadzil-eksperyment-udowadniajacy-ze-piorun-jest-zjawiskiem-elektrycznym-2-2/
END:VEVENT
BEGIN:VEVENT
DTSTART;VALUE=DATE:20240616
DTEND;VALUE=DATE:20240617
DTSTAMP:20260423T121401
CREATED:20240320T132255Z
LAST-MODIFIED:20240320T132255Z
UID:7387-1718496000-1718582399@www.psr.org.pl
SUMMARY:1902 Urodziła się genetyczka Barbara McClintock\, odkrywczyni transpozonów (ruchomych sekwencji DNA)
DESCRIPTION:1902 Народилася Барбара Мак-Клінток\, вчена-цитогенетик\, першовідкривачка транспозонів (стрибаючих генів)
URL:https://www.psr.org.pl/wydarzenie/1902-urodzila-sie-genetyczka-barbara-mcclintock-odkrywczyni-transpozonow-ruchomych-sekwencji-dna-2-2/
END:VEVENT
BEGIN:VEVENT
DTSTART;VALUE=DATE:20240617
DTEND;VALUE=DATE:20240618
DTSTAMP:20260423T121401
CREATED:20240320T132417Z
LAST-MODIFIED:20240320T132417Z
UID:7386-1718582400-1718668799@www.psr.org.pl
SUMMARY:1885 Do Nowego Jorku przybyła z Francji Statua Wolności
DESCRIPTION:1885 У Нью-Йорк прибула з Франції Статуя Свободи
URL:https://www.psr.org.pl/wydarzenie/1885-do-nowego-jorku-przybyla-z-francji-statua-wolnosci-2-2/
END:VEVENT
BEGIN:VEVENT
DTSTART;VALUE=DATE:20240618
DTEND;VALUE=DATE:20240619
DTSTAMP:20260423T121401
CREATED:20240320T135319Z
LAST-MODIFIED:20240320T135319Z
UID:7403-1718668800-1718755199@www.psr.org.pl
SUMMARY:1992 Uruchomiono pierwszą polską sieć telefonii komórkowej\, PTK Centertel
DESCRIPTION:1992 Запущено першу польську мережу мобільного зв’язку PTK Centertel
URL:https://www.psr.org.pl/wydarzenie/1992-uruchomiono-pierwsza-polska-siec-telefonii-komorkowej-ptk-centertel-2-2/
END:VEVENT
BEGIN:VEVENT
DTSTART;VALUE=DATE:20240619
DTEND;VALUE=DATE:20240620
DTSTAMP:20260423T121401
CREATED:20240320T135340Z
LAST-MODIFIED:20240320T135340Z
UID:7402-1718755200-1718841599@www.psr.org.pl
SUMMARY:1963 Kosmonautka Walentina Tierieszkowa powróciła na Ziemię po ukończeniu lotu kosmicznego Wostok 6
DESCRIPTION:1963 Космонавтка Валентина Терешкова повернулася на землю після закінчення польоту на космічному кораблі «Восток-6»
URL:https://www.psr.org.pl/wydarzenie/1963-kosmonautka-walentina-tierieszkowa-powrocila-na-ziemie-po-ukonczeniu-lotu-kosmicznego-wostok-6-2-2/
END:VEVENT
BEGIN:VEVENT
DTSTART;VALUE=DATE:20240620
DTEND;VALUE=DATE:20240621
DTSTAMP:20260423T121401
CREATED:20240320T135400Z
LAST-MODIFIED:20240320T135400Z
UID:7401-1718841600-1718927999@www.psr.org.pl
SUMMARY:1916 Urodziła się Aniela DziewulskaŁosiowa\, astronomka\, założycielka stacji pomiarów ozonu atmosferycznego w Belsku
DESCRIPTION:1916 Народилася Анєла Дзевульська-Лосьова\, астрономка\, засновниця станції вимірювання атмосферного озону у Бельську
URL:https://www.psr.org.pl/wydarzenie/1916-urodzila-sie-aniela-dziewulskalosiowa-astronomka-zalozycielka-stacji-pomiarow-ozonu-atmosferycznego-w-belsku-2/
END:VEVENT
BEGIN:VEVENT
DTSTART;VALUE=DATE:20240621
DTEND;VALUE=DATE:20240622
DTSTAMP:20260423T121401
CREATED:20240320T135421Z
LAST-MODIFIED:20240320T135421Z
UID:7400-1718928000-1719014399@www.psr.org.pl
SUMMARY:1948 Po raz pierwszy uruchomiono program zapisany w pamięci komputera\, na Manchester Small- -Scale Experimental Machine
DESCRIPTION:1948 Вперше запущено програму збережену в пам’яті комп’ютера (Manchester Small-Scale Experimental Machine)
URL:https://www.psr.org.pl/wydarzenie/1948-po-raz-pierwszy-uruchomiono-program-zapisany-w-pamieci-komputera-na-manchester-small-scale-experimental-machine-2-2/
END:VEVENT
END:VCALENDAR