BEGIN:VCALENDAR
VERSION:2.0
PRODID:-//Polskie Stowarzyszenie Racjonalistów - ECPv5.16.3.1//NONSGML v1.0//EN
CALSCALE:GREGORIAN
METHOD:PUBLISH
X-WR-CALNAME:Polskie Stowarzyszenie Racjonalistów
X-ORIGINAL-URL:https://www.psr.org.pl
X-WR-CALDESC:Wydarzenia dla Polskie Stowarzyszenie Racjonalistów
REFRESH-INTERVAL;VALUE=DURATION:PT1H
X-Robots-Tag:noindex
X-PUBLISHED-TTL:PT1H
BEGIN:VTIMEZONE
TZID:UTC
BEGIN:STANDARD
TZOFFSETFROM:+0000
TZOFFSETTO:+0000
TZNAME:UTC
DTSTART:20240101T000000
END:STANDARD
END:VTIMEZONE
BEGIN:VEVENT
DTSTART;VALUE=DATE:20250301
DTEND;VALUE=DATE:20250302
DTSTAMP:20260420T011535
CREATED:20250120T125751Z
LAST-MODIFIED:20250120T125751Z
UID:9698-1740787200-1740873599@www.psr.org.pl
SUMMARY:1936 W Tatrach ukończono budowę kolei linowej na Kasprowy Wierch
DESCRIPTION:1936 У Татрах завершено будівництво канатної дороги на Каспровий Верх
URL:https://www.psr.org.pl/wydarzenie/1936-w-tatrach-ukonczono-budowe-kolei-linowej-na-kasprowy-wierch-2/
END:VEVENT
BEGIN:VEVENT
DTSTART;VALUE=DATE:20240917
DTEND;VALUE=DATE:20240918
DTSTAMP:20260420T011535
CREATED:20240321T092838Z
LAST-MODIFIED:20240321T092838Z
UID:7611-1726531200-1726617599@www.psr.org.pl
SUMMARY:1789 William Herschel odkrył Mimasa\, jeden z księżyców Saturna
DESCRIPTION:1789 Вільям Гершель відкрив один із супутників Сатурна – Мімас
URL:https://www.psr.org.pl/wydarzenie/1789-william-herschel-odkryl-mimasa-jeden-z-ksiezycow-saturna-2-2/
END:VEVENT
BEGIN:VEVENT
DTSTART;VALUE=DATE:20240918
DTEND;VALUE=DATE:20240919
DTSTAMP:20260420T011535
CREATED:20240321T092904Z
LAST-MODIFIED:20240321T092904Z
UID:7610-1726617600-1726703999@www.psr.org.pl
SUMMARY:1977 Sonda Voyager 1 zrobiła pierwsze wspólne zdjęcie Ziemi i Księżyca z odległości 11\,6 mln kilometrów
DESCRIPTION:1977 З відстані 11\,6 мільйона км. зонд «Вояджер-1» зробив перше спільне фото Землі і Місяця
URL:https://www.psr.org.pl/wydarzenie/1977-sonda-voyager-1-zrobila-pierwsze-wspolne-zdjecie-ziemi-i-ksiezyca-z-odleglosci-116-mln-kilometrow-2-2/
END:VEVENT
BEGIN:VEVENT
DTSTART;VALUE=DATE:20240919
DTEND;VALUE=DATE:20240920
DTSTAMP:20260420T011535
CREATED:20240321T092929Z
LAST-MODIFIED:20240321T092929Z
UID:7609-1726704000-1726790399@www.psr.org.pl
SUMMARY:1959 Rozpoczął się program SETI\, mający na celu poszukiwanie pozaziemskich cywilizacji
DESCRIPTION:1959 Стартувала програма SETI – проєкт із пошуку позаземних цивілізацій
URL:https://www.psr.org.pl/wydarzenie/1959-rozpoczal-sie-program-seti-majacy-na-celu-poszukiwanie-pozaziemskich-cywilizacjii-2-2/
END:VEVENT
BEGIN:VEVENT
DTSTART;VALUE=DATE:20240920
DTEND;VALUE=DATE:20240921
DTSTAMP:20260420T011535
CREATED:20240321T093033Z
LAST-MODIFIED:20240321T093033Z
UID:7608-1726790400-1726876799@www.psr.org.pl
SUMMARY:1842 Urodził się James Dewar\, chemik i fizyk\, wynalazca termosu
DESCRIPTION:1842 Народився Джеймс Дьюар\, хімік і фізик\, винахідник термоса
URL:https://www.psr.org.pl/wydarzenie/1842-urodzil-sie-james-dewar-chemik-i-fizyk-wynalazca-termosu/
END:VEVENT
BEGIN:VEVENT
DTSTART;VALUE=DATE:20240921
DTEND;VALUE=DATE:20240922
DTSTAMP:20260420T011535
CREATED:20240321T092951Z
LAST-MODIFIED:20240321T092951Z
UID:7607-1726876800-1726963199@www.psr.org.pl
SUMMARY:2004 W Dubaju rozpoczęto budowę najwyższego na świecie budynku\, wieżowca Burdż Chalifa (828 metrów)
DESCRIPTION:2004 В Дубаї розпочалося будівництво найвищої у світі будівлі – хмарочоса «Бурдж Халіфа» (828 м)
URL:https://www.psr.org.pl/wydarzenie/2004-w-dubaju-rozpoczeto-budowe-najwyzszego-na-swiecie-budynku-wiezowca-burdz-chalifa-828-metrow-2-2/
END:VEVENT
BEGIN:VEVENT
DTSTART;VALUE=DATE:20240922
DTEND;VALUE=DATE:20240923
DTSTAMP:20260420T011535
CREATED:20240321T094132Z
LAST-MODIFIED:20240321T094132Z
UID:7624-1726963200-1727049599@www.psr.org.pl
SUMMARY:1953 Na Uniwersytecie Illinois uruchomiono komputer ILLIAC 1
DESCRIPTION:1953 В Іллінойському університеті запущено комп’ютер ILLIAC 1
URL:https://www.psr.org.pl/wydarzenie/1953-na-uniwersytecie-illinois-uruchomiono-komputer-illiac-1-2-2/
END:VEVENT
BEGIN:VEVENT
DTSTART;VALUE=DATE:20240923
DTEND;VALUE=DATE:20240924
DTSTAMP:20260420T011535
CREATED:20240321T094204Z
LAST-MODIFIED:20240321T094204Z
UID:7623-1727049600-1727135999@www.psr.org.pl
SUMMARY:1846 Johann Galle zaobserwował planetę\, której istnienie udowodnił wpierw matematycznie Urbain Le Verrier (był to Neptun)
DESCRIPTION:1846 Йоганн Ґалле знайшов планету (Нептун)\, існування котрої теоретично передбачив i математично довів Урбен Левер’є
URL:https://www.psr.org.pl/wydarzenie/1846-johann-galle-zaobserwowal-planete-ktorej-istnienie-udowodnil-wpierw-matematycznie-urbain-le-verrier-byl-to-neptun-2-2/
END:VEVENT
BEGIN:VEVENT
DTSTART;VALUE=DATE:20240924
DTEND;VALUE=DATE:20240925
DTSTAMP:20260420T011535
CREATED:20240321T094224Z
LAST-MODIFIED:20240321T094224Z
UID:7622-1727136000-1727222399@www.psr.org.pl
SUMMARY:1970 Radziecka sonda Łuna 16 powróciła na Ziemię z ładunkiem 101 gramów gruntu księżycowego
DESCRIPTION:1970 Радянський зонд «Луна-16» доставив на Землю 101 грам місячного ґрунту
URL:https://www.psr.org.pl/wydarzenie/1970-radziecka-sonda-luna-16-powrocila-na-ziemie-z-ladunkiem-101-gramow-gruntu-ksiezycowego-2-2/
END:VEVENT
BEGIN:VEVENT
DTSTART;VALUE=DATE:20240925
DTEND;VALUE=DATE:20240926
DTSTAMP:20260420T011535
CREATED:20240321T094249Z
LAST-MODIFIED:20240321T094249Z
UID:7621-1727222400-1727308799@www.psr.org.pl
SUMMARY:1890 W Kalifornii utworzono Park Narodowy Sekwoi\, w którym rośnie największe drzewo na świecie
DESCRIPTION:1890 В Каліфорнії створено Національний парк «Секвоя»\, в якому росте найбільше у світі дерево
URL:https://www.psr.org.pl/wydarzenie/1890-w-kalifornii-utworzono-park-narodowy-sekwoi-w-ktorym-rosnie-najwieksze-drzewo-na-swiecie-2-2/
END:VEVENT
BEGIN:VEVENT
DTSTART;VALUE=DATE:20240926
DTEND;VALUE=DATE:20240927
DTSTAMP:20260420T011535
CREATED:20240321T094308Z
LAST-MODIFIED:20240321T094308Z
UID:7620-1727308800-1727395199@www.psr.org.pl
SUMMARY:1889 Na I Generalnej Konferencji Miar uchwalono wzorce metra i kilograma przechowywane w Sèvres koło Paryża
DESCRIPTION:1889 На І Генеральній конференції з мір та ваги ухвалено еталони метра та кілограма\, які зберігаються в м. Севр поблизу Парижа
URL:https://www.psr.org.pl/wydarzenie/1889-na-i-generalnej-konferencji-miar-uchwalono-wzorce-metra-i-kilograma-przechowywane-w-sevres-kolo-paryza-2-2/
END:VEVENT
BEGIN:VEVENT
DTSTART;VALUE=DATE:20240927
DTEND;VALUE=DATE:20240928
DTSTAMP:20260420T011535
CREATED:20240321T094332Z
LAST-MODIFIED:20240321T094332Z
UID:7619-1727395200-1727481599@www.psr.org.pl
SUMMARY:1822 Jean-François Champollion opublikował tłumaczenie egipskich hieroglifów z Kamienia z Rosetty
DESCRIPTION:1822 Жан-Франсуа Шампольйон опублікував переклад єгипетських ієрогліфів Розетського каменю
URL:https://www.psr.org.pl/wydarzenie/1822-jean-francois-champollion-opublikowal-tlumaczenie-egipskich-hieroglifow-z-kamienia-z-rosetty-2-2/
END:VEVENT
BEGIN:VEVENT
DTSTART;VALUE=DATE:20240928
DTEND;VALUE=DATE:20240929
DTSTAMP:20260420T011535
CREATED:20240321T095250Z
LAST-MODIFIED:20240321T095250Z
UID:7637-1727481600-1727567999@www.psr.org.pl
SUMMARY:1928 Bakteriolog i lekarz Alexander Fleming odkrył pierwszy antybiotyk – penicylinę
DESCRIPTION:1928 Бактеріолог і лікар Александер Флемінг відкрив перший антибіотик – пеніцилін
URL:https://www.psr.org.pl/wydarzenie/1928-bakteriolog-i-lekarz-alexander-fleming-odkryl-pierwszy-antybiotyk-penicyline/
END:VEVENT
BEGIN:VEVENT
DTSTART;VALUE=DATE:20240929
DTEND;VALUE=DATE:20240930
DTSTAMP:20260420T011535
CREATED:20240321T095034Z
LAST-MODIFIED:20240321T095034Z
UID:7636-1727568000-1727654399@www.psr.org.pl
SUMMARY:1976 Powołano Centrum Badań Kosmicznych Polskiej Akademii Nauk
DESCRIPTION:1976 Засновано Центр космічних досліджень Польської академії наук
URL:https://www.psr.org.pl/wydarzenie/1976-powolano-centrum-badan-kosmicznych-polskiej-akademii-nauk-2-2/
END:VEVENT
BEGIN:VEVENT
DTSTART;VALUE=DATE:20240930
DTEND;VALUE=DATE:20241001
DTSTAMP:20260420T011536
CREATED:20240321T095051Z
LAST-MODIFIED:20240321T095051Z
UID:7635-1727654400-1727740799@www.psr.org.pl
SUMMARY:1880 Henry Draper wykonał pierwsze zdjęcie obiektu leżącego poza Układem Słonecznym – Wielkiej Mgławicy w Orionie
DESCRIPTION:1880 Генрі Дрейпер зробив перше фото об’єкта\, розташованого за межами Сонячної системи – туманності Оріона
URL:https://www.psr.org.pl/wydarzenie/1880-henry-draper-wykonal-pierwsze-zdjecie-obiektu-lezacego-poza-ukladem-slonecznym-wielkiej-mglawicy-w-orionie-2-2/
END:VEVENT
BEGIN:VEVENT
DTSTART;VALUE=DATE:20241001
DTEND;VALUE=DATE:20241002
DTSTAMP:20260420T011536
CREATED:20240321T095118Z
LAST-MODIFIED:20240321T095118Z
UID:7634-1727740800-1727827199@www.psr.org.pl
SUMMARY:1964 W Japonii otwarto pierwszą linię superszybkiej kolei Shinkansen (na trasie Tokio-Osaka)
DESCRIPTION:1964 В Японії відкрито першу лінію швидкісної залізниці Сінкансен (Токіо-Осака)
URL:https://www.psr.org.pl/wydarzenie/1964-w-japonii-otwarto-pierwsza-linie-superszybkiej-kolei-shinkansen-na-trasie-tokio-osaka-2-2/
END:VEVENT
BEGIN:VEVENT
DTSTART;VALUE=DATE:20241002
DTEND;VALUE=DATE:20241003
DTSTAMP:20260420T011536
CREATED:20240321T095131Z
LAST-MODIFIED:20240321T095131Z
UID:7633-1727827200-1727913599@www.psr.org.pl
SUMMARY:1920 Urodził się Giuseppe Colombo\, pomysłodawca manewru asysty grawitacyjnej\, istotnego w dalekich lotach międzyplanetarnych
DESCRIPTION:1920 Народився Джузеппе Коломбо\, що він розробив теорію гравітаційного маневру\, необхідного для здійснення довгих міжпланетних польотів
URL:https://www.psr.org.pl/wydarzenie/1920-urodzil-sie-giuseppe-colombo-pomyslodawca-manewru-asysty-grawitacyjnej-istotnego-w-dalekich-lotach-miedzyplanetarnych-2-2/
END:VEVENT
BEGIN:VEVENT
DTSTART;VALUE=DATE:20241003
DTEND;VALUE=DATE:20241004
DTSTAMP:20260420T011536
CREATED:20240321T095157Z
LAST-MODIFIED:20240321T095157Z
UID:7632-1727913600-1727999999@www.psr.org.pl
SUMMARY:1985 Wahadłowiec Atlantis rozpoczął swoją pierwszą misję
DESCRIPTION:1985 У свою першу місію вирушив шатл «Атлантіс»
URL:https://www.psr.org.pl/wydarzenie/1985-wahadlowiec-atlantis-rozpoczal-swoja-pierwsza-misje-2-2/
END:VEVENT
BEGIN:VEVENT
DTSTART;VALUE=DATE:20241004
DTEND;VALUE=DATE:20241005
DTSTAMP:20260420T011536
CREATED:20240321T100651Z
LAST-MODIFIED:20240321T100651Z
UID:7650-1728000000-1728086399@www.psr.org.pl
SUMMARY:1957 Związek Radziecki wystrzelił pierwszego sztucznego satelitę Ziemi\, Sputnika 1
DESCRIPTION:1957 Радянський Союз запустив перший штучний супутник Землі – «Спутнік-1»
URL:https://www.psr.org.pl/wydarzenie/1957-zwiazek-radziecki-wystrzelil-pierwszego-sztucznego-satelite-ziemi-sputnika-1-2-2/
END:VEVENT
BEGIN:VEVENT
DTSTART;VALUE=DATE:20241005
DTEND;VALUE=DATE:20241006
DTSTAMP:20260420T011536
CREATED:20240321T100959Z
LAST-MODIFIED:20240321T100959Z
UID:7645-1728086400-1728172799@www.psr.org.pl
SUMMARY:2009 E. Blackburn\, C. Greider i J. Szostak otrzymali Nobla za odkrycie\, jak zakończenia chromosomów są chronione przez telomery i telomerazę
DESCRIPTION:2009 E. Блекберн\, К. Грейдер і Я. Шостак отримали Нобелівську премію за відкриття механізму захисту хромосом теломерами і теломеразами
URL:https://www.psr.org.pl/wydarzenie/2009-e-blackburn-c-greider-i-j-szostak-otrzymali-nobla-za-odkrycie-jak-zakonczenia-chromosomow-sa-chronione-przez-telomery-i-telomeraze/
END:VEVENT
BEGIN:VEVENT
DTSTART;VALUE=DATE:20241006
DTEND;VALUE=DATE:20241007
DTSTAMP:20260420T011536
CREATED:20240321T100855Z
LAST-MODIFIED:20240321T100855Z
UID:7648-1728172800-1728259199@www.psr.org.pl
SUMMARY:1995 Michel Mayor i Didier Queloz odkryli pierwszą planetę krążącą wokół gwiazdy podobnej do Słońca
DESCRIPTION:1995 Мішель Майор і Дідьє Кело виявили першу екзопланету\, що обертається навколо подібної до Сонця зірки
URL:https://www.psr.org.pl/wydarzenie/1995-michel-mayor-i-didier-queloz-odkryli-pierwsza-planete-krazaca-wokol-gwiazdy-podobnej-do-slonca-2-2/
END:VEVENT
BEGIN:VEVENT
DTSTART;VALUE=DATE:20241007
DTEND;VALUE=DATE:20241008
DTSTAMP:20260420T011536
CREATED:20240321T100732Z
LAST-MODIFIED:20240321T100732Z
UID:7647-1728259200-1728345599@www.psr.org.pl
SUMMARY:1885 Urodził się Niels Bohr\, fizyk\, który znacząco przybliżył nas do zrozumienia struktury atomu
DESCRIPTION:1885 Народився Нільс Бор\, фізик\, який суттєво наблизив нас до розуміння структури атома
URL:https://www.psr.org.pl/wydarzenie/1885-urodzil-sie-niels-bohr-fizyk-ktory-znaczaco-przyblizyl-nas-do-zrozumienia-struktury-atomu-2-2/
END:VEVENT
BEGIN:VEVENT
DTSTART;VALUE=DATE:20241008
DTEND;VALUE=DATE:20241009
DTSTAMP:20260420T011536
CREATED:20240321T100752Z
LAST-MODIFIED:20240321T100752Z
UID:7646-1728345600-1728431999@www.psr.org.pl
SUMMARY:1958 Kardiochirurg Åke Senning wszczepił pierwszy wewnętrzny rozrusznik serca
DESCRIPTION:1958 Кардіохірург Оке Сеннін імплантував перший внутрішній кардіостимулятор
URL:https://www.psr.org.pl/wydarzenie/1958-kardiochirurg-ake-senning-wszczepil-pierwszy-wewnetrzny-rozrusznik-serca-2-2/
END:VEVENT
BEGIN:VEVENT
DTSTART;VALUE=DATE:20241009
DTEND;VALUE=DATE:20241010
DTSTAMP:20260420T011536
CREATED:20240321T101131Z
LAST-MODIFIED:20240321T101131Z
UID:7649-1728432000-1728518399@www.psr.org.pl
SUMMARY:1852 Urodził się Hermann Emil Fischer\, badacz struktury cukrów\, białek i puryn\, który przyczynił się do rozwoju przemysłu farmaceutycznego
DESCRIPTION:1852 Народився Герман Еміль Фішер\, дослідник структури цукрів\, білків і пуринів\, який зробив внесок у розвиток фармацевтичної промисловості
URL:https://www.psr.org.pl/wydarzenie/1852-urodzil-sie-hermann-emil-fischer-badacz-struktury-cukrow-bialek-i-puryn-ktory-przyczynil-sie-do-rozwoju/
END:VEVENT
BEGIN:VEVENT
DTSTART;VALUE=DATE:20241010
DTEND;VALUE=DATE:20241011
DTSTAMP:20260420T011536
CREATED:20240321T101730Z
LAST-MODIFIED:20240321T101730Z
UID:7658-1728518400-1728604799@www.psr.org.pl
SUMMARY:1889 W Nowym Jorku rozpoczęto budowę pierwszego drapacza chmur (New York World Building o wysokości 106 m)
DESCRIPTION:1889 У Нью-Йорку розпочато будівництво першого хмарочоса (New York World Building висотою 106 м)
URL:https://www.psr.org.pl/wydarzenie/1889-w-nowym-jorku-rozpoczeto-budowe-pierwszego-drapacza-chmur-new-york-world-building-o-wysokosci-106-m/
END:VEVENT
BEGIN:VEVENT
DTSTART;VALUE=DATE:20241011
DTEND;VALUE=DATE:20241012
DTSTAMP:20260420T011536
CREATED:20240321T101518Z
LAST-MODIFIED:20240321T101518Z
UID:7661-1728604800-1728691199@www.psr.org.pl
SUMMARY:1903 Urodził się astronom Kazimierz Kordylewski\, odkrywca księżyców pyłowych Ziemi
DESCRIPTION:1903 Народився Казімеж Кордилевський\, астроном\, відкривач хмар\, що перебувають у точках Лагранжа
URL:https://www.psr.org.pl/wydarzenie/1903-urodzil-sie-astronom-kazimierz-kordylewski-odkrywca-ksiezycow-pylowych-ziemi-2-2/
END:VEVENT
BEGIN:VEVENT
DTSTART;VALUE=DATE:20241012
DTEND;VALUE=DATE:20241013
DTSTAMP:20260420T011536
CREATED:20240321T101532Z
LAST-MODIFIED:20240321T101532Z
UID:7660-1728691200-1728777599@www.psr.org.pl
SUMMARY:1492 Krzysztof Kolumb dotarł do pierwszej wyspy z archipelagu Bahamów\, odkrywając tym samym Amerykę
DESCRIPTION:1492 Христофор Колумб досягнув першого острова Багамського архіпелагу\, тобто\, відкрив Америку
URL:https://www.psr.org.pl/wydarzenie/1492-krzysztof-kolumb-dotarl-do-pierwszej-wyspy-z-archipelagu-bahamow-odkrywajac-tym-samym-ameryke-2-2/
END:VEVENT
BEGIN:VEVENT
DTSTART;VALUE=DATE:20241013
DTEND;VALUE=DATE:20241014
DTSTAMP:20260420T011536
CREATED:20240321T101551Z
LAST-MODIFIED:20240321T101551Z
UID:7659-1728777600-1728863999@www.psr.org.pl
SUMMARY:1884 Ustanowiono południk zerowy w Greenwich\, w Londynie
DESCRIPTION:1884 Ухвалено нульовий меридіан в Гринвічі (Лондон)
URL:https://www.psr.org.pl/wydarzenie/1884-ustanowiono-poludnik-zerowy-w-greenwich-w-londynie-2-2/
END:VEVENT
BEGIN:VEVENT
DTSTART;VALUE=DATE:20241014
DTEND;VALUE=DATE:20241015
DTSTAMP:20260420T011536
CREATED:20240321T101849Z
LAST-MODIFIED:20240321T101849Z
UID:7662-1728864000-1728950399@www.psr.org.pl
SUMMARY:1773 Została powołana Komisja Edukacji Narodowej\, pierwsza instytucja o charakterze ministerstwa oświaty publicznej
DESCRIPTION:1773 Засновано Комісію народної освіти – першу установу\, що мала характер міністерства народної освіти
URL:https://www.psr.org.pl/wydarzenie/1773-zostala-powolana-komisja-edukacji-narodowej-pierwsza-instytucja-o-charakterze/
END:VEVENT
BEGIN:VEVENT
DTSTART;VALUE=DATE:20241015
DTEND;VALUE=DATE:20241016
DTSTAMP:20260420T011536
CREATED:20240321T101633Z
LAST-MODIFIED:20240321T101633Z
UID:7657-1728950400-1729036799@www.psr.org.pl
SUMMARY:1582 Pierwsze kraje (w tym Polska) wprowadziły kalendarz gregoriański\, oparty na wiedzy astronomicznej
DESCRIPTION:1582 Перші країни (включаючи Польщу) перейшли на Григоріанський календар\, основаному на кращих знаннях астрономії
URL:https://www.psr.org.pl/wydarzenie/1582-pierwsze-kraje-w-tym-polska-wprowadzily-kalendarz-gregorianski-oparty-na-wiedzy-astronomicznej-2-2/
END:VEVENT
END:VCALENDAR