BEGIN:VCALENDAR
VERSION:2.0
PRODID:-//Polskie Stowarzyszenie Racjonalistów - ECPv5.16.3.1//NONSGML v1.0//EN
CALSCALE:GREGORIAN
METHOD:PUBLISH
X-ORIGINAL-URL:https://www.psr.org.pl
X-WR-CALDESC:Wydarzenia dla Polskie Stowarzyszenie Racjonalistów
REFRESH-INTERVAL;VALUE=DURATION:PT1H
X-Robots-Tag:noindex
X-PUBLISHED-TTL:PT1H
BEGIN:VTIMEZONE
TZID:UTC
BEGIN:STANDARD
TZOFFSETFROM:+0000
TZOFFSETTO:+0000
TZNAME:UTC
DTSTART:20230101T000000
END:STANDARD
END:VTIMEZONE
BEGIN:VEVENT
DTSTART;VALUE=DATE:20250301
DTEND;VALUE=DATE:20250302
DTSTAMP:20260422T101537
CREATED:20250120T125751Z
LAST-MODIFIED:20250120T125751Z
UID:9698-1740787200-1740873599@www.psr.org.pl
SUMMARY:1936 W Tatrach ukończono budowę kolei linowej na Kasprowy Wierch
DESCRIPTION:1936 У Татрах завершено будівництво канатної дороги на Каспровий Верх
URL:https://www.psr.org.pl/wydarzenie/1936-w-tatrach-ukonczono-budowe-kolei-linowej-na-kasprowy-wierch-2/
END:VEVENT
BEGIN:VEVENT
DTSTART;VALUE=DATE:20230127
DTEND;VALUE=DATE:20230128
DTSTAMP:20260422T101537
CREATED:20230125T143846Z
LAST-MODIFIED:20230125T143846Z
UID:5410-1674777600-1674863999@www.psr.org.pl
SUMMARY:1888 W Stanach Zjednoczonych powstało National Geographic Society
DESCRIPTION:1888 У Сполучених Штатах створено Національне Географічне Товариство
URL:https://www.psr.org.pl/wydarzenie/1888-w-stanach-zjednoczonych-powstalo-national-geographic-society-2/
END:VEVENT
BEGIN:VEVENT
DTSTART;VALUE=DATE:20230128
DTEND;VALUE=DATE:20230129
DTSTAMP:20260422T101537
CREATED:20230125T143952Z
LAST-MODIFIED:20230125T143952Z
UID:5412-1674864000-1674950399@www.psr.org.pl
SUMMARY:1841 James Clark Ross odkrył lodowiec szelfowy na Antarktydzie
DESCRIPTION:1841 Джеймс Кларк Росс відкрив найбільший шельфовий льодовик в Антарктиді
URL:https://www.psr.org.pl/wydarzenie/1841-james-clark-ross-odkryl-lodowiec-szelfowy-na-antarktydzie-2/
END:VEVENT
BEGIN:VEVENT
DTSTART;VALUE=DATE:20230129
DTEND;VALUE=DATE:20230130
DTSTAMP:20260422T101537
CREATED:20230125T144026Z
LAST-MODIFIED:20230125T144026Z
UID:5414-1674950400-1675036799@www.psr.org.pl
SUMMARY:1862 Urodził się kompozytor i miłośnik przyrody\, Frederick Delius
DESCRIPTION:1862 Народився Фредерік Деліус (1862 – 1934)\, композитор і шанувальник природи
URL:https://www.psr.org.pl/wydarzenie/1862-urodzil-sie-kompozytor-i-milosnik-przyrody-frederick-delius-2/
END:VEVENT
BEGIN:VEVENT
DTSTART;VALUE=DATE:20230130
DTEND;VALUE=DATE:20230131
DTSTAMP:20260422T101537
CREATED:20230125T144101Z
LAST-MODIFIED:20230125T144101Z
UID:5416-1675036800-1675123199@www.psr.org.pl
SUMMARY:2017 Androidka Fran Pepper otrzymała obywatelstwo Królestwa Belgii
DESCRIPTION:2017 Робот-андроїд пані Фран Пеппер отримала громадянство Королівства Бельгія
URL:https://www.psr.org.pl/wydarzenie/2017-androidka-fran-pepper-otrzymala-obywatelstwo-krolestwa-belgii-2/
END:VEVENT
BEGIN:VEVENT
DTSTART;VALUE=DATE:20230131
DTEND;VALUE=DATE:20230201
DTSTAMP:20260422T101537
CREATED:20230125T144123Z
LAST-MODIFIED:20230125T144123Z
UID:5418-1675123200-1675209599@www.psr.org.pl
SUMMARY:1971 Wystartowała misja Apollo 14\, podczas której astronauci zagrali w księżycowego golfa
DESCRIPTION:1971 Розпочалася місія «Аполлона-14»\, під час якої астронавти зіграли в місячний гольф
URL:https://www.psr.org.pl/wydarzenie/1971-wystartowala-misja-apollo-14-podczas-ktorej-astronauci-zagrali-w-ksiezycowego-golfa-2/
END:VEVENT
BEGIN:VEVENT
DTSTART;VALUE=DATE:20230201
DTEND;VALUE=DATE:20230202
DTSTAMP:20260422T101537
CREATED:20230125T144232Z
LAST-MODIFIED:20230125T144232Z
UID:5420-1675209600-1675295999@www.psr.org.pl
SUMMARY:1884 Ukazała się pierwsza edycja słownika Oxford English Dictionary
DESCRIPTION:1884 З’явилось перше видання Оксфордського Словника Англійської Мови
URL:https://www.psr.org.pl/wydarzenie/1884-ukazala-sie-pierwsza-edycja-slownika-oxford-english-dictionary-2/
END:VEVENT
BEGIN:VEVENT
DTSTART;VALUE=DATE:20230202
DTEND;VALUE=DATE:20230203
DTSTAMP:20260422T101537
CREATED:20230125T144348Z
LAST-MODIFIED:20230125T144348Z
UID:5422-1675296000-1675382399@www.psr.org.pl
SUMMARY:1845 Urodził się Iwan Pawłowycz Puluj\, pionier stosowania promieni X do obrazowania w medycynie za pomocą tzw. „lampy Puluja”
DESCRIPTION:1845 Народився Іван Павлович Пулюй\, піонер використання Х-променів для візуалізації в медицині за допомогою т.зв. „Лампи Пулюя”
URL:https://www.psr.org.pl/wydarzenie/1845-urodzil-sie-iwan-pawlowycz-puluj-pionier-stosowania-promieni-x-do-obrazowania-w-medycynie-za-pomoca-tzw-lampy-puluja/
END:VEVENT
BEGIN:VEVENT
DTSTART;VALUE=DATE:20230203
DTEND;VALUE=DATE:20230204
DTSTAMP:20260422T101538
CREATED:20230125T144424Z
LAST-MODIFIED:20230125T144424Z
UID:5424-1675382400-1675468799@www.psr.org.pl
SUMMARY:1966 Po raz pierwszy wykonany przez człowieka obiekt wylądował na Księżycu. Była to radziecka sonda Łuna 9
DESCRIPTION:1966 Вперше здійснено посадку на Місяць рукотворного об’єкта – радянської автоматичної міжпланетної станції «Луна-9»
URL:https://www.psr.org.pl/wydarzenie/1966-po-raz-pierwszy-wykonany-przez-czlowieka-obiekt-wyladowal-na-ksiezycu-byla-to-radziecka-sonda-luna-9-2/
END:VEVENT
BEGIN:VEVENT
DTSTART;VALUE=DATE:20230204
DTEND;VALUE=DATE:20230205
DTSTAMP:20260422T101538
CREATED:20230125T144504Z
LAST-MODIFIED:20230125T144504Z
UID:5426-1675468800-1675555199@www.psr.org.pl
SUMMARY:2004 Na Uniwersytecie Harvarda po raz pierwszy uruchomiono Facebooka
DESCRIPTION:2004 У Гарвардському університеті вперше запущено мережу Facebook
URL:https://www.psr.org.pl/wydarzenie/2004-na-uniwersytecie-harvarda-po-raz-pierwszy-uruchomiono-facebooka-2/
END:VEVENT
BEGIN:VEVENT
DTSTART;VALUE=DATE:20230205
DTEND;VALUE=DATE:20230206
DTSTAMP:20260422T101538
CREATED:20230125T144539Z
LAST-MODIFIED:20230125T144539Z
UID:5428-1675555200-1675641599@www.psr.org.pl
SUMMARY:1840 Urodził się John Boyd Dunlop\, właściciel patentu na opony pneumatyczne używane w rowerach
DESCRIPTION:1840 Народився Джон Бойд Данлоп\, власник патенту на пневматичну велосипедну шину
URL:https://www.psr.org.pl/wydarzenie/1840-urodzil-sie-john-boyd-dunlop-wlasciciel-patentu-na-opony-pneumatyczne-uzywane-w-rowerach-2/
END:VEVENT
BEGIN:VEVENT
DTSTART;VALUE=DATE:20230206
DTEND;VALUE=DATE:20230207
DTSTAMP:20260422T101538
CREATED:20230125T144619Z
LAST-MODIFIED:20230125T144619Z
UID:5430-1675641600-1675727999@www.psr.org.pl
SUMMARY:2018 Odbył się pierwszy lot rakiety nośnej Falcon Heavy\, zdolnej dostarczyć 16\,8 ton ładunku na orbitę Marsa
DESCRIPTION:2018 Відбувся перший політ ракети-носія «Falcon Heavy»\, здатної доставити на орбіту Марса 16\,8 т. вантажу
URL:https://www.psr.org.pl/wydarzenie/2018-odbyl-sie-pierwszy-lot-rakiety-nosnej-falcon-heavy-zdolnej-dostarczyc-168-ton-ladunku-na-orbite-marsa-2/
END:VEVENT
BEGIN:VEVENT
DTSTART;VALUE=DATE:20230207
DTEND;VALUE=DATE:20230208
DTSTAMP:20260422T101538
CREATED:20230125T144648Z
LAST-MODIFIED:20230125T144648Z
UID:5432-1675728000-1675814399@www.psr.org.pl
SUMMARY:1908 W Warszawie uruchomiono Elektrownię Tramwajów Miejskich
DESCRIPTION:1908 У Варшаві введено в експлуатацію електростанцію міського трамваю
URL:https://www.psr.org.pl/wydarzenie/1908-w-warszawie-uruchomiono-elektrownie-tramwajow-miejskich-2/
END:VEVENT
BEGIN:VEVENT
DTSTART;VALUE=DATE:20230208
DTEND;VALUE=DATE:20230209
DTSTAMP:20260422T101538
CREATED:20230125T144720Z
LAST-MODIFIED:20230125T144720Z
UID:5434-1675814400-1675900799@www.psr.org.pl
SUMMARY:1834 Urodził się Dmitrij Mendelejew\, twórca układu okresowego pierwiastków
DESCRIPTION:1834 Народився Дмитро Менделєєв\, творець Періодичної Системи Елементів
URL:https://www.psr.org.pl/wydarzenie/1834-urodzil-sie-dmitrij-mendelejew-tworca-ukladu-okresowego-pierwiastkow-2/
END:VEVENT
BEGIN:VEVENT
DTSTART;VALUE=DATE:20230209
DTEND;VALUE=DATE:20230210
DTSTAMP:20260422T101538
CREATED:20230125T144753Z
LAST-MODIFIED:20230125T144753Z
UID:5436-1675900800-1675987199@www.psr.org.pl
SUMMARY:1854 Urodziła się Aletta Jacobs – lekarka\, feministka i pacyfistka; pierwsza Holenderka\, która skończyła studia medyczne
DESCRIPTION:1854 Народилася Алетта Генрієтт Якобс (1854 – 1924)\, лікарка\, феміністка і пацифістка; перша голландська жінка\, яка закінчила медичний факультет
URL:https://www.psr.org.pl/wydarzenie/1854-urodzila-sie-aletta-jacobs-lekarka-feministka-i-pacyfistka-pierwsza-holenderka-ktora-skonczyla-studia-medyczne-2/
END:VEVENT
BEGIN:VEVENT
DTSTART;VALUE=DATE:20230210
DTEND;VALUE=DATE:20230211
DTSTAMP:20260422T101538
CREATED:20230125T144820Z
LAST-MODIFIED:20230125T144820Z
UID:5438-1675987200-1676073599@www.psr.org.pl
SUMMARY:1775 Komisja Edukacji Narodowej utworzyła Towarzystwo do Ksiąg Elementarnych w Warszawie
DESCRIPTION:1775 Комісія Народної Oсвіти заснувала у Варшаві Товариство до Елементарних книг
URL:https://www.psr.org.pl/wydarzenie/1775-komisja-edukacji-narodowej-utworzyla-towarzystwo-do-ksiag-elementarnych-w-warszawie-2/
END:VEVENT
BEGIN:VEVENT
DTSTART;VALUE=DATE:20230211
DTEND;VALUE=DATE:20230212
DTSTAMP:20260422T101538
CREATED:20230125T144853Z
LAST-MODIFIED:20230125T144950Z
UID:5440-1676073600-1676159999@www.psr.org.pl
SUMMARY:1752 W Filadelfii otwarto pierwszy szpital w Stanach Zjednoczonych
DESCRIPTION:1752 У Філадельфії відкрито перший в Сполучених Штатах шпиталь
URL:https://www.psr.org.pl/wydarzenie/1752-w-filadelfii-otwarto-pierwszy-szpital-w-stanach-zjednoczonych-2/
END:VEVENT
BEGIN:VEVENT
DTSTART;VALUE=DATE:20230212
DTEND;VALUE=DATE:20230213
DTSTAMP:20260422T101538
CREATED:20230125T144919Z
LAST-MODIFIED:20230125T144919Z
UID:5442-1676160000-1676246399@www.psr.org.pl
SUMMARY:1809 Urodził się Karol Darwin\, twórca teorii ewolucji
DESCRIPTION:1809 Народився Чарлз Дарвін\, творець теорії еволюції
URL:https://www.psr.org.pl/wydarzenie/1809-urodzil-sie-karol-darwin-tworca-teorii-ewolucji-2/
END:VEVENT
BEGIN:VEVENT
DTSTART;VALUE=DATE:20230213
DTEND;VALUE=DATE:20230214
DTSTAMP:20260422T101538
CREATED:20230126T131120Z
LAST-MODIFIED:20230126T131120Z
UID:5449-1676246400-1676332799@www.psr.org.pl
SUMMARY:1895 Bracia Lumière otrzymali patent na skonstruowany przez siebie kinematograf
DESCRIPTION:1895 Брати Люм’єр отримали патент на свій інноваційний прилад – сінематограф
URL:https://www.psr.org.pl/wydarzenie/1895-bracia-lumiere-otrzymali-patent-na-skonstruowany-przez-siebie-kinematograf-2/
END:VEVENT
BEGIN:VEVENT
DTSTART;VALUE=DATE:20230214
DTEND;VALUE=DATE:20230215
DTSTAMP:20260422T101538
CREATED:20230126T131221Z
LAST-MODIFIED:20230126T131221Z
UID:5451-1676332800-1676419199@www.psr.org.pl
SUMMARY:1901 Uruchomiono wodociągi miejskie w Krakowie
DESCRIPTION:1901 У Кракові запущено міський водопровід
URL:https://www.psr.org.pl/wydarzenie/1901-uruchomiono-wodociagi-miejskie-w-krakowie-2/
END:VEVENT
BEGIN:VEVENT
DTSTART;VALUE=DATE:20230215
DTEND;VALUE=DATE:20230216
DTSTAMP:20260422T101538
CREATED:20230126T131508Z
LAST-MODIFIED:20230126T131508Z
UID:5453-1676419200-1676505599@www.psr.org.pl
SUMMARY:1564 Urodził się Galileo Galilei (Galileusz) – odkrywca bezwładności\, plam na Słońcu\, pierścieni Saturna\, twórca termometru
DESCRIPTION:1564 Народився Галілео Галілей – першовідкривач інерції\, плям на Сонці і кілець Сатурна\, винахідник термометра
URL:https://www.psr.org.pl/wydarzenie/1564-urodzil-sie-galileo-galilei-galileusz-odkrywca-bezwladnosci-plam-na-sloncu-pierscieni-saturna-tworca-termometru-2/
END:VEVENT
BEGIN:VEVENT
DTSTART;VALUE=DATE:20230216
DTEND;VALUE=DATE:20230217
DTSTAMP:20260422T101538
CREATED:20230126T131639Z
LAST-MODIFIED:20230126T131639Z
UID:5455-1676505600-1676591999@www.psr.org.pl
SUMMARY:1923 Howard Carter i George Herbert odkryli komorę grobową faraona Tutenchamona
DESCRIPTION:1923 Говард Картер та Джордж Герберт відкрили поховальну камеру фараона Тутанхамона
URL:https://www.psr.org.pl/wydarzenie/1923-howard-carter-i-george-herbert-odkryli-komore-grobowa-faraona-tutenchamona-2/
END:VEVENT
BEGIN:VEVENT
DTSTART;VALUE=DATE:20230217
DTEND;VALUE=DATE:20230218
DTSTAMP:20260422T101538
CREATED:20230126T131710Z
LAST-MODIFIED:20230126T131710Z
UID:5457-1676592000-1676678399@www.psr.org.pl
SUMMARY:1753 Charles Morisson przedstawił pierwszy projekt telegrafu
DESCRIPTION:1753 Чарльз Морісон представив перший проект телеграфу
URL:https://www.psr.org.pl/wydarzenie/1753-charles-morisson-przedstawil-pierwszy-projekt-telegrafu-2/
END:VEVENT
BEGIN:VEVENT
DTSTART;VALUE=DATE:20230218
DTEND;VALUE=DATE:20230219
DTSTAMP:20260422T101538
CREATED:20230126T131745Z
LAST-MODIFIED:20230126T131745Z
UID:5459-1676678400-1676764799@www.psr.org.pl
SUMMARY:1930 Tombaugh Clyde odkrył planetę karłowatą Pluton\, przez długi czas uchodzącą za dziewiątą planetę Układu Słonecznego
DESCRIPTION:1930 Томбо Клайд відкрив карликову планету Плутон\, що протягом тривалого часу вважалася дев’ятою планетою Сонячної системи
URL:https://www.psr.org.pl/wydarzenie/1930-tombaugh-clyde-odkryl-planete-karlowata-pluton-przez-dlugi-czas-uchodzaca-za-dziewiata-planete-ukladu-slonecznego/
END:VEVENT
BEGIN:VEVENT
DTSTART;VALUE=DATE:20230219
DTEND;VALUE=DATE:20230220
DTSTAMP:20260422T101538
CREATED:20230126T132042Z
LAST-MODIFIED:20240319T132741Z
UID:5461-1676764800-1676851199@www.psr.org.pl
SUMMARY:Dzień Nauki Polskiej 1473 W Toruniu urodził się Mikołaj Kopernik
DESCRIPTION:День польської науки 1473 В Торуні народився Миколай Коперник
URL:https://www.psr.org.pl/wydarzenie/dzien-nauki-polskiej-1473-w-toruniu-urodzil-sie-mikolaj-kopernik/
END:VEVENT
BEGIN:VEVENT
DTSTART;VALUE=DATE:20230220
DTEND;VALUE=DATE:20230221
DTSTAMP:20260422T101538
CREATED:20230126T132106Z
LAST-MODIFIED:20230126T132106Z
UID:5463-1676851200-1676937599@www.psr.org.pl
SUMMARY:1935 Caroline Mikkelsen jako pierwsza kobieta postawiła stopę na Antarktydzie
DESCRIPTION:1935 Керолайн Міккельсен стала першою жінкою\, що ступила на землю Антарктиди
URL:https://www.psr.org.pl/wydarzenie/1935-caroline-mikkelsen-jako-pierwsza-kobieta-postawila-stope-na-antarktydzie-2/
END:VEVENT
BEGIN:VEVENT
DTSTART;VALUE=DATE:20230221
DTEND;VALUE=DATE:20230222
DTSTAMP:20260422T101538
CREATED:20230126T132129Z
LAST-MODIFIED:20230126T132129Z
UID:5465-1676937600-1677023999@www.psr.org.pl
SUMMARY:2006 Na orbicie znalazł się japoński Akari\, teleskop promieniowania podczerwonego
DESCRIPTION:2006 Японський інфрачервоний телескоп «Акарі» виведений на орбіту
URL:https://www.psr.org.pl/wydarzenie/2006-na-orbicie-znalazl-sie-japonski-akari-teleskop-promieniowania-podczerwonego-2/
END:VEVENT
BEGIN:VEVENT
DTSTART;VALUE=DATE:20230222
DTEND;VALUE=DATE:20230223
DTSTAMP:20260422T101538
CREATED:20230126T132151Z
LAST-MODIFIED:20230126T132151Z
UID:5467-1677024000-1677110399@www.psr.org.pl
SUMMARY:1904 Argentyńczycy uruchomili stację Orcadas\, najstarszą stałą placówkę badawczą w Antarktyce
DESCRIPTION:1904 Аргентинці запустили станцію «Оркадас» – найстаріший постійний дослідницький об’єкт в Антарктиді
URL:https://www.psr.org.pl/wydarzenie/1904-argentynczycy-uruchomili-stacje-orcadas-najstarsza-stala-placowke-badawcza-w-antarktyce-2/
END:VEVENT
BEGIN:VEVENT
DTSTART;VALUE=DATE:20230223
DTEND;VALUE=DATE:20230224
DTSTAMP:20260422T101538
CREATED:20230126T132212Z
LAST-MODIFIED:20230126T132212Z
UID:5469-1677110400-1677196799@www.psr.org.pl
SUMMARY:1893 Rudolf Diesel opatentował silnik wysokoprężny
DESCRIPTION:1893 Рудольф Дизель запатентував дизельний двигун
URL:https://www.psr.org.pl/wydarzenie/1893-rudolf-diesel-opatentowal-silnik-wysokoprezny-2/
END:VEVENT
BEGIN:VEVENT
DTSTART;VALUE=DATE:20230224
DTEND;VALUE=DATE:20230225
DTSTAMP:20260422T101538
CREATED:20230126T132236Z
LAST-MODIFIED:20230126T132236Z
UID:5471-1677196800-1677283199@www.psr.org.pl
SUMMARY:1818 W Pałacu Radziwiłłów (dziś Pałac Prezydencki) odbył się pierwszy publiczny koncert Fryderyka Chopina
DESCRIPTION:1818 У Палаці Радзівілів (сьогодні Президентський Палац) відбувся перший публічний виступ Фридерика Шопена
URL:https://www.psr.org.pl/wydarzenie/1818-w-palacu-radziwillow-dzis-palac-prezydencki-odbyl-sie-pierwszy-publiczny-koncert-fryderyka-chopina-2/
END:VEVENT
END:VCALENDAR