BEGIN:VCALENDAR
VERSION:2.0
PRODID:-//Polskie Stowarzyszenie Racjonalistów - ECPv5.16.3.1//NONSGML v1.0//EN
CALSCALE:GREGORIAN
METHOD:PUBLISH
X-ORIGINAL-URL:https://www.psr.org.pl
X-WR-CALDESC:Wydarzenia dla Polskie Stowarzyszenie Racjonalistów
REFRESH-INTERVAL;VALUE=DURATION:PT1H
X-Robots-Tag:noindex
X-PUBLISHED-TTL:PT1H
BEGIN:VTIMEZONE
TZID:UTC
BEGIN:STANDARD
TZOFFSETFROM:+0000
TZOFFSETTO:+0000
TZNAME:UTC
DTSTART:20230101T000000
END:STANDARD
END:VTIMEZONE
BEGIN:VEVENT
DTSTART;VALUE=DATE:20250301
DTEND;VALUE=DATE:20250302
DTSTAMP:20260420T053105
CREATED:20250120T125751Z
LAST-MODIFIED:20250120T125751Z
UID:9698-1740787200-1740873599@www.psr.org.pl
SUMMARY:1936 W Tatrach ukończono budowę kolei linowej na Kasprowy Wierch
DESCRIPTION:1936 У Татрах завершено будівництво канатної дороги на Каспровий Верх
URL:https://www.psr.org.pl/wydarzenie/1936-w-tatrach-ukonczono-budowe-kolei-linowej-na-kasprowy-wierch-2/
END:VEVENT
BEGIN:VEVENT
DTSTART;VALUE=DATE:20230420
DTEND;VALUE=DATE:20230421
DTSTAMP:20260420T053105
CREATED:20230127T130342Z
LAST-MODIFIED:20230127T130342Z
UID:5583-1681948800-1682035199@www.psr.org.pl
SUMMARY:1862 Louis Pasteur i Claude Bernard przeprowadzili pierwszy udany test pasteryzacji
DESCRIPTION:1862 Луї Пастер та Клод Бернар здійснили першу успішну спробу пастеризації
URL:https://www.psr.org.pl/wydarzenie/1862-louis-pasteur-i-claude-bernard-przeprowadzili-pierwszy-udany-test-pasteryzacji-2/
END:VEVENT
BEGIN:VEVENT
DTSTART;VALUE=DATE:20230421
DTEND;VALUE=DATE:20230422
DTSTAMP:20260420T053105
CREATED:20230127T130416Z
LAST-MODIFIED:20230127T130416Z
UID:5585-1682035200-1682121599@www.psr.org.pl
SUMMARY:2009 Nastąpiło otwarcie Światowej Biblioteki Cyfrowej pod patronatem UNESCO i Biblioteki Kongresu
DESCRIPTION:2009 Відбулося відкриття Світової цифрової бібліотеки\, створеної за підтримки ЮНЕСКО та Бібліотеки Конгресу
URL:https://www.psr.org.pl/wydarzenie/2009-nastapilo-otwarcie-swiatowej-biblioteki-cyfrowej-pod-patronatem-unesco-i-biblioteki-kongresu-2/
END:VEVENT
BEGIN:VEVENT
DTSTART;VALUE=DATE:20230422
DTEND;VALUE=DATE:20230423
DTSTAMP:20260420T053105
CREATED:20230127T130447Z
LAST-MODIFIED:20230127T130447Z
UID:5587-1682121600-1682207999@www.psr.org.pl
SUMMARY:1909 Urodziła się Rita Levi-Montalcini\, odkrywczyni istotnych mechanizmów regulujących wzrost komórek i narządów
DESCRIPTION:1909 Народилася Рiта Леві-Монтальчині\, співавтор відкриття важливих факторів\, що регулюють ріст клітин і органів
URL:https://www.psr.org.pl/wydarzenie/1909-urodzila-sie-rita-levi-montalcini-odkrywczyni-istotnych-mechanizmow-regulujacych-wzrost-komorek-i-narzadow/
END:VEVENT
BEGIN:VEVENT
DTSTART;VALUE=DATE:20230423
DTEND;VALUE=DATE:20230424
DTSTAMP:20260420T053105
CREATED:20230127T130518Z
LAST-MODIFIED:20230127T130518Z
UID:5589-1682208000-1682294399@www.psr.org.pl
SUMMARY:1884 Urodził się Iwan Szmalgauzen\, współtwórca syntetycznej teorii ewolucji
DESCRIPTION:1884 Народився Іван Шмальгаузен\, співавтор сучасної синтетичної теорії еволюції
URL:https://www.psr.org.pl/wydarzenie/1884-urodzil-sie-iwan-szmalgauzen-wspoltworca-syntetycznej-teorii-ewolucji/
END:VEVENT
BEGIN:VEVENT
DTSTART;VALUE=DATE:20230424
DTEND;VALUE=DATE:20230425
DTSTAMP:20260420T053105
CREATED:20230127T130546Z
LAST-MODIFIED:20230127T130546Z
UID:5591-1682294400-1682380799@www.psr.org.pl
SUMMARY:1990 Na orbicie Ziemi umieszczono teleskop Hubble’a\, nasze „okno na Wszechświat”
DESCRIPTION:1990 На орбіту Землі виведено телескоп «Габбл»\, наше „вікно у Всесвіт”
URL:https://www.psr.org.pl/wydarzenie/1990-na-orbicie-ziemi-umieszczono-teleskop-hubblea-nasze-okno-na-wszechswiat-2/
END:VEVENT
BEGIN:VEVENT
DTSTART;VALUE=DATE:20230425
DTEND;VALUE=DATE:20230426
DTSTAMP:20260420T053105
CREATED:20230127T130617Z
LAST-MODIFIED:20230127T130617Z
UID:5593-1682380800-1682467199@www.psr.org.pl
SUMMARY:1953 W czasopiśmie „Nature” ukazał się artykuł Jamesa D. Watsona i Francisa Cricka\, opisujący strukturę podwójnej helisy DNA
DESCRIPTION:1953 В часописі „Nature” з’явилася стаття Джеймса Д. Вотсона та Френсіса Кріка\, що описувала структуру подвійної спіралі ДНК
URL:https://www.psr.org.pl/wydarzenie/1953-w-czasopismie-nature-ukazal-sie-artykul-jamesa-d-watsona-i-francisa-cricka-opisujacy-strukture-podwojnej-helisy-dna-2/
END:VEVENT
BEGIN:VEVENT
DTSTART;VALUE=DATE:20230426
DTEND;VALUE=DATE:20230427
DTSTAMP:20260420T053105
CREATED:20230127T130647Z
LAST-MODIFIED:20230127T130647Z
UID:5595-1682467200-1682553599@www.psr.org.pl
SUMMARY:1834 Urodził się Władimir Betz\, odkrywca olbrzymich neuronów piramidowych w korze ruchowej\, określanych jako „komórki Betza”
DESCRIPTION:1834 Народився Володимир Бец\, український першовідкривач гігантських пірамідних нейронів у моторній корі головного мозку т.зв. „клітин Беца”
URL:https://www.psr.org.pl/wydarzenie/1834-urodzil-sie-wladimir-betz-odkrywca-olbrzymich-neuronow-piramidowych-w-korze-ruchowej-okreslanych-jako-komorki-betza/
END:VEVENT
BEGIN:VEVENT
DTSTART;VALUE=DATE:20230427
DTEND;VALUE=DATE:20230428
DTSTAMP:20260420T053105
CREATED:20230127T130712Z
LAST-MODIFIED:20230127T130712Z
UID:5597-1682553600-1682639999@www.psr.org.pl
SUMMARY:2005 Dokonano oblotu największego samolotu pasażerskiego\, Airbusa 380
DESCRIPTION:2005 Випущено найбільший реактивний пасажирський літак – Airbus 380
URL:https://www.psr.org.pl/wydarzenie/2005-dokonano-oblotu-najwiekszego-samolotu-pasazerskiego-airbusa-380-2/
END:VEVENT
BEGIN:VEVENT
DTSTART;VALUE=DATE:20230428
DTEND;VALUE=DATE:20230429
DTSTAMP:20260420T053105
CREATED:20230127T130741Z
LAST-MODIFIED:20230127T130741Z
UID:5599-1682640000-1682726399@www.psr.org.pl
SUMMARY:2016 Wystrzelono pierwszą rakietę z rosyjskiego Kosmodromu Wostocznyj
DESCRIPTION:2016 Здійснено випуск першої ракети з російського космодрому «Восточний»
URL:https://www.psr.org.pl/wydarzenie/2016-wystrzelono-pierwsza-rakiete-z-rosyjskiego-kosmodromu-wostocznyj-2/
END:VEVENT
BEGIN:VEVENT
DTSTART;VALUE=DATE:20230429
DTEND;VALUE=DATE:20230430
DTSTAMP:20260420T053105
CREATED:20230127T130807Z
LAST-MODIFIED:20230127T130807Z
UID:5601-1682726400-1682812799@www.psr.org.pl
SUMMARY:1946 Urodził się Aleksander Wolszczan\, polski radioastronom\, odkrywca pierwszych planet poza Układem Słonecznym
DESCRIPTION:1946 Народився Александер Вольщан\, польський радіоастроном\, першовідкривач перших планет поза Сонячною системою
URL:https://www.psr.org.pl/wydarzenie/1946-urodzil-sie-aleksander-wolszczan-polski-radioastronom-odkrywca-pierwszych-planet-poza-ukladem-slonecznym-2/
END:VEVENT
BEGIN:VEVENT
DTSTART;VALUE=DATE:20230430
DTEND;VALUE=DATE:20230501
DTSTAMP:20260420T053105
CREATED:20230127T130832Z
LAST-MODIFIED:20230127T130832Z
UID:5603-1682812800-1682899199@www.psr.org.pl
SUMMARY:1006 Rozbłysk najjaśniejszej znanej w historii supernowej zaobserwowano w Europie\, Chinach\, Japonii\, Egipcie i Iraku
DESCRIPTION:1006 В Європі\, Китаї\, Японії\, Єгипеті та Іраку зафіксовано найяскравіший в історії спалах Наднової
URL:https://www.psr.org.pl/wydarzenie/1006-rozblysk-najjasniejszej-znanej-w-historii-supernowej-zaobserwowano-w-europie-chinach-japonii-egipcie-i-iraku-2/
END:VEVENT
BEGIN:VEVENT
DTSTART;VALUE=DATE:20230501
DTEND;VALUE=DATE:20230502
DTSTAMP:20260420T053105
CREATED:20230127T134322Z
LAST-MODIFIED:20230127T134322Z
UID:5605-1682899200-1682985599@www.psr.org.pl
SUMMARY:1753 Karol Linneusz ukończył klasyfikację roślin
DESCRIPTION:1753 Карл Лінней закінчив класифікацію рослини
URL:https://www.psr.org.pl/wydarzenie/1753-karol-linneusz-ukonczyl-klasyfikacje-roslin-2/
END:VEVENT
BEGIN:VEVENT
DTSTART;VALUE=DATE:20230502
DTEND;VALUE=DATE:20230503
DTSTAMP:20260420T053105
CREATED:20230127T134355Z
LAST-MODIFIED:20230127T134355Z
UID:5607-1682985600-1683071999@www.psr.org.pl
SUMMARY:1797 Urodził się Abraham Gesner – odkrywca nafty pozyskiwanej z węgla
DESCRIPTION:1797 Народився Абрагам Геснер\, винахідник гасу\, отриманого з вугілля
URL:https://www.psr.org.pl/wydarzenie/1797-urodzil-sie-abraham-gesner-odkrywca-nafty-pozyskiwanej-z-wegla-2/
END:VEVENT
BEGIN:VEVENT
DTSTART;VALUE=DATE:20230503
DTEND;VALUE=DATE:20230504
DTSTAMP:20260420T053105
CREATED:20230127T134417Z
LAST-MODIFIED:20230127T134417Z
UID:5609-1683072000-1683158399@www.psr.org.pl
SUMMARY:1830 W Anglii zaczęły kursować pierwsze na świecie regularne połączenia kolejowe dla pasażerów
DESCRIPTION:1830 В Англії запроваджено перше у світі регулярне залізничне сполучення для пасажирів
URL:https://www.psr.org.pl/wydarzenie/1830-w-anglii-zaczely-kursowac-pierwsze-na-swiecie-regularne-polaczenia-kolejowe-dla-pasazerow-2/
END:VEVENT
BEGIN:VEVENT
DTSTART;VALUE=DATE:20230504
DTEND;VALUE=DATE:20230505
DTSTAMP:20260420T053105
CREATED:20230127T134810Z
LAST-MODIFIED:20230127T134810Z
UID:5611-1683158400-1683244799@www.psr.org.pl
SUMMARY:1989 Z wahadłowca Atlantis wystrzelono w stronę Wenus sondę Magellan
DESCRIPTION:1989 З шатлу «Атлантіс» випущено зонд «Магеллан» для картографування Венери
URL:https://www.psr.org.pl/wydarzenie/1989-z-wahadlowca-atlantis-wystrzelono-w-strone-wenus-sonde-magellan-2/
END:VEVENT
BEGIN:VEVENT
DTSTART;VALUE=DATE:20230505
DTEND;VALUE=DATE:20230506
DTSTAMP:20260420T053105
CREATED:20230127T134835Z
LAST-MODIFIED:20230127T134835Z
UID:5613-1683244800-1683331199@www.psr.org.pl
SUMMARY:1957 Urodził się Ołeh Anhelski\, specjalista w dziedzinie holografii i optyki statystycznej
DESCRIPTION:1957 Народився Олег Ангельський\, український фахівець у сфері голографії\, статистичної оптики
URL:https://www.psr.org.pl/wydarzenie/1957-urodzil-sie-oleh-anhelski-specjalista-w-dziedzinie-holografii-i-optyki-statystycznej/
END:VEVENT
BEGIN:VEVENT
DTSTART;VALUE=DATE:20230506
DTEND;VALUE=DATE:20230507
DTSTAMP:20260420T053105
CREATED:20230127T134900Z
LAST-MODIFIED:20230127T134900Z
UID:5615-1683331200-1683417599@www.psr.org.pl
SUMMARY:1840 W Wielkiej Brytanii wprowadzono do obiegu pierwszy znaczek pocztowy – Penny Black
DESCRIPTION:1840 У Великобританії пущено в обіг першу поштову марку – Чорний Пенні
URL:https://www.psr.org.pl/wydarzenie/1840-w-wielkiej-brytanii-wprowadzono-do-obiegu-pierwszy-znaczek-pocztowy-penny-black-2/
END:VEVENT
BEGIN:VEVENT
DTSTART;VALUE=DATE:20230507
DTEND;VALUE=DATE:20230508
DTSTAMP:20260420T053105
CREATED:20230127T134934Z
LAST-MODIFIED:20230127T134934Z
UID:5617-1683417600-1683503999@www.psr.org.pl
SUMMARY:1824 W Wiedniu odbyło się pierwsze wykonanie IX Symfonii Beethovena
DESCRIPTION:1824 У Відні відбулося перше виконання IX симфонії Бетховена
URL:https://www.psr.org.pl/wydarzenie/1824-w-wiedniu-odbylo-sie-pierwsze-wykonanie-ix-symfonii-beethovena-2/
END:VEVENT
BEGIN:VEVENT
DTSTART;VALUE=DATE:20230508
DTEND;VALUE=DATE:20230509
DTSTAMP:20260420T053105
CREATED:20230127T135013Z
LAST-MODIFIED:20230127T135013Z
UID:5619-1683504000-1683590399@www.psr.org.pl
SUMMARY:1943 Urodził się Fujio Masuoka\, wynalazca pamięci flash
DESCRIPTION:1943 Народився Фуджіо Масуока\, винахідник флеш-пам’яті
URL:https://www.psr.org.pl/wydarzenie/1943-urodzil-sie-fujio-masuoka-wynalazca-pamieci-flash-2/
END:VEVENT
BEGIN:VEVENT
DTSTART;VALUE=DATE:20230509
DTEND;VALUE=DATE:20230510
DTSTAMP:20260420T053105
CREATED:20230127T135039Z
LAST-MODIFIED:20230127T135039Z
UID:5621-1683590400-1683676799@www.psr.org.pl
SUMMARY:1889 Hrabia Władysław Zamoyski nabył dobra zakopiańskie w celu ratowania lasów tatrzańskich
DESCRIPTION:1889 Заради збереження татрських лісів граф Владіслав Замойський придбав маєтки Закопане
URL:https://www.psr.org.pl/wydarzenie/1889-hrabia-wladyslaw-zamoyski-nabyl-dobra-zakopianskie-w-celu-ratowania-lasow-tatrzanskich-2/
END:VEVENT
BEGIN:VEVENT
DTSTART;VALUE=DATE:20230510
DTEND;VALUE=DATE:20230511
DTSTAMP:20260420T053105
CREATED:20230127T141047Z
LAST-MODIFIED:20230127T141047Z
UID:5623-1683676800-1683763199@www.psr.org.pl
SUMMARY:1900 Urodziła się Cecilia Payne-Gaposchkin\, badaczka widm gwiazd i pierwsza profesorka na Uniwersytecie Harvarda
DESCRIPTION:1900 Народилася Сесілія Пейн-Гапошкіна\, астрономка\, перша жінка\, яка отримала звання професора в Гарвардському університеті
URL:https://www.psr.org.pl/wydarzenie/1900-urodzila-sie-cecilia-payne-gaposchkin-badaczka-widm-gwiazd-i-pierwsza-profesorka-na-uniwersytecie-harvarda-2/
END:VEVENT
BEGIN:VEVENT
DTSTART;VALUE=DATE:20230511
DTEND;VALUE=DATE:20230512
DTSTAMP:20260420T053105
CREATED:20230127T141121Z
LAST-MODIFIED:20230127T141121Z
UID:5625-1683763200-1683849599@www.psr.org.pl
SUMMARY:1918 Urodził się Richard Feynman\, fizyk kwantowy\, który nazwał ludzi „wszechświatem atomów” i „materią obdarzoną ciekawością”
DESCRIPTION:1918 Народився Річард Фейнман\, квантовий фізик\, що він визначив людину як „всесвіт атомів” і „матерія\, наділена допитливістю”
URL:https://www.psr.org.pl/wydarzenie/1918-urodzil-sie-richard-feynman-fizyk-kwantowy-ktory-nazwal-ludzi-wszechswiatem-atomow-i-materia-obdarzona-ciekawoscia-2/
END:VEVENT
BEGIN:VEVENT
DTSTART;VALUE=DATE:20230512
DTEND;VALUE=DATE:20230513
DTSTAMP:20260420T053105
CREATED:20230127T141149Z
LAST-MODIFIED:20230127T141149Z
UID:5627-1683849600-1683935999@www.psr.org.pl
SUMMARY:1803 Urodził się Justus von Liebig\, twórca nawozów\, proszku do pieczenia i ekstraktu mięsnego (pierwowzoru kostki bulionowej)
DESCRIPTION:1803 Народився Юстус фон Лібіх\, винахідник мінеральних добрив\, порошку для випічки і м’ясних екстрактів (прототипу сучасних бульйонних кубиків)
URL:https://www.psr.org.pl/wydarzenie/1803-urodzil-sie-justus-von-liebig-tworca-nawozow-proszku-do-pieczenia-i-ekstraktu-miesnego-pierwowzoru-kostki-bulionowej-2/
END:VEVENT
BEGIN:VEVENT
DTSTART;VALUE=DATE:20230513
DTEND;VALUE=DATE:20230514
DTSTAMP:20260420T053105
CREATED:20230127T141237Z
LAST-MODIFIED:20230127T141237Z
UID:5629-1683936000-1684022399@www.psr.org.pl
SUMMARY:1960 Wystrzelono pierwszego satelitę telekomunikacyjnego Echo 1
DESCRIPTION:1960 Запущено перший телекомунікаційний супутник «Ехо-1»
URL:https://www.psr.org.pl/wydarzenie/1960-wystrzelono-pierwszego-satelite-telekomunikacyjnego-echo-1-2/
END:VEVENT
BEGIN:VEVENT
DTSTART;VALUE=DATE:20230514
DTEND;VALUE=DATE:20230515
DTSTAMP:20260420T053105
CREATED:20230127T141313Z
LAST-MODIFIED:20230127T141313Z
UID:5631-1684022400-1684108799@www.psr.org.pl
SUMMARY:1973 Na orbicie umieszczono Skylab\, pierwszą amerykańską załogową stację kosmiczną
DESCRIPTION:1973 На орбіту виведено «Скайлаб»\, першу американську орбітальну станцію
URL:https://www.psr.org.pl/wydarzenie/1973-na-orbicie-umieszczono-skylab-pierwsza-amerykanska-zalogowa-stacje-kosmiczna-2/
END:VEVENT
BEGIN:VEVENT
DTSTART;VALUE=DATE:20230515
DTEND;VALUE=DATE:20230516
DTSTAMP:20260420T053105
CREATED:20230127T142247Z
LAST-MODIFIED:20230127T142247Z
UID:5633-1684108800-1684195199@www.psr.org.pl
SUMMARY:1618 Johannes Kepler sformułował swoje III prawo opisujące ruch planet w Układzie Słonecznym
DESCRIPTION:1618 Йоганн Кеплер сформулював свій III закон\, що описує рух планет у Сонячній системі
URL:https://www.psr.org.pl/wydarzenie/1618-johannes-kepler-sformulowal-swoje-iii-prawo-opisujace-ruch-planet-w-ukladzie-slonecznym-2/
END:VEVENT
BEGIN:VEVENT
DTSTART;VALUE=DATE:20230516
DTEND;VALUE=DATE:20230517
DTSTAMP:20260420T053105
CREATED:20230127T142316Z
LAST-MODIFIED:20230127T142316Z
UID:5635-1684195200-1684281599@www.psr.org.pl
SUMMARY:1718 Urodziła się Maria Gaetana Agnesi\, autorka zasad analizy matematycznej
DESCRIPTION:1718 Народилася Марія Гаетана Агнесі\, автор підручника математичного аналізу
URL:https://www.psr.org.pl/wydarzenie/1718-urodzila-sie-maria-gaetana-agnesi-autorka-zasad-analizy-matematycznej-2/
END:VEVENT
BEGIN:VEVENT
DTSTART;VALUE=DATE:20230517
DTEND;VALUE=DATE:20230518
DTSTAMP:20260420T053105
CREATED:20230127T142339Z
LAST-MODIFIED:20230127T142339Z
UID:5637-1684281600-1684367999@www.psr.org.pl
SUMMARY:1988 Okulistka Patricia Bath uzyskała patent na urządzenie wykorzystywane do laserowego operowania zaćmy
DESCRIPTION:1988 Офтальмолог Патрісія Бат отримала патент на пристрій використовуваний для лазерного оперування катаракти
URL:https://www.psr.org.pl/wydarzenie/1988-okulistka-patricia-bath-uzyskala-patent-na-urzadzenie-wykorzystywane-do-laserowego-operowania-zacmy/
END:VEVENT
BEGIN:VEVENT
DTSTART;VALUE=DATE:20230518
DTEND;VALUE=DATE:20230519
DTSTAMP:20260420T053105
CREATED:20230127T142410Z
LAST-MODIFIED:20230127T142410Z
UID:5639-1684368000-1684454399@www.psr.org.pl
SUMMARY:1872 Urodził się Bertrand Russell – filozof analityczny\, logik\, matematyk i wielki obrońca wolności słowa
DESCRIPTION:1872 Народився Бертран Рассел\, аналітичний філософ\, логік\, математик і пристрасний захисник свободи слова
URL:https://www.psr.org.pl/wydarzenie/1872-urodzil-sie-bertrand-russell-filozof-analityczny-logik-matematyk-i-wielki-obronca-wolnosci-slowa-2/
END:VEVENT
END:VCALENDAR