BEGIN:VCALENDAR
VERSION:2.0
PRODID:-//Polskie Stowarzyszenie Racjonalistów - ECPv5.16.3.1//NONSGML v1.0//EN
CALSCALE:GREGORIAN
METHOD:PUBLISH
X-ORIGINAL-URL:https://www.psr.org.pl
X-WR-CALDESC:Wydarzenia dla Polskie Stowarzyszenie Racjonalistów
REFRESH-INTERVAL;VALUE=DURATION:PT1H
X-Robots-Tag:noindex
X-PUBLISHED-TTL:PT1H
BEGIN:VTIMEZONE
TZID:UTC
BEGIN:STANDARD
TZOFFSETFROM:+0000
TZOFFSETTO:+0000
TZNAME:UTC
DTSTART:20240101T000000
END:STANDARD
END:VTIMEZONE
BEGIN:VEVENT
DTSTART;VALUE=DATE:20250301
DTEND;VALUE=DATE:20250302
DTSTAMP:20260420T044004
CREATED:20250120T125751Z
LAST-MODIFIED:20250120T125751Z
UID:9698-1740787200-1740873599@www.psr.org.pl
SUMMARY:1936 W Tatrach ukończono budowę kolei linowej na Kasprowy Wierch
DESCRIPTION:1936 У Татрах завершено будівництво канатної дороги на Каспровий Верх
URL:https://www.psr.org.pl/wydarzenie/1936-w-tatrach-ukonczono-budowe-kolei-linowej-na-kasprowy-wierch-2/
END:VEVENT
BEGIN:VEVENT
DTSTART;VALUE=DATE:20240822
DTEND;VALUE=DATE:20240823
DTSTAMP:20260420T044004
CREATED:20240321T071731Z
LAST-MODIFIED:20240321T071731Z
UID:7544-1724284800-1724371199@www.psr.org.pl
SUMMARY:1932 BBC rozpoczęła eksperymentalną emisję programu telewizyjnego
DESCRIPTION:1932 BBC розпочала експериментальну трансляцію телевізійних програм
URL:https://www.psr.org.pl/wydarzenie/1932-bbc-rozpoczela-eksperymentalna-emisje-programu-telewizyjnego-2-2/
END:VEVENT
BEGIN:VEVENT
DTSTART;VALUE=DATE:20240823
DTEND;VALUE=DATE:20240824
DTSTAMP:20260420T044004
CREATED:20240321T091005Z
LAST-MODIFIED:20240321T091005Z
UID:7562-1724371200-1724457599@www.psr.org.pl
SUMMARY:1850 Przeprowadzono kabel telegraficzny po dnie kanału La Manche
DESCRIPTION:1850 Дном каналу Ла-Манш прокладено телеграфний кабель
URL:https://www.psr.org.pl/wydarzenie/1850-przeprowadzono-kabel-telegraficzny-po-dnie-kanalu-la-manche-2-2/
END:VEVENT
BEGIN:VEVENT
DTSTART;VALUE=DATE:20240824
DTEND;VALUE=DATE:20240825
DTSTAMP:20260420T044004
CREATED:20240321T091026Z
LAST-MODIFIED:20240321T091026Z
UID:7561-1724457600-1724543999@www.psr.org.pl
SUMMARY:2006 Międzynarodowa Unia Astronomiczna odebrała Plutonowi status planety
DESCRIPTION:2006 Міжнародний астрономічний союз позбавив Плутон статусу планет
URL:https://www.psr.org.pl/wydarzenie/2006-miedzynarodowa-unia-astronomiczna-odebrala-plutonowi-status-planety-2-2/
END:VEVENT
BEGIN:VEVENT
DTSTART;VALUE=DATE:20240825
DTEND;VALUE=DATE:20240826
DTSTAMP:20260420T044004
CREATED:20240321T091049Z
LAST-MODIFIED:20240321T091049Z
UID:7560-1724544000-1724630399@www.psr.org.pl
SUMMARY:1989 Sonda Voyager 2 zbliżyła się do Neptuna na około 4800 km od szczytów chmur
DESCRIPTION:1989 Зонд «Вояджер-2» наблизився до Нептуна на відстань 4 500 тисяч км
URL:https://www.psr.org.pl/wydarzenie/1989-sonda-voyager-2-zblizyla-sie-do-neptuna-na-okolo-4800-km-od-szczytow-chmur-2/
END:VEVENT
BEGIN:VEVENT
DTSTART;VALUE=DATE:20240826
DTEND;VALUE=DATE:20240827
DTSTAMP:20260420T044004
CREATED:20240321T091123Z
LAST-MODIFIED:20240321T091123Z
UID:7559-1724630400-1724716799@www.psr.org.pl
SUMMARY:1918 Urodziła się matematyczka Katherine Johnson\, która obliczała okna startowe\, trajektorie lotów i miejsca lądowań misji załogowych NASA przed pojawieniem się komputerów
DESCRIPTION:1918 Народилася Кетрін Джонсон\, математикиня\, яка до появи комп’ютерів розрахувала стартові вікна\, траєкторії польоту і посадочних площадoк багатьох місії NASA
URL:https://www.psr.org.pl/wydarzenie/1918-urodzila-sie-matematyczka-katherine-johnson-ktora-obliczala-okna-startowe-trajektorie-lotow-i-miejsca-ladowan-misji-zalogowych-nasa-przed-pojawieniem-sie-komputerow-2/
END:VEVENT
BEGIN:VEVENT
DTSTART;VALUE=DATE:20240827
DTEND;VALUE=DATE:20240828
DTSTAMP:20260420T044004
CREATED:20240321T091142Z
LAST-MODIFIED:20240321T091142Z
UID:7558-1724716800-1724803199@www.psr.org.pl
SUMMARY:1783 Jacques Charles wypuścił w Paryżu pierwszy balon napełniony wodorem
DESCRIPTION:1783 В Парижі Жак Шарль підняв у повітря першу повітряну кулю\, наповнену воднем
URL:https://www.psr.org.pl/wydarzenie/1783-jacques-charles-wypuscil-w-paryzu-pierwszy-balon-napelniony-wodorem-2-2/
END:VEVENT
BEGIN:VEVENT
DTSTART;VALUE=DATE:20240828
DTEND;VALUE=DATE:20240829
DTSTAMP:20260420T044004
CREATED:20240321T091156Z
LAST-MODIFIED:20240321T091156Z
UID:7557-1724803200-1724889599@www.psr.org.pl
SUMMARY:1859 Rozpoczęła się największa dotąd zaobserwowana burza słoneczna
DESCRIPTION:1859 Почалася найбільша з дотепер зафіксованих сонячна буря
URL:https://www.psr.org.pl/wydarzenie/1859-rozpoczela-sie-najwieksza-dotad-zaobserwowana-burza-sloneczna-2-2/
END:VEVENT
BEGIN:VEVENT
DTSTART;VALUE=DATE:20240829
DTEND;VALUE=DATE:20240830
DTSTAMP:20260420T044004
CREATED:20240321T091305Z
LAST-MODIFIED:20240321T091305Z
UID:7574-1724889600-1724975999@www.psr.org.pl
SUMMARY:1831 Michael Faraday przeprowadził doświadczenie udowadniające istnienie zjawiska indukcji elektromagnetycznej
DESCRIPTION:1831 Майкл Фарадей провів досвід\, що довів існування явища електромагнітної індукції
URL:https://www.psr.org.pl/wydarzenie/1831-michael-faraday-przeprowadzil-doswiadczenie-udowadniajace-istnienie-zjawiska-indukcji-elektromagnetycznej-2-2/
END:VEVENT
BEGIN:VEVENT
DTSTART;VALUE=DATE:20240830
DTEND;VALUE=DATE:20240831
DTSTAMP:20260420T044004
CREATED:20240321T091323Z
LAST-MODIFIED:20240321T091323Z
UID:7573-1724976000-1725062399@www.psr.org.pl
SUMMARY:1971 Odkryto planetoidę Smirnova\, nazwaną na cześć ukraińskiej astronomki Tamary Michajłiwny Smirnowej\, odkrywczyni 135 planetoid
DESCRIPTION:1971 Відкрито планетоїд (5540) Smirnova\, названий на честь української астрономки Тамари Михайлівні Смірнової\, відкривачки 135 астероїдів
URL:https://www.psr.org.pl/wydarzenie/1971-odkryto-planetoide-smirnova-nazwana-na-czesc-ukrainskiej-astronomki-tamary-michajliwny-smirnowej-odkrywczyni-135-planetoid-2/
END:VEVENT
BEGIN:VEVENT
DTSTART;VALUE=DATE:20240831
DTEND;VALUE=DATE:20240901
DTSTAMP:20260420T044004
CREATED:20240321T091344Z
LAST-MODIFIED:20240321T091344Z
UID:7572-1725062400-1725148799@www.psr.org.pl
SUMMARY:1949 Urodził się Hugh David Politzer – fizyk\, badacz silnych oddziaływań między cząstkami elementarnymi
DESCRIPTION:1949 Народився Х’ю Девід Поліцер\, фізик\, дослідник сильної взаємодії між елементарними частинками
URL:https://www.psr.org.pl/wydarzenie/1949-urodzil-sie-hugh-david-politzer-fizyk-badacz-silnych-oddzialywan-miedzy-czastkami-elementarnymi-2-2/
END:VEVENT
BEGIN:VEVENT
DTSTART;VALUE=DATE:20240901
DTEND;VALUE=DATE:20240902
DTSTAMP:20260420T044004
CREATED:20240321T091408Z
LAST-MODIFIED:20240321T091408Z
UID:7571-1725148800-1725235199@www.psr.org.pl
SUMMARY:1364 Założono Akademię Krakowską (dziś UJ) - najstarszą uczelnię w Polsce i jedną z najstarszych w Europie
DESCRIPTION:1364 Засновано Краківську академію (сьогодні Ягеллонський університет) – найстаріший у Польщі й один із найстаріших в Європі вищій навчальний заклад
URL:https://www.psr.org.pl/wydarzenie/1364-zalozono-akademie-krakowska-dzis-uj-najstarsza-uczelnie-w-polsce-i-jedna-z-najstarszych-w-europie-2-2/
END:VEVENT
BEGIN:VEVENT
DTSTART;VALUE=DATE:20240902
DTEND;VALUE=DATE:20240903
DTSTAMP:20260420T044004
CREATED:20240321T091425Z
LAST-MODIFIED:20240321T091425Z
UID:7570-1725235200-1725321599@www.psr.org.pl
SUMMARY:1859 Rozpoczęła się największa znana w historii burza magnetyczna\, która poważnie uszkodziła sieci telegraficzne
DESCRIPTION:1859 Почався найбільший з нам відомих магнітний шторм\, який серйозно пошкодив телеграфні мережі
URL:https://www.psr.org.pl/wydarzenie/1859-rozpoczela-sie-najwieksza-znana-w-historii-burza-magnetyczna-ktora-powaznie-uszkodzila-sieci-telegraficzne-2-2/
END:VEVENT
BEGIN:VEVENT
DTSTART;VALUE=DATE:20240903
DTEND;VALUE=DATE:20240904
DTSTAMP:20260420T044004
CREATED:20240321T091457Z
LAST-MODIFIED:20240321T091457Z
UID:7569-1725321600-1725407999@www.psr.org.pl
SUMMARY:1953 Weszła w życie Europejska Konwencja Praw Człowieka
DESCRIPTION:1953 Набула чинності Європейська конвенція про захист прав людини
URL:https://www.psr.org.pl/wydarzenie/1953-weszla-w-zycie-europejska-konwencja-praw-czlowieka-2-2/
END:VEVENT
BEGIN:VEVENT
DTSTART;VALUE=DATE:20240904
DTEND;VALUE=DATE:20240905
DTSTAMP:20260420T044004
CREATED:20240321T091918Z
LAST-MODIFIED:20240321T091918Z
UID:7587-1725408000-1725494399@www.psr.org.pl
SUMMARY:1882 Thomas Edison uruchomił w Nowym Jorku pierwszą na świecie komercyjną elektrownię
DESCRIPTION:1882 У Нью-Йорку Томас Едісон відкрив першу у світі комерційну електростанцію
URL:https://www.psr.org.pl/wydarzenie/1882-thomas-edison-uruchomil-w-nowym-jorku-pierwsza-na-swiecie-komercyjna-elektrownie-2-2/
END:VEVENT
BEGIN:VEVENT
DTSTART;VALUE=DATE:20240905
DTEND;VALUE=DATE:20240906
DTSTAMP:20260420T044004
CREATED:20240321T091943Z
LAST-MODIFIED:20240321T091943Z
UID:7586-1725494400-1725580799@www.psr.org.pl
SUMMARY:1977 Wystrzelono sondę Voyager 1\, obecnie najdalszy działający obiekt wysłany w kosmos (w 2012 r. wyleciała poza Układ Słoneczny)
DESCRIPTION:1977 Стартував зонд «Вояджер-1»\, найбільш віддалений від Землі рукотворний об’єкт (у 2012 році він залишив межі сонячної системи)
URL:https://www.psr.org.pl/wydarzenie/1977-wystrzelono-sonde-voyager-1-obecnie-najdalszy-dzialajacy-obiekt-wyslany-w-kosmos-w-2012-r-wyleciala-poza-uklad-sloneczny-2-2/
END:VEVENT
BEGIN:VEVENT
DTSTART;VALUE=DATE:20240906
DTEND;VALUE=DATE:20240907
DTSTAMP:20260420T044004
CREATED:20240321T092013Z
LAST-MODIFIED:20240321T092013Z
UID:7585-1725580800-1725667199@www.psr.org.pl
SUMMARY:1522 Okręt Victoria\, jedyny pozostały z ekspedycji Ferdynanda Magellana\, powrócił do Hiszpanii z pierwszej wyprawy dookoła świata
DESCRIPTION:1522 До Іспанії повернувся корабель «Вікторія»\, єдиний вцілілий з навколосвітньої експедиції Фернана Магеллана
URL:https://www.psr.org.pl/wydarzenie/1522-okret-victoria-jedyny-pozostaly-z-ekspedycji-ferdynanda-magellana-powrocil-do-hiszpanii-z-pierwszej-wyprawy-dookola-swiata-2-2/
END:VEVENT
BEGIN:VEVENT
DTSTART;VALUE=DATE:20240907
DTEND;VALUE=DATE:20240908
DTSTAMP:20260420T044004
CREATED:20240321T092044Z
LAST-MODIFIED:20240321T092044Z
UID:7584-1725667200-1725753599@www.psr.org.pl
SUMMARY:2013 Wystrzelono amerykańską sondę LADEE w celu zbadania atmosfery Księżyca
DESCRIPTION:2013 Стартував американський зонд «LADEE» для дослідження атмосфери Місяця
URL:https://www.psr.org.pl/wydarzenie/2013-wystrzelono-amerykanska-sonde-ladee-w-celu-zbadania-atmosfery-ksiezyca-2-2/
END:VEVENT
BEGIN:VEVENT
DTSTART;VALUE=DATE:20240908
DTEND;VALUE=DATE:20240909
DTSTAMP:20260420T044004
CREATED:20240321T092112Z
LAST-MODIFIED:20240321T092112Z
UID:7583-1725753600-1725839999@www.psr.org.pl
SUMMARY:1504 Na głównym placu Florencji odsłonięto rzeźbę Dawid Michała Anioła\, która stała tam przez kolejne 369 lat
DESCRIPTION:1504 На головній площі Флоренції встановлено скульптуру «Давид» Мікеланджело\, що простояла там 369 років
URL:https://www.psr.org.pl/wydarzenie/1504-na-glownym-placu-florencji-odslonieto-rzezbe-dawid-michala-aniola-ktora-stala-tam-przez-kolejne-369-lat-2-2/
END:VEVENT
BEGIN:VEVENT
DTSTART;VALUE=DATE:20240909
DTEND;VALUE=DATE:20240910
DTSTAMP:20260420T044004
CREATED:20240321T092129Z
LAST-MODIFIED:20240321T092129Z
UID:7582-1725840000-1725926399@www.psr.org.pl
SUMMARY:1896 Ludwik Rehn przeprowadził pierwszą udaną operację serca
DESCRIPTION:1896 Людвіг Ренн провів першу успішну операцію на серці
URL:https://www.psr.org.pl/wydarzenie/1896-ludwik-rehn-przeprowadzil-pierwsza-udana-operacje-serca-2-2/
END:VEVENT
BEGIN:VEVENT
DTSTART;VALUE=DATE:20240910
DTEND;VALUE=DATE:20240911
DTSTAMP:20260420T044004
CREATED:20240321T092404Z
LAST-MODIFIED:20240321T092404Z
UID:7599-1725926400-1726012799@www.psr.org.pl
SUMMARY:1913 Pierwsza autostrada połączyła Wschodnie i Zachodnie Wybrzeże Stanów Zjednoczonych
DESCRIPTION:1913 Східне і Західне узбережжя Сполучених Штатів поєднано першою автострадою
URL:https://www.psr.org.pl/wydarzenie/1913-pierwsza-autostrada-polaczyla-wschodnie-i-zachodnie-wybrzeze-stanow-zjednoczonych-2-2/
END:VEVENT
BEGIN:VEVENT
DTSTART;VALUE=DATE:20240911
DTEND;VALUE=DATE:20240912
DTSTAMP:20260420T044004
CREATED:20240321T092429Z
LAST-MODIFIED:20240321T092429Z
UID:7598-1726012800-1726099199@www.psr.org.pl
SUMMARY:1981 Zwodowano okręt hydrograficzny ORP „Heweliusz”
DESCRIPTION:1981 Спущено на воду перший гідрографічний дослідницький корабель ВМС Польщі „Heweliusz”.
URL:https://www.psr.org.pl/wydarzenie/1981-zwodowano-okret-hydrograficzny-orp-heweliusz-2-2/
END:VEVENT
BEGIN:VEVENT
DTSTART;VALUE=DATE:20240912
DTEND;VALUE=DATE:20240913
DTSTAMP:20260420T044004
CREATED:20240321T092516Z
LAST-MODIFIED:20240321T092516Z
UID:7597-1726099200-1726185599@www.psr.org.pl
SUMMARY:1940 Odkryto paleolityczne malowidła naskalne w jaskini Lascaux we Francji
DESCRIPTION:1940 Відкрито наскельний палеолітичний живопис у печері Ласко\, Франція
URL:https://www.psr.org.pl/wydarzenie/1940-odkryto-paleolityczne-malowidla-naskalne-w-jaskini-lascaux-we-francji-2-2/
END:VEVENT
BEGIN:VEVENT
DTSTART;VALUE=DATE:20240913
DTEND;VALUE=DATE:20240914
DTSTAMP:20260420T044004
CREATED:20240321T092534Z
LAST-MODIFIED:20240321T092534Z
UID:7596-1726185600-1726271999@www.psr.org.pl
SUMMARY:1921 Urodził się Stanisław Lem\, autor „Bajek Robotów”\, „Cyberiady” i „Solaris”
DESCRIPTION:1921 Народився Станіслав Лем\, автор „Казок роботів”\, „Кіберіади” та „Соляріса”
URL:https://www.psr.org.pl/wydarzenie/1921-urodzil-sie-stanislaw-lem-autor-bajek-robotow-cyberiady-i-solaris-2-2/
END:VEVENT
BEGIN:VEVENT
DTSTART;VALUE=DATE:20240914
DTEND;VALUE=DATE:20240915
DTSTAMP:20260420T044004
CREATED:20240321T092556Z
LAST-MODIFIED:20240321T092556Z
UID:7595-1726272000-1726358399@www.psr.org.pl
SUMMARY:2015 Detektory LIGO w Stanach Zjednoczonych po raz pierwszy w historii zarejestrowały falę grawitacyjną
DESCRIPTION:2015 Детектори LIGO у Сполучених Штатах вперше в історії зареєстрували гравітаційні хвилі
URL:https://www.psr.org.pl/wydarzenie/2015-detektory-ligo-w-stanach-zjednoczonych-po-raz-pierwszy-w-historii-zarejestrowaly-fale-grawitacyjna-2-2/
END:VEVENT
BEGIN:VEVENT
DTSTART;VALUE=DATE:20240915
DTEND;VALUE=DATE:20240916
DTSTAMP:20260420T044004
CREATED:20240321T092615Z
LAST-MODIFIED:20240321T092615Z
UID:7594-1726358400-1726444799@www.psr.org.pl
SUMMARY:1835 Karol Darwin przybył na pokładzie statku HMS Beagle na wyspy Galapagos
DESCRIPTION:1835 Чарлз Дарвін на борту бріга «Бігль» прибув на Галапагоські острови
URL:https://www.psr.org.pl/wydarzenie/1835-karol-darwin-przybyl-na-pokladzie-statku-hms-beagle-na-wyspy-galapagos-2-2/
END:VEVENT
BEGIN:VEVENT
DTSTART;VALUE=DATE:20240916
DTEND;VALUE=DATE:20240917
DTSTAMP:20260420T044004
CREATED:20240321T092814Z
LAST-MODIFIED:20240321T092814Z
UID:7612-1726444800-1726531199@www.psr.org.pl
SUMMARY:2021 Rozpoczęła się misja Inspiration4 firmy SpaceX: pierwszy lot na orbitę z udziałem wyłącznie niezawodowych astronautów
DESCRIPTION:2021 Розпочалася місія «Inspiration4» компанії SpaceX: перший вихід на орбіту за участю лише непрофесійних астронавтів
URL:https://www.psr.org.pl/wydarzenie/2021-rozpoczela-sie-misja-inspiration4-firmy-spacex-pierwszy-lot-na-orbite-z-udzialem-wylacznie-niezawodowych-astronautow-2-2/
END:VEVENT
BEGIN:VEVENT
DTSTART;VALUE=DATE:20240917
DTEND;VALUE=DATE:20240918
DTSTAMP:20260420T044004
CREATED:20240321T092838Z
LAST-MODIFIED:20240321T092838Z
UID:7611-1726531200-1726617599@www.psr.org.pl
SUMMARY:1789 William Herschel odkrył Mimasa\, jeden z księżyców Saturna
DESCRIPTION:1789 Вільям Гершель відкрив один із супутників Сатурна – Мімас
URL:https://www.psr.org.pl/wydarzenie/1789-william-herschel-odkryl-mimasa-jeden-z-ksiezycow-saturna-2-2/
END:VEVENT
BEGIN:VEVENT
DTSTART;VALUE=DATE:20240918
DTEND;VALUE=DATE:20240919
DTSTAMP:20260420T044004
CREATED:20240321T092904Z
LAST-MODIFIED:20240321T092904Z
UID:7610-1726617600-1726703999@www.psr.org.pl
SUMMARY:1977 Sonda Voyager 1 zrobiła pierwsze wspólne zdjęcie Ziemi i Księżyca z odległości 11\,6 mln kilometrów
DESCRIPTION:1977 З відстані 11\,6 мільйона км. зонд «Вояджер-1» зробив перше спільне фото Землі і Місяця
URL:https://www.psr.org.pl/wydarzenie/1977-sonda-voyager-1-zrobila-pierwsze-wspolne-zdjecie-ziemi-i-ksiezyca-z-odleglosci-116-mln-kilometrow-2-2/
END:VEVENT
BEGIN:VEVENT
DTSTART;VALUE=DATE:20240919
DTEND;VALUE=DATE:20240920
DTSTAMP:20260420T044004
CREATED:20240321T092929Z
LAST-MODIFIED:20240321T092929Z
UID:7609-1726704000-1726790399@www.psr.org.pl
SUMMARY:1959 Rozpoczął się program SETI\, mający na celu poszukiwanie pozaziemskich cywilizacji
DESCRIPTION:1959 Стартувала програма SETI – проєкт із пошуку позаземних цивілізацій
URL:https://www.psr.org.pl/wydarzenie/1959-rozpoczal-sie-program-seti-majacy-na-celu-poszukiwanie-pozaziemskich-cywilizacjii-2-2/
END:VEVENT
END:VCALENDAR