BEGIN:VCALENDAR
VERSION:2.0
PRODID:-//Polskie Stowarzyszenie Racjonalistów - ECPv5.16.3.1//NONSGML v1.0//EN
CALSCALE:GREGORIAN
METHOD:PUBLISH
X-ORIGINAL-URL:https://www.psr.org.pl
X-WR-CALDESC:Wydarzenia dla Polskie Stowarzyszenie Racjonalistów
REFRESH-INTERVAL;VALUE=DURATION:PT1H
X-Robots-Tag:noindex
X-PUBLISHED-TTL:PT1H
BEGIN:VTIMEZONE
TZID:UTC
BEGIN:STANDARD
TZOFFSETFROM:+0000
TZOFFSETTO:+0000
TZNAME:UTC
DTSTART:20250101T000000
END:STANDARD
END:VTIMEZONE
BEGIN:VEVENT
DTSTART;VALUE=DATE:20250301
DTEND;VALUE=DATE:20250302
DTSTAMP:20260424T190454
CREATED:20250120T125751Z
LAST-MODIFIED:20250120T125751Z
UID:9698-1740787200-1740873599@www.psr.org.pl
SUMMARY:1936 W Tatrach ukończono budowę kolei linowej na Kasprowy Wierch
DESCRIPTION:1936 У Татрах завершено будівництво канатної дороги на Каспровий Верх
URL:https://www.psr.org.pl/wydarzenie/1936-w-tatrach-ukonczono-budowe-kolei-linowej-na-kasprowy-wierch-2/
END:VEVENT
BEGIN:VEVENT
DTSTART;VALUE=DATE:20250113
DTEND;VALUE=DATE:20250114
DTSTAMP:20260424T190454
CREATED:20250119T135604Z
LAST-MODIFIED:20250120T113354Z
UID:8440-1736726400-1736812799@www.psr.org.pl
SUMMARY:1910 W Nowym Jorku dokonano pierwszej radiowej transmisji przedstawienia operowego na żywo
DESCRIPTION:1910 В Нью-Йорку відбулась перша радіотрансляція опери з оперного театру
URL:https://www.psr.org.pl/wydarzenie/1910-w-nowym-jorku-dokonano-pierwszej-radiowej-transmisji-przedstawienia-operowego-na-zywo-2-2-2/
END:VEVENT
BEGIN:VEVENT
DTSTART;VALUE=DATE:20250114
DTEND;VALUE=DATE:20250115
DTSTAMP:20260424T190454
CREATED:20250120T113356Z
LAST-MODIFIED:20250120T113356Z
UID:8439-1736812800-1736899199@www.psr.org.pl
SUMMARY:2005 Lądownik Huygens przesłał pierwsze zdjęcia z Tytana\, księżyca Saturna
DESCRIPTION:2005 Космічний зонд «Гюйгенс» відправив перші знімки супутника Сатурна – Титана
URL:https://www.psr.org.pl/wydarzenie/2005-ladownik-huygens-przeslal-pierwsze-zdjecia-z-tytana-ksiezyca-saturna-2-2-2/
END:VEVENT
BEGIN:VEVENT
DTSTART;VALUE=DATE:20250115
DTEND;VALUE=DATE:20250116
DTSTAMP:20260424T190454
CREATED:20250120T113355Z
LAST-MODIFIED:20250120T113355Z
UID:8438-1736899200-1736985599@www.psr.org.pl
SUMMARY:2003 Na Ziemię wróciła sonda Stardust wioząc próbki komety Wild 2
DESCRIPTION:2003 На Землю повернувся космічний зонд «Стардаст» зі зразками речовини комети Вільда 2
URL:https://www.psr.org.pl/wydarzenie/2003-na-ziemie-wrocila-sonda-stardust-wiozac-probki-komety-wild-2-2-2-2/
END:VEVENT
BEGIN:VEVENT
DTSTART;VALUE=DATE:20250116
DTEND;VALUE=DATE:20250117
DTSTAMP:20260424T190454
CREATED:20250120T113355Z
LAST-MODIFIED:20250120T113355Z
UID:8437-1736985600-1737071999@www.psr.org.pl
SUMMARY:1959 Utworzono Kampinoski i Karkonoski Park Narodowy
DESCRIPTION:1959 Утворено Кампіноський і Карконоський Національні парки
URL:https://www.psr.org.pl/wydarzenie/1959-utworzono-kampinoski-i-karkonoski-park-narodowy-2-2-2/
END:VEVENT
BEGIN:VEVENT
DTSTART;VALUE=DATE:20250117
DTEND;VALUE=DATE:20250118
DTSTAMP:20260424T190454
CREATED:20250120T113355Z
LAST-MODIFIED:20250120T113355Z
UID:8446-1737072000-1737158399@www.psr.org.pl
SUMMARY:1955 Pierwszy okręt podwodny o napędzie atomowym\, USS Nautilus\, wypłynął w pierwszy rejs
DESCRIPTION:1955 Перший підводний човен з ядерним реактором USS «Наутилус» вирушив у свій перший рейс
URL:https://www.psr.org.pl/wydarzenie/1955-pierwszy-okret-podwodny-o-napedzie-atomowym-uss-nautilus-wyplynal-w-pierwszy-rejs-2-2-2/
END:VEVENT
BEGIN:VEVENT
DTSTART;VALUE=DATE:20250118
DTEND;VALUE=DATE:20250119
DTSTAMP:20260424T190454
CREATED:20250120T113356Z
LAST-MODIFIED:20250120T113356Z
UID:9139-1737158400-1737244799@www.psr.org.pl
SUMMARY:1799 Nicholas Louis Robert opatentował pierwszą maszynę papierniczą
DESCRIPTION:1799 Луї-Ніколя Робер запатентував першу машину для виготовлення паперу
URL:https://www.psr.org.pl/wydarzenie/1799-nicholas-louis-robert-opatentowal-pierwsza-maszyne-papiernicza-2-2-3/
END:VEVENT
BEGIN:VEVENT
DTSTART;VALUE=DATE:20250119
DTEND;VALUE=DATE:20250120
DTSTAMP:20260424T190454
CREATED:20250120T125211Z
LAST-MODIFIED:20250120T125211Z
UID:9662-1737244800-1737331199@www.psr.org.pl
SUMMARY:1983 Firma Apple wprowadziła na rynek komputer osobisty Lisa
DESCRIPTION:
URL:https://www.psr.org.pl/wydarzenie/1983-firma-apple-wprowadzila-na-rynek-komputer-osobisty-lisa-3/
END:VEVENT
BEGIN:VEVENT
DTSTART;VALUE=DATE:20250120
DTEND;VALUE=DATE:20250121
DTSTAMP:20260424T190454
CREATED:20250120T125211Z
LAST-MODIFIED:20250120T125211Z
UID:9805-1737331200-1737417599@www.psr.org.pl
SUMMARY:1876 Urodził się Józef Hofmann\, pianista i wynalazca (m.in. wycieraczek samochodowych)
DESCRIPTION:
URL:https://www.psr.org.pl/wydarzenie/1876-urodzil-sie-jozef-hofmann-pianista-i-wynalazca-m-in-wycieraczek-samochodowych-3/
END:VEVENT
BEGIN:VEVENT
DTSTART;VALUE=DATE:20250121
DTEND;VALUE=DATE:20250122
DTSTAMP:20260424T190454
CREATED:20250120T125210Z
LAST-MODIFIED:20250120T125210Z
UID:9815-1737417600-1737503999@www.psr.org.pl
SUMMARY:1862 Powstała firma Opel\, początkowo specjalizująca się w maszynach do szycia
DESCRIPTION:
URL:https://www.psr.org.pl/wydarzenie/1862-powstala-firma-opel-poczatkowo-specjalizujaca-sie-w-maszynach-do-szycia-3/
END:VEVENT
BEGIN:VEVENT
DTSTART;VALUE=DATE:20250122
DTEND;VALUE=DATE:20250123
DTSTAMP:20260424T190454
CREATED:20250120T125317Z
LAST-MODIFIED:20250120T125317Z
UID:9667-1737504000-1737590399@www.psr.org.pl
SUMMARY:1865 Urodził się Wilbur Scoville\, chemik\, który opracował skalę i sposób mierzenia pikantności papryczek chili
DESCRIPTION:1865 Народився Вілбур Сковіл\, хімік\, який розробив тест і шкалу для вимірювання пекучості перцю чилі
URL:https://www.psr.org.pl/wydarzenie/1865-urodzil-sie-wilbur-scoville-chemik-ktory-opracowal-skale-i-sposob-mierzenia-pikantnosci-papryczek-chili-2-2-2/
END:VEVENT
BEGIN:VEVENT
DTSTART;VALUE=DATE:20250123
DTEND;VALUE=DATE:20250124
DTSTAMP:20260424T190454
CREATED:20250120T125316Z
LAST-MODIFIED:20250120T125316Z
UID:9666-1737590400-1737676799@www.psr.org.pl
SUMMARY:1843 Jakub Kryštof Rad opatentował cukier w kostkach
DESCRIPTION:1843 Якуб Криштоф Рад запатентував цукор- рафінад
URL:https://www.psr.org.pl/wydarzenie/1843-jakub-krystof-rad-opatentowal-cukier-w-kostkach-2-2-2/
END:VEVENT
BEGIN:VEVENT
DTSTART;VALUE=DATE:20250124
DTEND;VALUE=DATE:20250125
DTSTAMP:20260424T190454
CREATED:20250120T123205Z
LAST-MODIFIED:20250120T123205Z
UID:9665-1737676800-1737763199@www.psr.org.pl
SUMMARY:1860 Étienne Lenoir opatentował pierwszy użyteczny silnik spalinowy
DESCRIPTION:1860 Етьєн Ленуар запатентував перший придатний для використання двигун внутрішнього згоряння
URL:https://www.psr.org.pl/wydarzenie/1860-etienne-lenoir-opatentowal-pierwszy-uzyteczny-silnik-spalinowy-2-2-2/
END:VEVENT
BEGIN:VEVENT
DTSTART;VALUE=DATE:20250125
DTEND;VALUE=DATE:20250126
DTSTAMP:20260424T190454
CREATED:20250120T123204Z
LAST-MODIFIED:20250120T123204Z
UID:9664-1737763200-1737849599@www.psr.org.pl
SUMMARY:2004 Łazik Opportunity wylądował na Marsie i rozpoczął 15-letnie badania planety
DESCRIPTION:2004 Марсохід «Оппортьюніті» приземлився на Марс і розпочав своє 15-річне дослідження планети
URL:https://www.psr.org.pl/wydarzenie/2004-lazik-opportunity-wyladowal-na-marsie-i-rozpoczal-15-letnie-badania-planety-2-2/
END:VEVENT
BEGIN:VEVENT
DTSTART;VALUE=DATE:20250126
DTEND;VALUE=DATE:20250127
DTSTAMP:20260424T190454
CREATED:20250120T123203Z
LAST-MODIFIED:20250120T123203Z
UID:9663-1737849600-1737935999@www.psr.org.pl
SUMMARY:1926 John Logie Baird zaprezentował publicznie pierwszą transmisję telewizyjną
DESCRIPTION:1926 Джон Лоґі Берд представив публіці першу телевізійну передачу
URL:https://www.psr.org.pl/wydarzenie/1926-john-logie-baird-zaprezentowal-publicznie-pierwsza-transmisje-telewizyjna-2/
END:VEVENT
BEGIN:VEVENT
DTSTART;VALUE=DATE:20250127
DTEND;VALUE=DATE:20250128
DTSTAMP:20260424T190454
CREATED:20250120T123203Z
LAST-MODIFIED:20250120T123203Z
UID:9821-1737936000-1738022399@www.psr.org.pl
SUMMARY:1888 W Stanach Zjednoczonych powstało National Geographic Society
DESCRIPTION:1888 У Сполучених Штатах створено Національне Географічне Товариство
URL:https://www.psr.org.pl/wydarzenie/1888-w-stanach-zjednoczonych-powstalo-national-geographic-society-3-3/
END:VEVENT
BEGIN:VEVENT
DTSTART;VALUE=DATE:20250128
DTEND;VALUE=DATE:20250129
DTSTAMP:20260424T190454
CREATED:20250120T123202Z
LAST-MODIFIED:20250120T123202Z
UID:9823-1738022400-1738108799@www.psr.org.pl
SUMMARY:1888 W Stanach Zjednoczonych powstało National Geographic Society
DESCRIPTION:1888 У Сполучених Штатах створено Національне Географічне Товариство
URL:https://www.psr.org.pl/wydarzenie/1888-w-stanach-zjednoczonych-powstalo-national-geographic-society-2-2-3/
END:VEVENT
BEGIN:VEVENT
DTSTART;VALUE=DATE:20250129
DTEND;VALUE=DATE:20250130
DTSTAMP:20260424T190454
CREATED:20250120T123201Z
LAST-MODIFIED:20250120T123201Z
UID:9669-1738108800-1738195199@www.psr.org.pl
SUMMARY:1862 Urodził się kompozytor i miłośnik przyrody\, Frederick Delius
DESCRIPTION:1862 Народився Фредерік Деліус (1862 – 1934)\, композитор і шанувальник природи
URL:https://www.psr.org.pl/wydarzenie/1862-urodzil-sie-kompozytor-i-milosnik-przyrody-frederick-delius-2-2-2/
END:VEVENT
BEGIN:VEVENT
DTSTART;VALUE=DATE:20250130
DTEND;VALUE=DATE:20250131
DTSTAMP:20260424T190454
CREATED:20250120T123201Z
LAST-MODIFIED:20250120T123201Z
UID:9817-1738195200-1738281599@www.psr.org.pl
SUMMARY:1814 W Elblągu urodził się Ferdinand Schichau\, konstruktor maszyn parowych\, okrętów i parowozów
DESCRIPTION:1814 В м. Ельблонг\, народився Фердинанд Шихау\, конструктор парових двигунів\, кораблів і паровозів
URL:https://www.psr.org.pl/wydarzenie/1814-w-elblagu-urodzil-sie-ferdinand-schichau-konstruktor-maszyn-parowych-okretow-i-parowozow-3/
END:VEVENT
BEGIN:VEVENT
DTSTART;VALUE=DATE:20250131
DTEND;VALUE=DATE:20250201
DTSTAMP:20260424T190454
CREATED:20250120T123200Z
LAST-MODIFIED:20250120T123200Z
UID:9825-1738281600-1738367999@www.psr.org.pl
SUMMARY:1971 Wystartowała misja Apollo 14\, podczas której astronauci zagrali w księżycowego golfa
DESCRIPTION:1971 Розпочалася місія «Аполлона-14»\, під час якої астронавти зіграли в місячний гольф
URL:https://www.psr.org.pl/wydarzenie/1971-wystartowala-misja-apollo-14-podczas-ktorej-astronauci-zagrali-w-ksiezycowego-golfa-2-2-3/
END:VEVENT
BEGIN:VEVENT
DTSTART;VALUE=DATE:20250201
DTEND;VALUE=DATE:20250202
DTSTAMP:20260424T190454
CREATED:20250120T123159Z
LAST-MODIFIED:20250120T123159Z
UID:9677-1738368000-1738454399@www.psr.org.pl
SUMMARY:1928 Paul Dirac opublikował pracę\, w której przewidział istnienie pozytonu\, a tym samym antymaterii
DESCRIPTION:1928 Поль Дірак опублікував статтю\, в якій передбачив існування позитрона\, а отже\, і антиматерії
URL:https://www.psr.org.pl/wydarzenie/1928-paul-dirac-opublikowal-prace-w-ktorej-przewidzial-istnienie-pozytonu-a-tym-samym-antymaterii-2/
END:VEVENT
BEGIN:VEVENT
DTSTART;VALUE=DATE:20250202
DTEND;VALUE=DATE:20250203
DTSTAMP:20260424T190454
CREATED:20250120T123159Z
LAST-MODIFIED:20250121T101652Z
UID:9833-1738454400-1738540799@www.psr.org.pl
SUMMARY:1845 Urodził się Iwan Pawłowycz Puluj\, pionier stosowania promieni X w medycynie za pomocą tzw. „lampy Puluja”
DESCRIPTION:1845 Народився Іван Павлович Пулюй\, піонер використання Х-променів для візуалізації в медицині за допомогою т.зв. „Лампи Пулюя”
URL:https://www.psr.org.pl/wydarzenie/1845-urodzil-sie-iwan-pawlowycz-puluj-pionier-stosowania-promieni-x-w-medycynie-za-pomoca-tzw-lampy-puluja/
END:VEVENT
BEGIN:VEVENT
DTSTART;VALUE=DATE:20250203
DTEND;VALUE=DATE:20250204
DTSTAMP:20260424T190454
CREATED:20250120T125316Z
LAST-MODIFIED:20250120T125316Z
UID:9675-1738540800-1738627199@www.psr.org.pl
SUMMARY:1966 Po raz pierwszy wykonany przez człowieka obiekt wylądował na Księżycu. Była to radziecka sonda Łuna 9
DESCRIPTION:1966 Вперше здійснено посадку на Місяць рукотворного об’єкта – радянської автоматичної міжпланетної станції «Луна-9»
URL:https://www.psr.org.pl/wydarzenie/1966-po-raz-pierwszy-wykonany-przez-czlowieka-obiekt-wyladowal-na-ksiezycu-byla-to-radziecka-sonda-luna-9-2-2-2/
END:VEVENT
BEGIN:VEVENT
DTSTART;VALUE=DATE:20250204
DTEND;VALUE=DATE:20250205
DTSTAMP:20260424T190454
CREATED:20250120T125316Z
LAST-MODIFIED:20250120T125316Z
UID:9674-1738627200-1738713599@www.psr.org.pl
SUMMARY:2004 Na Uniwersytecie Harvarda po raz pierwszy uruchomiono Facebooka
DESCRIPTION:2004 У Гарвардському університеті вперше запущено мережу Facebook
URL:https://www.psr.org.pl/wydarzenie/2004-na-uniwersytecie-harvarda-po-raz-pierwszy-uruchomiono-facebooka-2-2-2/
END:VEVENT
BEGIN:VEVENT
DTSTART;VALUE=DATE:20250205
DTEND;VALUE=DATE:20250206
DTSTAMP:20260424T190454
CREATED:20250120T125315Z
LAST-MODIFIED:20250120T125315Z
UID:9673-1738713600-1738799999@www.psr.org.pl
SUMMARY:1840 Urodził się John Boyd Dunlop\, właściciel patentu na opony pneumatyczne używane w rowerach
DESCRIPTION:1840 Народився Джон Бойд Данлоп\, власник патенту на пневматичну велосипедну шину
URL:https://www.psr.org.pl/wydarzenie/1840-urodzil-sie-john-boyd-dunlop-wlasciciel-patentu-na-opony-pneumatyczne-uzywane-w-rowerach-2-2-2/
END:VEVENT
BEGIN:VEVENT
DTSTART;VALUE=DATE:20250206
DTEND;VALUE=DATE:20250207
DTSTAMP:20260424T190454
CREATED:20250120T125506Z
LAST-MODIFIED:20250120T125506Z
UID:9682-1738800000-1738886399@www.psr.org.pl
SUMMARY:2018 Odbył się pierwszy lot rakiety nośnej Falcon Heavy\, zdolnej dostarczyć 16\,8 ton ładunku na orbitę Marsa
DESCRIPTION:2018 Відбувся перший політ ракети-носія «Falcon Heavy»\, здатної доставити на орбіту Марса 16\,8 т. вантажу
URL:https://www.psr.org.pl/wydarzenie/2018-odbyl-sie-pierwszy-lot-rakiety-nosnej-falcon-heavy-zdolnej-dostarczyc-168-ton-ladunku-na-orbite-marsa-2-2-2/
END:VEVENT
BEGIN:VEVENT
DTSTART;VALUE=DATE:20250207
DTEND;VALUE=DATE:20250208
DTSTAMP:20260424T190454
CREATED:20250120T125506Z
LAST-MODIFIED:20250120T125506Z
UID:9681-1738886400-1738972799@www.psr.org.pl
SUMMARY:1908 W Warszawie uruchomiono Elektrownię Tramwajów Miejskich
DESCRIPTION:1908 У Варшаві введено в експлуатацію електростанцію міського трамваю
URL:https://www.psr.org.pl/wydarzenie/1908-w-warszawie-uruchomiono-elektrownie-tramwajow-miejskich-2-2-2/
END:VEVENT
BEGIN:VEVENT
DTSTART;VALUE=DATE:20250208
DTEND;VALUE=DATE:20250209
DTSTAMP:20260424T190454
CREATED:20250120T125506Z
LAST-MODIFIED:20250120T125506Z
UID:9680-1738972800-1739059199@www.psr.org.pl
SUMMARY:1834 Urodził się Dmitrij Mendelejew\, twórca układu okresowego pierwiastków
DESCRIPTION:1834 Народився Дмитро Менделєєв\, творець Періодичної Системи Елементів
URL:https://www.psr.org.pl/wydarzenie/1834-urodzil-sie-dmitrij-mendelejew-tworca-ukladu-okresowego-pierwiastkow-2-2-2/
END:VEVENT
BEGIN:VEVENT
DTSTART;VALUE=DATE:20250209
DTEND;VALUE=DATE:20250210
DTSTAMP:20260424T190454
CREATED:20250120T125506Z
LAST-MODIFIED:20250120T125506Z
UID:9679-1739059200-1739145599@www.psr.org.pl
SUMMARY:1854 Urodziła się Aletta Jacobs – lekarka\, feministka i pacyfistka; pierwsza Holenderka\, która skończyła studia medyczne
DESCRIPTION:1854 Народилася Алетта Генрієтт Якобс (1854 – 1924)\, лікарка\, феміністка і пацифістка; перша голландська жінка\, яка закінчила медичний факультет
URL:https://www.psr.org.pl/wydarzenie/1854-urodzila-sie-aletta-jacobs-lekarka-feministka-i-pacyfistka-pierwsza-holenderka-ktora-skonczyla-studia-medyczne-2-2-2/
END:VEVENT
BEGIN:VEVENT
DTSTART;VALUE=DATE:20250210
DTEND;VALUE=DATE:20250211
DTSTAMP:20260424T190454
CREATED:20250120T125505Z
LAST-MODIFIED:20250120T125505Z
UID:9678-1739145600-1739231999@www.psr.org.pl
SUMMARY:1996 Komputer Deep Blue po raz pierwszy wygrał w szachy z mistrzem świata Garri Kasparowem
DESCRIPTION:1996 Комп’ютер Deep Blue вперше виграв шахову партію у чемпіона світу Гаррі Каспарова
URL:https://www.psr.org.pl/wydarzenie/1996-komputer-deep-blue-po-raz-pierwszy-wygral-w-szachy-z-mistrzem-swiata-garri-kasparowem-2/
END:VEVENT
END:VCALENDAR