BEGIN:VCALENDAR
VERSION:2.0
PRODID:-//Polskie Stowarzyszenie Racjonalistów - ECPv5.16.3.1//NONSGML v1.0//EN
CALSCALE:GREGORIAN
METHOD:PUBLISH
X-ORIGINAL-URL:https://www.psr.org.pl
X-WR-CALDESC:Wydarzenia dla Polskie Stowarzyszenie Racjonalistów
REFRESH-INTERVAL;VALUE=DURATION:PT1H
X-Robots-Tag:noindex
X-PUBLISHED-TTL:PT1H
BEGIN:VTIMEZONE
TZID:UTC
BEGIN:STANDARD
TZOFFSETFROM:+0000
TZOFFSETTO:+0000
TZNAME:UTC
DTSTART:20250101T000000
END:STANDARD
END:VTIMEZONE
BEGIN:VEVENT
DTSTART;VALUE=DATE:20250301
DTEND;VALUE=DATE:20250302
DTSTAMP:20260424T204142
CREATED:20250120T125751Z
LAST-MODIFIED:20250120T125751Z
UID:9698-1740787200-1740873599@www.psr.org.pl
SUMMARY:1936 W Tatrach ukończono budowę kolei linowej na Kasprowy Wierch
DESCRIPTION:1936 У Татрах завершено будівництво канатної дороги на Каспровий Верх
URL:https://www.psr.org.pl/wydarzenie/1936-w-tatrach-ukonczono-budowe-kolei-linowej-na-kasprowy-wierch-2/
END:VEVENT
BEGIN:VEVENT
DTSTART;VALUE=DATE:20250220
DTEND;VALUE=DATE:20250221
DTSTAMP:20260424T204142
CREATED:20250120T125648Z
LAST-MODIFIED:20250120T125648Z
UID:9692-1740009600-1740095999@www.psr.org.pl
SUMMARY:1935 Caroline Mikkelsen jako pierwsza kobieta postawiła stopę na Antarktydzie
DESCRIPTION:1935 Керолайн Міккельсен стала першою жінкою\, що ступила на землю Антарктиди
URL:https://www.psr.org.pl/wydarzenie/1935-caroline-mikkelsen-jako-pierwsza-kobieta-postawila-stope-na-antarktydzie-2-2-2/
END:VEVENT
BEGIN:VEVENT
DTSTART;VALUE=DATE:20250221
DTEND;VALUE=DATE:20250222
DTSTAMP:20260424T204142
CREATED:20250120T125648Z
LAST-MODIFIED:20250120T125648Z
UID:9697-1740096000-1740182399@www.psr.org.pl
SUMMARY:2006 Na orbicie znalazł się japoński Akari\, teleskop promieniowania podczerwonego
DESCRIPTION:2006 Японський інфрачервоний телескоп «Акарі» виведений на орбіту
URL:https://www.psr.org.pl/wydarzenie/2006-na-orbicie-znalazl-sie-japonski-akari-teleskop-promieniowania-podczerwonego-2-2-2/
END:VEVENT
BEGIN:VEVENT
DTSTART;VALUE=DATE:20250222
DTEND;VALUE=DATE:20250223
DTSTAMP:20260424T204142
CREATED:20250120T125648Z
LAST-MODIFIED:20250120T125648Z
UID:9696-1740182400-1740268799@www.psr.org.pl
SUMMARY:1904 Argentyńczycy uruchomili stację Orcadas\, najstarszą stałą placówkę badawczą w Antarktyce
DESCRIPTION:1904 Аргентинці запустили станцію «Оркадас» – найстаріший постійний дослідницький об’єкт в Антарктиді
URL:https://www.psr.org.pl/wydarzenie/1904-argentynczycy-uruchomili-stacje-orcadas-najstarsza-stala-placowke-badawcza-w-antarktyce-2-2-2/
END:VEVENT
BEGIN:VEVENT
DTSTART;VALUE=DATE:20250223
DTEND;VALUE=DATE:20250224
DTSTAMP:20260424T204142
CREATED:20250120T125648Z
LAST-MODIFIED:20250120T125648Z
UID:9695-1740268800-1740355199@www.psr.org.pl
SUMMARY:1893 Rudolf Diesel opatentował silnik wysokoprężny
DESCRIPTION:1893 Рудольф Дизель запатентував дизельний двигун
URL:https://www.psr.org.pl/wydarzenie/1893-rudolf-diesel-opatentowal-silnik-wysokoprezny-2-2-2/
END:VEVENT
BEGIN:VEVENT
DTSTART;VALUE=DATE:20250224
DTEND;VALUE=DATE:20250225
DTSTAMP:20260424T204142
CREATED:20250120T125647Z
LAST-MODIFIED:20250120T125647Z
UID:9694-1740355200-1740441599@www.psr.org.pl
SUMMARY:1818 W Pałacu Radziwiłłów (dziś Pałac Prezydencki) odbył się pierwszy publiczny koncert Fryderyka Chopina
DESCRIPTION:1818 У Палаці Радзівілів (сьогодні Президентський Палац) відбувся перший публічний виступ Фридерика Шопена
URL:https://www.psr.org.pl/wydarzenie/1818-w-palacu-radziwillow-dzis-palac-prezydencki-odbyl-sie-pierwszy-publiczny-koncert-fryderyka-chopina-2-2-2/
END:VEVENT
BEGIN:VEVENT
DTSTART;VALUE=DATE:20250225
DTEND;VALUE=DATE:20250226
DTSTAMP:20260424T204142
CREATED:20250120T125647Z
LAST-MODIFIED:20250120T125647Z
UID:9693-1740441600-1740527999@www.psr.org.pl
SUMMARY:2007 Europejska sonda Rosetta przeleciała na wysokości 250 km nad powierzchnią Marsa
DESCRIPTION:2007 Європейський космічний апарат «Розетта» пролетів на висоті 250 км над поверхнею Марса
URL:https://www.psr.org.pl/wydarzenie/2007-europejska-sonda-rosetta-przeleciala-na-wysokosci-250-km-nad-powierzchnia-marsa-2-2-2/
END:VEVENT
BEGIN:VEVENT
DTSTART;VALUE=DATE:20250226
DTEND;VALUE=DATE:20250227
DTSTAMP:20260424T204142
CREATED:20250120T125752Z
LAST-MODIFIED:20250120T125752Z
UID:9702-1740528000-1740614399@www.psr.org.pl
SUMMARY:1896 Henri Becquerel odkrył zjawisko radioaktywności
DESCRIPTION:1896 Анрі Беккерель відкрив явище радіоактивності
URL:https://www.psr.org.pl/wydarzenie/1896-henri-becquerel-odkryl-zjawisko-radioaktywnosci-2-2-2/
END:VEVENT
BEGIN:VEVENT
DTSTART;VALUE=DATE:20250227
DTEND;VALUE=DATE:20250228
DTSTAMP:20260424T204142
CREATED:20250120T125751Z
LAST-MODIFIED:20250120T125751Z
UID:9701-1740614400-1740700799@www.psr.org.pl
SUMMARY:1814 W Wiedniu odbyła się premiera VII symfonii Ludwiga van Beethovena
DESCRIPTION:1814 У Відні відбулася прем’єра VII Симфонії Людвіга ван Бетховена
URL:https://www.psr.org.pl/wydarzenie/1814-w-wiedniu-odbyla-sie-premiera-vii-symfonii-ludwiga-van-beethovena-2-2-2/
END:VEVENT
BEGIN:VEVENT
DTSTART;VALUE=DATE:20250228
DTEND;VALUE=DATE:20250301
DTSTAMP:20260424T204142
CREATED:20250120T125751Z
LAST-MODIFIED:20250120T125751Z
UID:9700-1740700800-1740787199@www.psr.org.pl
SUMMARY:1935 Wallace Carothers wynalazł nylon\, używany do produkcji lin\, rajstop\, szczoteczek do zębów i piłek do koszykówki
DESCRIPTION:1935 Воллес Карозерс винайшов нейлон\, що використовується для виготовлення мотузок\, колготок\, зубних щіток і баскетбольних м’ячів
URL:https://www.psr.org.pl/wydarzenie/1935-wallace-carothers-wynalazl-nylon-uzywany-do-produkcji-lin-rajstop-szczoteczek-do-zebow-i-pilek-do-koszykowki-2-2-2/
END:VEVENT
BEGIN:VEVENT
DTSTART;VALUE=DATE:20250301
DTEND;VALUE=DATE:20250302
DTSTAMP:20260424T204142
CREATED:20250120T125750Z
LAST-MODIFIED:20250120T125750Z
UID:9699-1740787200-1740873599@www.psr.org.pl
SUMMARY:Międzynarodowy Dzień Przyszłości
DESCRIPTION:Міжнародний День Майбутнього
URL:https://www.psr.org.pl/wydarzenie/miedzynarodowy-dzien-przyszlosci-2-2-2/
END:VEVENT
BEGIN:VEVENT
DTSTART;VALUE=DATE:20250302
DTEND;VALUE=DATE:20250303
DTSTAMP:20260424T204142
CREATED:20250120T125750Z
LAST-MODIFIED:20250120T125750Z
UID:9708-1740873600-1740959999@www.psr.org.pl
SUMMARY:1901 Urodziła się Grete Hermann – matematyczka\, która objaśniła filozofom odkrycia mechaniki kwantowej
DESCRIPTION:1901 Народилася Грета Герман\, математикиня і філософиня\, що пояснила філософам відкриття квантової механіки
URL:https://www.psr.org.pl/wydarzenie/1901-urodzila-sie-grete-hermann-matematyczka-ktora-objasnila-filozofom-odkrycia-mechaniki-kwantowej-2-2-2/
END:VEVENT
BEGIN:VEVENT
DTSTART;VALUE=DATE:20250303
DTEND;VALUE=DATE:20250304
DTSTAMP:20260424T204142
CREATED:20250120T125750Z
LAST-MODIFIED:20250120T125750Z
UID:9707-1740960000-1741046399@www.psr.org.pl
SUMMARY:2002 Kanał informacyjny TVP3 wyemitował pierwszy program
DESCRIPTION:2002 Телеканал новин TVP3 вийшов в ефір з першою програмою
URL:https://www.psr.org.pl/wydarzenie/2002-kanal-informacyjny-tvp3-wyemitowal-pierwszy-program-2-2-2/
END:VEVENT
BEGIN:VEVENT
DTSTART;VALUE=DATE:20250304
DTEND;VALUE=DATE:20250305
DTSTAMP:20260424T204142
CREATED:20250120T125750Z
LAST-MODIFIED:20250120T125750Z
UID:9706-1741046400-1741132799@www.psr.org.pl
SUMMARY:1904 Urodził się George Gamow\, twórca modelu powstania jąder atomowych w Wielkim Wybuchu
DESCRIPTION:1904 Народився Георгій Гамов\, творець моделі утворення атомних ядер у Великому Вибуху
URL:https://www.psr.org.pl/wydarzenie/1904-urodzil-sie-george-gamow-tworca-modelu-powstania-jader-atomowych-w-wielkim-wybuchu-2-2/
END:VEVENT
BEGIN:VEVENT
DTSTART;VALUE=DATE:20250305
DTEND;VALUE=DATE:20250306
DTSTAMP:20260424T204142
CREATED:20250120T125749Z
LAST-MODIFIED:20250120T125749Z
UID:9705-1741132800-1741219199@www.psr.org.pl
SUMMARY:1979 Sonda Voyager 1 zbliżyła się do Jowisza na odległość około 280 000 km od szczytów chmur
DESCRIPTION:1979 Космічний зонд «Вояджер-1» наблизився до Юпітера на відстань приблизно 280 000 км
URL:https://www.psr.org.pl/wydarzenie/1979-sonda-voyager-1-zblizyla-sie-do-jowisza-na-odleglosc-okolo-280-000-km-od-szczytow-chmur-2-2-2/
END:VEVENT
BEGIN:VEVENT
DTSTART;VALUE=DATE:20250306
DTEND;VALUE=DATE:20250307
DTSTAMP:20260424T204142
CREATED:20250120T125749Z
LAST-MODIFIED:20250121T102058Z
UID:9704-1741219200-1741305599@www.psr.org.pl
SUMMARY:1899 Zarejestrowanie aspiryny\, pierwszego syntetycznego leku\, dało początek przemysłowi farmaceutycznemu
DESCRIPTION:1899 Зареєстровано перші синтетичні ліки – аспірин компанії Байєр\, що дало початок фармацевтичній індустрії
URL:https://www.psr.org.pl/wydarzenie/1899-zarejestrowanie-aspiryny-pierwszego-syntetycznego-leku-dalo-poczatek-przemyslowi-farmaceutycznemu/
END:VEVENT
BEGIN:VEVENT
DTSTART;VALUE=DATE:20250307
DTEND;VALUE=DATE:20250308
DTSTAMP:20260424T204142
CREATED:20250120T125842Z
LAST-MODIFIED:20250120T125842Z
UID:9703-1741305600-1741391999@www.psr.org.pl
SUMMARY:1912 Henri Seimet przeleciał samolotem z Paryża do Londynu bez międzylądowania
DESCRIPTION:1912 Генрі Сеймет здійснив перший безпосадковий переліт на літаку з Парижа до Лондона
URL:https://www.psr.org.pl/wydarzenie/1912-henri-seimet-przelecial-samolotem-z-paryza-do-londynu-bez-miedzyladowania-2-2-2/
END:VEVENT
BEGIN:VEVENT
DTSTART;VALUE=DATE:20250308
DTEND;VALUE=DATE:20250309
DTSTAMP:20260424T204142
CREATED:20250120T125841Z
LAST-MODIFIED:20250120T125841Z
UID:9714-1741392000-1741478399@www.psr.org.pl
SUMMARY:1865 Gregor Mendel przedstawił podczas wykładu w Brnie swoje odkrycia dotyczące zasad dziedziczenia
DESCRIPTION:1865 На лекції в Брно Грегор Мендель представив свої висновки про принципи спадковості
URL:https://www.psr.org.pl/wydarzenie/1865-gregor-mendel-przedstawil-podczas-wykladu-w-brnie-swoje-odkrycia-dotyczace-zasad-dziedziczenia-2/
END:VEVENT
BEGIN:VEVENT
DTSTART;VALUE=DATE:20250309
DTEND;VALUE=DATE:20250310
DTSTAMP:20260424T204142
CREATED:20250120T125841Z
LAST-MODIFIED:20250120T125841Z
UID:9711-1741478400-1741564799@www.psr.org.pl
SUMMARY:1900 Urodził się Howard Aiken\, współtwórca jednej z pierwszych maszyn cyfrowych – komputera Harvard Mark I
DESCRIPTION:1900 Народився Говард Ейкен\, співтворець однієї з перших обчислювальних машин – комп’ютера «Гарвардський Марк I»
URL:https://www.psr.org.pl/wydarzenie/1900-urodzil-sie-howard-aiken-wspoltworca-jednej-z-pierwszych-maszyn-cyfrowych-komputera-harvard-mark-i-2-2-2/
END:VEVENT
BEGIN:VEVENT
DTSTART;VALUE=DATE:20250310
DTEND;VALUE=DATE:20250311
DTSTAMP:20260424T204142
CREATED:20250120T125841Z
LAST-MODIFIED:20250120T125841Z
UID:9710-1741564800-1741651199@www.psr.org.pl
SUMMARY:1934 Uchwalono pierwszą polską ustawę o ochronie przyrody
DESCRIPTION:1934 Ухвалено перший польський закон про охорону природи
URL:https://www.psr.org.pl/wydarzenie/1934-uchwalono-pierwsza-polska-ustawe-o-ochronie-przyrody-2-2-2/
END:VEVENT
BEGIN:VEVENT
DTSTART;VALUE=DATE:20250311
DTEND;VALUE=DATE:20250312
DTSTAMP:20260424T204142
CREATED:20250120T125841Z
LAST-MODIFIED:20250120T125841Z
UID:9709-1741651200-1741737599@www.psr.org.pl
SUMMARY:1928 Otwarto Ogród Zoologiczny w Warszawie
DESCRIPTION:1928 У Варшаві відкрито зоопарк
URL:https://www.psr.org.pl/wydarzenie/1928-otwarto-ogrod-zoologiczny-w-warszawie-2-2-2/
END:VEVENT
BEGIN:VEVENT
DTSTART;VALUE=DATE:20250312
DTEND;VALUE=DATE:20250313
DTSTAMP:20260424T204142
CREATED:20250120T125840Z
LAST-MODIFIED:20250120T125840Z
UID:9713-1741737600-1741823999@www.psr.org.pl
SUMMARY:1838 Urodził się William Henry Perkin\, twórca pierwszego barwnika syntetycznego - moweiny
DESCRIPTION:1838 Народився Вільям Генрі Перкін (1838 – 1907)\, творець одного з перших синтетичних барвників – мовеїну (1856)
URL:https://www.psr.org.pl/wydarzenie/1838-urodzil-sie-william-henry-perkin-tworca-pierwszego-barwnika-syntetycznego-moweiny-2-2-2/
END:VEVENT
BEGIN:VEVENT
DTSTART;VALUE=DATE:20250313
DTEND;VALUE=DATE:20250314
DTSTAMP:20260424T204142
CREATED:20250120T125840Z
LAST-MODIFIED:20250120T125840Z
UID:9712-1741824000-1741910399@www.psr.org.pl
SUMMARY:1781 William Herschel ogłosił odkrycie nowej planety – Urana
DESCRIPTION:1781 Вільям Гершель оголосив про відкриття нової планети – Урана
URL:https://www.psr.org.pl/wydarzenie/1781-william-herschel-oglosil-odkrycie-nowej-planety-urana-2-2-2/
END:VEVENT
BEGIN:VEVENT
DTSTART;VALUE=DATE:20250314
DTEND;VALUE=DATE:20250315
DTSTAMP:20260424T204142
CREATED:20250120T125840Z
LAST-MODIFIED:20250120T125840Z
UID:9720-1741910400-1741996799@www.psr.org.pl
SUMMARY:1879 Urodził się Albert Einstein\, twórca m.in. teorii względności i wzoru E=mc2
DESCRIPTION:1879 Народився Альберт Ейнштейн\, творець теорії відносності і формули E=mc2
URL:https://www.psr.org.pl/wydarzenie/1879-urodzil-sie-albert-einstein-tworca-m-in-teorii-wzglednosci-i-wzoru-emc2-2-2-2/
END:VEVENT
BEGIN:VEVENT
DTSTART;VALUE=DATE:20250315
DTEND;VALUE=DATE:20250316
DTSTAMP:20260424T204142
CREATED:20250120T125839Z
LAST-MODIFIED:20250120T125839Z
UID:9719-1741996800-1742083199@www.psr.org.pl
SUMMARY:1892 Jesse Reno opatentował schody ruchome
DESCRIPTION:1892 Джессі Ріно запатентував рухомі сходи – ескалатор
URL:https://www.psr.org.pl/wydarzenie/1892-jesse-reno-opatentowal-schody-ruchome-2-2-2/
END:VEVENT
BEGIN:VEVENT
DTSTART;VALUE=DATE:20250316
DTEND;VALUE=DATE:20250317
DTSTAMP:20260424T204142
CREATED:20250120T125839Z
LAST-MODIFIED:20250120T125839Z
UID:9718-1742083200-1742169599@www.psr.org.pl
SUMMARY:1901 Pierwsza linia tramwaju elektrycznego zastąpiła tramwaj konny w Krakowie
DESCRIPTION:1901 Кінний трамвай у Кракові замінено першою лінією електричного трамваю
URL:https://www.psr.org.pl/wydarzenie/1901-pierwsza-linia-tramwaju-elektrycznego-zastapila-tramwaj-konny-w-krakowie-2-2-2/
END:VEVENT
BEGIN:VEVENT
DTSTART;VALUE=DATE:20250317
DTEND;VALUE=DATE:20250318
DTSTAMP:20260424T204142
CREATED:20250120T125939Z
LAST-MODIFIED:20250120T125939Z
UID:9717-1742169600-1742255999@www.psr.org.pl
SUMMARY:1950 S. Thompson\, K. Street Jr.\, A. Ghiorso i G. Seaborg odkryli nowy pierwiastek chemiczny – kaliforn
DESCRIPTION:1950 С. Томпсон\, К. Стріт-мол.\, А. Гіорсо і Г. Сіборг відкрили новий хімічний елемент – каліфорній
URL:https://www.psr.org.pl/wydarzenie/1950-s-thompson-k-street-jr-a-ghiorso-i-g-seaborg-odkryli-nowy-pierwiastek-chemiczny-kaliforn-2-2-2/
END:VEVENT
BEGIN:VEVENT
DTSTART;VALUE=DATE:20250318
DTEND;VALUE=DATE:20250319
DTSTAMP:20260424T204142
CREATED:20250120T125939Z
LAST-MODIFIED:20250120T125939Z
UID:9716-1742256000-1742342399@www.psr.org.pl
SUMMARY:1868 Urodziła się Maude Abbott\, lekarka i uznana badaczka wrodzonych wad serca
DESCRIPTION:1868 Народилася Мод Еббот\, лікарка і відома дослідниця вроджених вад серця
URL:https://www.psr.org.pl/wydarzenie/1868-urodzila-sie-maude-abbott-lekarka-i-uznana-badaczka-wrodzonych-wad-serca-2/
END:VEVENT
BEGIN:VEVENT
DTSTART;VALUE=DATE:20250319
DTEND;VALUE=DATE:20250320
DTSTAMP:20260424T204142
CREATED:20250120T125938Z
LAST-MODIFIED:20250120T125938Z
UID:9715-1742342400-1742428799@www.psr.org.pl
SUMMARY:1990 Japonia jako trzeci kraj w historii umieściła sztucznego satelitę na orbicie Księżyca
DESCRIPTION:1990 Японія стала третьою країною в історії\, що вивела штучний супутник на орбіту Місяця
URL:https://www.psr.org.pl/wydarzenie/1990-japonia-jako-trzeci-kraj-w-historii-umiescila-sztucznego-satelite-na-orbicie-ksiezyca-2-2-2/
END:VEVENT
BEGIN:VEVENT
DTSTART;VALUE=DATE:20250320
DTEND;VALUE=DATE:20250321
DTSTAMP:20260424T204142
CREATED:20250120T125938Z
LAST-MODIFIED:20250120T125938Z
UID:9726-1742428800-1742515199@www.psr.org.pl
SUMMARY:1976 W Stoczni Gdańskiej zwodowano pierwszy w Polsce kontenerowiec
DESCRIPTION:1976 На Гданській корабельні спущенo на воду перше у Польщі класичне контейнерне судно
URL:https://www.psr.org.pl/wydarzenie/1976-w-stoczni-gdanskiej-zwodowano-pierwszy-w-polsce-kontenerowiec-2-2-2/
END:VEVENT
END:VCALENDAR