BEGIN:VCALENDAR
VERSION:2.0
PRODID:-//Polskie Stowarzyszenie Racjonalistów - ECPv5.16.3.1//NONSGML v1.0//EN
CALSCALE:GREGORIAN
METHOD:PUBLISH
X-ORIGINAL-URL:https://www.psr.org.pl
X-WR-CALDESC:Wydarzenia dla Polskie Stowarzyszenie Racjonalistów
REFRESH-INTERVAL;VALUE=DURATION:PT1H
X-Robots-Tag:noindex
X-PUBLISHED-TTL:PT1H
BEGIN:VTIMEZONE
TZID:UTC
BEGIN:STANDARD
TZOFFSETFROM:+0000
TZOFFSETTO:+0000
TZNAME:UTC
DTSTART:20250101T000000
END:STANDARD
END:VTIMEZONE
BEGIN:VEVENT
DTSTART;VALUE=DATE:20250610
DTEND;VALUE=DATE:20250611
DTSTAMP:20260419T194313
CREATED:20250120T130500Z
LAST-MODIFIED:20250120T130500Z
UID:9800-1749513600-1749599999@www.psr.org.pl
SUMMARY:1927 Urodził się Eugene Parker\, odkrywca wiatru słonecznego
DESCRIPTION:1927 Народився Юджин Паркер\, першовідкривач сонячного вітру
URL:https://www.psr.org.pl/wydarzenie/1927-urodzil-sie-eugene-parker-odkrywca-wiatru-slonecznego-2-2/
END:VEVENT
BEGIN:VEVENT
DTSTART;VALUE=DATE:20250611
DTEND;VALUE=DATE:20250612
DTSTAMP:20260419T194313
CREATED:20250120T130459Z
LAST-MODIFIED:20250120T130459Z
UID:9799-1749600000-1749686399@www.psr.org.pl
SUMMARY:2004 Sonda Cassini zrobiła zdjęcia Febe\, największego nieregularnego księżyca Saturna
DESCRIPTION:2004 Зонд «Кассіні» сфотографував найбільший серед нерегулярних супутників Сатурна – Фебу
URL:https://www.psr.org.pl/wydarzenie/2004-sonda-cassini-zrobila-zdjecia-febe-najwiekszego-nieregularnego-ksiezyca-saturna-2-2-2/
END:VEVENT
BEGIN:VEVENT
DTSTART;VALUE=DATE:20250612
DTEND;VALUE=DATE:20250613
DTSTAMP:20260419T194313
CREATED:20250120T130459Z
LAST-MODIFIED:20250120T130459Z
UID:9816-1749686400-1749772799@www.psr.org.pl
SUMMARY:1776 Urodził się Karl Friedrich Burdach\, pionier neuroanatomii\, a także twórca terminu „biologia”
DESCRIPTION:1776 Народився Карл Фрідріх Бурдах\, піонер нейроанатомії і автор терміну „біологія”
URL:https://www.psr.org.pl/wydarzenie/1776-urodzil-sie-karl-friedrich-burdach-pionier-neuroanatomii-a-takze-tworca-terminu-biologia-2/
END:VEVENT
BEGIN:VEVENT
DTSTART;VALUE=DATE:20250613
DTEND;VALUE=DATE:20250614
DTSTAMP:20260419T194313
CREATED:20250120T130459Z
LAST-MODIFIED:20250121T104828Z
UID:9814-1749772800-1749859199@www.psr.org.pl
SUMMARY:1872 Urodził się Jan Szczepanik – wynalazca telektroskopu\, filmu dźwiękowego i kolorowej kliszy filmowej
DESCRIPTION:1872 Народився Ян Щепаник\, винахідник телектроскопа (електричного телевізора)\, кольорового і звукового кінематографів
URL:https://www.psr.org.pl/wydarzenie/1872-urodzil-sie-jan-szczepanik-wynalazca-telektroskopu-filmu-dzwiekowego-i-kolorowej-kliszy-filmowej/
END:VEVENT
BEGIN:VEVENT
DTSTART;VALUE=DATE:20250614
DTEND;VALUE=DATE:20250615
DTSTAMP:20260419T194313
CREATED:20250120T130459Z
LAST-MODIFIED:20250120T130459Z
UID:9812-1749859200-1749945599@www.psr.org.pl
SUMMARY:1845 Otwarto pierwszą w Królestwie Polskim linię kolejową\, łączącą Warszawę z Wiedniem
DESCRIPTION:1845 Відкрито першу у Королівстві Польському залізничну лінію Варшава-Відень
URL:https://www.psr.org.pl/wydarzenie/1845-otwarto-pierwsza-w-krolestwie-polskim-linie-kolejowa-laczaca-warszawe-z-wiedniem-2-2-2/
END:VEVENT
BEGIN:VEVENT
DTSTART;VALUE=DATE:20250615
DTEND;VALUE=DATE:20250616
DTSTAMP:20260419T194313
CREATED:20250120T130535Z
LAST-MODIFIED:20250120T130535Z
UID:9810-1749945600-1750031999@www.psr.org.pl
SUMMARY:1752 Benjamin Franklin przeprowadził eksperyment udowadniający\, że piorun jest zjawiskiem elektrycznym
DESCRIPTION:1752 Бенджамін Франклін здійснив експеримент\, який довів\, що блискавка має електричну природу
URL:https://www.psr.org.pl/wydarzenie/1752-benjamin-franklin-przeprowadzil-eksperyment-udowadniajacy-ze-piorun-jest-zjawiskiem-elektrycznym-2-2-2/
END:VEVENT
BEGIN:VEVENT
DTSTART;VALUE=DATE:20250616
DTEND;VALUE=DATE:20250617
DTSTAMP:20260419T194313
CREATED:20250120T130535Z
LAST-MODIFIED:20250121T105006Z
UID:9808-1750032000-1750118399@www.psr.org.pl
SUMMARY:1902 Urodziła się Barbara McClintock\, odkrywczyni transpozonów (ruchomych sekwencji DNA)
DESCRIPTION:1902 Народилася Барбара Мак-Клінток\, вчена-цитогенетик\, першовідкривачка транспозонів (стрибаючих генів)
URL:https://www.psr.org.pl/wydarzenie/1902-urodzila-sie-barbara-mcclintock-odkrywczyni-transpozonow-ruchomych-sekwencji-dna/
END:VEVENT
BEGIN:VEVENT
DTSTART;VALUE=DATE:20250617
DTEND;VALUE=DATE:20250618
DTSTAMP:20260419T194313
CREATED:20250120T130534Z
LAST-MODIFIED:20250120T130534Z
UID:9806-1750118400-1750204799@www.psr.org.pl
SUMMARY:1885 Do Nowego Jorku przybyła z Francji Statua Wolności
DESCRIPTION:1885 У Нью-Йорк прибула з Франції Статуя Свободи
URL:https://www.psr.org.pl/wydarzenie/1885-do-nowego-jorku-przybyla-z-francji-statua-wolnosci-2-2-2/
END:VEVENT
BEGIN:VEVENT
DTSTART;VALUE=DATE:20250618
DTEND;VALUE=DATE:20250619
DTSTAMP:20260419T194313
CREATED:20250120T130534Z
LAST-MODIFIED:20250120T130534Z
UID:9818-1750204800-1750291199@www.psr.org.pl
SUMMARY:1992 Uruchomiono pierwszą polską sieć telefonii komórkowej\, PTK Centertel
DESCRIPTION:1992 Запущено першу польську мережу мобільного зв’язку PTK Centertel
URL:https://www.psr.org.pl/wydarzenie/1992-uruchomiono-pierwsza-polska-siec-telefonii-komorkowej-ptk-centertel-2-2-2/
END:VEVENT
BEGIN:VEVENT
DTSTART;VALUE=DATE:20250619
DTEND;VALUE=DATE:20250620
DTSTAMP:20260419T194313
CREATED:20250120T130534Z
LAST-MODIFIED:20250120T130534Z
UID:9828-1750291200-1750377599@www.psr.org.pl
SUMMARY:1963 Kosmonautka Walentina Tierieszkowa powróciła na Ziemię po ukończeniu lotu kosmicznego Wostok 6
DESCRIPTION:1963 Космонавтка Валентина Терешкова повернулася на землю після закінчення польоту на космічному кораблі «Восток-6»
URL:https://www.psr.org.pl/wydarzenie/1963-kosmonautka-walentina-tierieszkowa-powrocila-na-ziemie-po-ukonczeniu-lotu-kosmicznego-wostok-6-2-2-2/
END:VEVENT
BEGIN:VEVENT
DTSTART;VALUE=DATE:20250620
DTEND;VALUE=DATE:20250621
DTSTAMP:20260419T194313
CREATED:20250120T130533Z
LAST-MODIFIED:20250121T105140Z
UID:9826-1750377600-1750463999@www.psr.org.pl
SUMMARY:1916 Urodziła się A. Dziewulska-Łosiowa\, założycielka stacji pomiarów ozonu atmosferycznego w Belsku
DESCRIPTION:1916 Народилася Анєла Дзевульська-Лосьова\, астрономка\, засновниця станції вимірювання атмосферного озону у Бельську
URL:https://www.psr.org.pl/wydarzenie/1916-urodzila-sie-a-dziewulska-losiowa-zalozycielka-stacji-pomiarow-ozonu-atmosferycznego-w-belsku/
END:VEVENT
BEGIN:VEVENT
DTSTART;VALUE=DATE:20250621
DTEND;VALUE=DATE:20250622
DTSTAMP:20260419T194313
CREATED:20250120T130533Z
LAST-MODIFIED:20250121T105241Z
UID:9824-1750464000-1750550399@www.psr.org.pl
SUMMARY:1948 Na Manchester Small-Scale Experimental Machine uruchomiono pierwszy program z pamięci komputera
DESCRIPTION:1948 Вперше запущено програму збережену в пам’яті комп’ютера (Manchester Small-Scale Experimental Machine)
URL:https://www.psr.org.pl/wydarzenie/1948-na-manchester-small-scale-experimental-machine-uruchomiono-pierwszy-program-z-pamieci-komputera/
END:VEVENT
BEGIN:VEVENT
DTSTART;VALUE=DATE:20250622
DTEND;VALUE=DATE:20250623
DTSTAMP:20260419T194313
CREATED:20250120T130533Z
LAST-MODIFIED:20250120T130533Z
UID:9822-1750550400-1750636799@www.psr.org.pl
SUMMARY:1978 James Christy odkrył Charona\, księżyc Plutona
DESCRIPTION:1978 Джеймс Крісті відкрив супутник Плутонa – Харон
URL:https://www.psr.org.pl/wydarzenie/1978-james-christy-odkryl-charona-ksiezyc-plutona-2-2-2/
END:VEVENT
BEGIN:VEVENT
DTSTART;VALUE=DATE:20250623
DTEND;VALUE=DATE:20250624
DTSTAMP:20260419T194313
CREATED:20250120T130532Z
LAST-MODIFIED:20250120T130532Z
UID:9820-1750636800-1750723199@www.psr.org.pl
SUMMARY:2013 Kopalnia soli w Bochni została wpisana na Listę Światowego Dziedzictwa UNESCO
DESCRIPTION:2013 Соляну копальню в Бохні включено до списку об’єктів Світової спадщини ЮНЕСКО
URL:https://www.psr.org.pl/wydarzenie/2013-kopalnia-soli-w-bochni-zostala-wpisana-na-liste-swiatowego-dziedzictwa-unesco-2-2-2/
END:VEVENT
BEGIN:VEVENT
DTSTART;VALUE=DATE:20250624
DTEND;VALUE=DATE:20250625
DTSTAMP:20260419T194313
CREATED:20250120T130532Z
LAST-MODIFIED:20250120T130532Z
UID:9840-1750723200-1750809599@www.psr.org.pl
SUMMARY:1400 Uznaje się za dzień narodzin Johannesa Gutenberga\, wynalazcy prasy drukarskiej z ruchomą czcionką
DESCRIPTION:1400 Визнано за день народження Йоганна Гутенберга\, винахідника друкарського верстатa з рухливими літерами
URL:https://www.psr.org.pl/wydarzenie/1400-uznaje-sie-za-dzien-narodzin-johannesa-gutenberga-wynalazcy-prasy-drukarskiej-z-ruchoma-czcionka-2-2/
END:VEVENT
BEGIN:VEVENT
DTSTART;VALUE=DATE:20250625
DTEND;VALUE=DATE:20250626
DTSTAMP:20260419T194313
CREATED:20250120T130532Z
LAST-MODIFIED:20250120T130532Z
UID:9838-1750809600-1750895999@www.psr.org.pl
SUMMARY:1678 Matematyczka i filozofka Elena Cornaro Piscopia jako pierwsza kobieta otrzymała stopień naukowy doktora
DESCRIPTION:1678 Математикиня і філософиня Елена Корнаро Піскопія стала першою жінкою\, яка здобула докторське звання
URL:https://www.psr.org.pl/wydarzenie/1678-matematyczka-i-filozofka-elena-cornaro-piscopia-jako-pierwsza-kobieta-otrzymala-stopien-naukowy-doktora-2-2-2/
END:VEVENT
BEGIN:VEVENT
DTSTART;VALUE=DATE:20250626
DTEND;VALUE=DATE:20250627
DTSTAMP:20260419T194313
CREATED:20250120T130531Z
LAST-MODIFIED:20250120T130531Z
UID:9836-1750896000-1750982399@www.psr.org.pl
SUMMARY:1730 Urodził się Charles Messier\, twórca pierwszego systematycznego katalogu obiektów mgławicowych i gromad gwiazd
DESCRIPTION:1730 Народився Шарль Мессьє\, автор першого систематичного каталогу туманностей і зоряних скупчень
URL:https://www.psr.org.pl/wydarzenie/1730-urodzil-sie-charles-messier-tworca-pierwszego-systematycznego-katalogu-obiektow-mglawicowych-i-gromad-gwiazd-2-2-2/
END:VEVENT
BEGIN:VEVENT
DTSTART;VALUE=DATE:20250627
DTEND;VALUE=DATE:20250628
DTSTAMP:20260419T194313
CREATED:20250120T130531Z
LAST-MODIFIED:20250120T130531Z
UID:9834-1750982400-1751068799@www.psr.org.pl
SUMMARY:1923 W Stanach Zjednoczonych przeprowadzono pierwsze tankowanie samolotu w powietrzu
DESCRIPTION:1923 У Сполучених Штатах проведено першу заправку літака у повітрі
URL:https://www.psr.org.pl/wydarzenie/1923-w-stanach-zjednoczonych-przeprowadzono-pierwsze-tankowanie-samolotu-w-powietrzu-2-2-2/
END:VEVENT
BEGIN:VEVENT
DTSTART;VALUE=DATE:20250628
DTEND;VALUE=DATE:20250629
DTSTAMP:20260419T194313
CREATED:20250120T130531Z
LAST-MODIFIED:20250120T130531Z
UID:9832-1751068800-1751155199@www.psr.org.pl
SUMMARY:1911 W okolicach Aleksandrii w Egipcie spadł pochodzący z Marsa meteoryt Nakhla
DESCRIPTION:1911 Поблизу Александрії в Єгипті упав марсіанський метеорит Нахла
URL:https://www.psr.org.pl/wydarzenie/1911-w-okolicach-aleksandrii-w-egipcie-spadl-pochodzacy-z-marsa-meteoryt-nakhla-2-2-2/
END:VEVENT
BEGIN:VEVENT
DTSTART;VALUE=DATE:20250629
DTEND;VALUE=DATE:20250630
DTSTAMP:20260419T194313
CREATED:20250120T130530Z
LAST-MODIFIED:20250120T130530Z
UID:9830-1751155200-1751241599@www.psr.org.pl
SUMMARY:1822 Urodził się Robert William Thomson\, wynalazca gumowej opony pneumatycznej\, kotłów parowych i wiecznego pióra
DESCRIPTION:1822 Народився Роберт Вільям Томсон\, винахідник пневматичної шини\, роторної парової машини й авторучки
URL:https://www.psr.org.pl/wydarzenie/1822-urodzil-sie-robert-william-thomson-wynalazca-gumowej-opony-pneumatycznej-kotlow-parowych-i-wiecznego-piora-2-2-2/
END:VEVENT
BEGIN:VEVENT
DTSTART;VALUE=DATE:20250630
DTEND;VALUE=DATE:20250701
DTSTAMP:20260419T194313
CREATED:20250120T130530Z
LAST-MODIFIED:20250120T130530Z
UID:9852-1751241600-1751327999@www.psr.org.pl
SUMMARY:1937 W Londynie wdrożono pierwszy system telefonicznych numerów alarmowych
DESCRIPTION:1937 В Лондоні запроваджено першу систему екстрених телефонних номерів
URL:https://www.psr.org.pl/wydarzenie/1937-w-londynie-wdrozono-pierwszy-system-telefonicznych-numerow-alarmowych-2-2-2/
END:VEVENT
BEGIN:VEVENT
DTSTART;VALUE=DATE:20250701
DTEND;VALUE=DATE:20250702
DTSTAMP:20260419T194313
CREATED:20250120T130529Z
LAST-MODIFIED:20250120T130529Z
UID:9850-1751328000-1751414399@www.psr.org.pl
SUMMARY:1903 Urodziła się Amy Johnson – pilotka i mechaniczka lotnicza\, rekordzistka przelotów z Anglii do Japonii i do Kapsztadu w RPA
DESCRIPTION:1903 Народилася Емі Джонсон\, жінка- пілот і авіамеханік\, рекордсменка перельотів з Англії до Японії та до Кейптауна у ПАР
URL:https://www.psr.org.pl/wydarzenie/1903-urodzila-sie-amy-johnson-pilotka-i-mechaniczka-lotnicza-rekordzistka-przelotow-z-anglii-do-japonii-i-do-kapsztadu-w-rpa-2-2-2/
END:VEVENT
BEGIN:VEVENT
DTSTART;VALUE=DATE:20250702
DTEND;VALUE=DATE:20250703
DTSTAMP:20260419T194313
CREATED:20250120T130529Z
LAST-MODIFIED:20250120T130529Z
UID:9843-1751414400-1751500799@www.psr.org.pl
SUMMARY:1900 Wzniósł się w powietrze pierwszy sterowiec zaprojektowany przez Ferdinanda von Zeppelina
DESCRIPTION:1900 У повітря піднявся перший дирижабль\, сконструйований Фердинандом фон Цеппеліном
URL:https://www.psr.org.pl/wydarzenie/1900-wzniosl-sie-w-powietrze-pierwszy-sterowiec-zaprojektowany-przez-ferdinanda-von-zeppelina-2/
END:VEVENT
BEGIN:VEVENT
DTSTART;VALUE=DATE:20250703
DTEND;VALUE=DATE:20250704
DTSTAMP:20260419T194313
CREATED:20250120T130529Z
LAST-MODIFIED:20250120T130529Z
UID:9845-1751500800-1751587199@www.psr.org.pl
SUMMARY:1928 W Londynie odbyła się pierwsza na świecie transmisja telewizyjna w kolorze
DESCRIPTION:1928 В Лондоні відбулася перша у світі телетрансляція у кольорі
URL:https://www.psr.org.pl/wydarzenie/1928-w-londynie-odbyla-sie-pierwsza-na-swiecie-transmisja-telewizyjna-w-kolorze-2-2-2/
END:VEVENT
BEGIN:VEVENT
DTSTART;VALUE=DATE:20250704
DTEND;VALUE=DATE:20250705
DTSTAMP:20260419T194313
CREATED:20250120T130528Z
LAST-MODIFIED:20250120T130528Z
UID:9847-1751587200-1751673599@www.psr.org.pl
SUMMARY:1971 Michael Hart opublikował pierwszego na świecie e-booka
DESCRIPTION:1971 Майкл Харт створив першу у світі електронну книгу
URL:https://www.psr.org.pl/wydarzenie/1971-michael-hart-opublikowal-pierwszego-na-swiecie-e-booka-2/
END:VEVENT
BEGIN:VEVENT
DTSTART;VALUE=DATE:20250705
DTEND;VALUE=DATE:20250706
DTSTAMP:20260419T194313
CREATED:20250120T130609Z
LAST-MODIFIED:20250120T130609Z
UID:9842-1751673600-1751759999@www.psr.org.pl
SUMMARY:1978 Mirosław Hermaszewski powrócił z polsko-radzieckiej badawczej misji kosmicznej Salut 6 EP-3 na statku Sojuz 30
DESCRIPTION:1978 На космічному кораблі «Союз- 30» Мирослав Гермашевський повернувся з польсько- радянської дослідницької місії на орбітальній станції «Салют-6»
URL:https://www.psr.org.pl/wydarzenie/1978-miroslaw-hermaszewski-powrocil-z-polsko-radzieckiej-badawczej-misji-kosmicznej-salut-6-ep-3-na-statku-sojuz-30-2-2-2/
END:VEVENT
BEGIN:VEVENT
DTSTART;VALUE=DATE:20250706
DTEND;VALUE=DATE:20250707
DTSTAMP:20260419T194313
CREATED:20250120T130609Z
LAST-MODIFIED:20250120T130609Z
UID:9858-1751760000-1751846399@www.psr.org.pl
SUMMARY:1946 Urodził się etyk Peter Singer\, który spopularyzował ideę wyzwolenia zwierząt
DESCRIPTION:1946 Народився Пітер Сінґер\, етик\, який популяризував ідею визволення тварин
URL:https://www.psr.org.pl/wydarzenie/1946-urodzil-sie-etyk-peter-singer-ktory-spopularyzowal-idee-wyzwolenia-zwierzat-2-2-2/
END:VEVENT
BEGIN:VEVENT
DTSTART;VALUE=DATE:20250707
DTEND;VALUE=DATE:20250708
DTSTAMP:20260419T194313
CREATED:20250120T130609Z
LAST-MODIFIED:20250120T130609Z
UID:9856-1751846400-1751932799@www.psr.org.pl
SUMMARY:1843 Urodził się Camillo Golgi – lekarz patolog\, badacz układu nerwowego\, odkrywca organellum zwanego aparatem Golgiego
DESCRIPTION:1843 Народився Камілло Ґольджі\, лікар\, патолог\, дослідник нервової системи\, першовідкривач одномембранної органели\, що отримала назву комплекс Ґольджі
URL:https://www.psr.org.pl/wydarzenie/1843-urodzil-sie-camillo-golgi-lekarz-patolog-badacz-ukladu-nerwowego-odkrywca-organellum-zwanego-aparatem-golgiego-2-2-2/
END:VEVENT
BEGIN:VEVENT
DTSTART;VALUE=DATE:20250708
DTEND;VALUE=DATE:20250709
DTSTAMP:20260419T194313
CREATED:20250120T130609Z
LAST-MODIFIED:20250121T105443Z
UID:9854-1751932800-1752019199@www.psr.org.pl
SUMMARY:1714 Brytyjski parlament powołał komisję nagradzającą wynalazców najlepszych przyrządów do wyznaczania długości geograficznej
DESCRIPTION:1497 З Лісабонського порту Васко да Гама вирушив на пошуки морського шляху до Індії
URL:https://www.psr.org.pl/wydarzenie/1714-brytyjski-parlament-powolal-komisje-nagradzajaca-wynalazcow-najlepszych-przyrzadow-do-wyznaczania-dlugosci-geograficznej/
END:VEVENT
BEGIN:VEVENT
DTSTART;VALUE=DATE:20250709
DTEND;VALUE=DATE:20250710
DTSTAMP:20260419T194313
CREATED:20250120T130608Z
LAST-MODIFIED:20250120T130608Z
UID:9864-1752019200-1752105599@www.psr.org.pl
SUMMARY:1926 Urodził się Benjamin Mottelson – fizyk jądrowy\, współtwórca kolektywnego modelu jądra atomowego
DESCRIPTION:1926 Народився Бенджамін Моттельсон\, ядерний фізик\, співавтор колективної моделі атомного ядра
URL:https://www.psr.org.pl/wydarzenie/1926-urodzil-sie-benjamin-mottelson-fizyk-jadrowy-wspoltworca-kolektywnego-modelu-jadra-atomowego-2-2-2/
END:VEVENT
END:VCALENDAR