BEGIN:VCALENDAR
VERSION:2.0
PRODID:-//Polskie Stowarzyszenie Racjonalistów - ECPv5.16.3.1//NONSGML v1.0//EN
CALSCALE:GREGORIAN
METHOD:PUBLISH
X-ORIGINAL-URL:https://www.psr.org.pl
X-WR-CALDESC:Wydarzenia dla Polskie Stowarzyszenie Racjonalistów
REFRESH-INTERVAL;VALUE=DURATION:PT1H
X-Robots-Tag:noindex
X-PUBLISHED-TTL:PT1H
BEGIN:VTIMEZONE
TZID:UTC
BEGIN:STANDARD
TZOFFSETFROM:+0000
TZOFFSETTO:+0000
TZNAME:UTC
DTSTART:20230101T000000
END:STANDARD
END:VTIMEZONE
BEGIN:VEVENT
DTSTART;VALUE=DATE:20230101
DTEND;VALUE=DATE:20230102
DTSTAMP:20260422T100239
CREATED:20230124T143905Z
LAST-MODIFIED:20250120T110324Z
UID:5346-1672531200-1672617599@www.psr.org.pl
SUMMARY:1912 Urodził się Boris Gniedenko\, wybitny specjalista od rachunku prawdopodobieństwa
DESCRIPTION:1912 Народився Борис Гнєденко\, видатний фахівець з теорії ймовірностей
URL:https://www.psr.org.pl/wydarzenie/1912-urodzil-sie-boris-gniedenko-wybitny-specjalista-od-rachunku-prawdopodobienstwa/
END:VEVENT
BEGIN:VEVENT
DTSTART;VALUE=DATE:20230102
DTEND;VALUE=DATE:20230103
DTSTAMP:20260422T100239
CREATED:20230124T144018Z
LAST-MODIFIED:20230124T144035Z
UID:5349-1672617600-1672703999@www.psr.org.pl
SUMMARY:1822 Urodził się fizyk Rudolf Clausius\, twórca pojęcia entropii
DESCRIPTION:1822 Народився Рудольф Клаузіус\, фізик\, творець концепції ентропії
URL:https://www.psr.org.pl/wydarzenie/1822-urodzil-sie-fizyk-rudolf-clausius-tworca-pojecia-entropii-2/
END:VEVENT
BEGIN:VEVENT
DTSTART;VALUE=DATE:20230103
DTEND;VALUE=DATE:20230104
DTSTAMP:20260422T100240
CREATED:20230124T144115Z
LAST-MODIFIED:20230124T144125Z
UID:5351-1672704000-1672790399@www.psr.org.pl
SUMMARY:1496 Leonardo da Vinci przeprowadził nieudaną próbę swojej maszyny latającej
DESCRIPTION:1496 Леонардо да Вінчі здійснив невдале випробування свого літаючого апарату
URL:https://www.psr.org.pl/wydarzenie/1496-leonardo-da-vinci-przeprowadzil-nieudana-probe-swojej-maszyny-latajacej-2/
END:VEVENT
BEGIN:VEVENT
DTSTART;VALUE=DATE:20230104
DTEND;VALUE=DATE:20230105
DTSTAMP:20260422T100240
CREATED:20230124T144214Z
LAST-MODIFIED:20230124T144252Z
UID:5353-1672790400-1672876799@www.psr.org.pl
SUMMARY:1963 Urodziła się May-Britt Moser\, odkrywczyni komórek nerwowych odpowiedzialnych za orientację w przestrzeni (tzw. GPS mózgu)
DESCRIPTION:1963 Народилася Мей-Бритт Мозер\, дослідник просторових клітин мозку\, що відповідають за систему орієнтації людини у просторі (т.зв. GPS мозку)
URL:https://www.psr.org.pl/wydarzenie/1963-urodzila-sie-may-britt-moser-odkrywczyni-komorek-nerwowych-odpowiedzialnych-za-orientacje-w-przestrzeni-tzw-gps-mozgu/
END:VEVENT
BEGIN:VEVENT
DTSTART;VALUE=DATE:20230105
DTEND;VALUE=DATE:20230106
DTSTAMP:20260422T100240
CREATED:20230124T144347Z
LAST-MODIFIED:20230124T144414Z
UID:5359-1672876800-1672963199@www.psr.org.pl
SUMMARY:1912 Alfred Wegener przedstawił teorię wędrówki kontynentów
DESCRIPTION:1912 Альфред Вегенер представив теорію дрейфу континентів
URL:https://www.psr.org.pl/wydarzenie/1912-alfred-wegener-przedstawil-teorie-wedrowki-kontynentow-2/
END:VEVENT
BEGIN:VEVENT
DTSTART;VALUE=DATE:20230106
DTEND;VALUE=DATE:20230107
DTSTAMP:20260422T100240
CREATED:20230124T144314Z
LAST-MODIFIED:20230124T144450Z
UID:5357-1672963200-1673049599@www.psr.org.pl
SUMMARY:1769 James Watt opatentował ulepszoną maszynę parową
DESCRIPTION:1769 Джеймс Ватт запатентував вдосконалену парову машину
URL:https://www.psr.org.pl/wydarzenie/1769-james-watt-opatentowal-ulepszona-maszyne-parowa-2/
END:VEVENT
BEGIN:VEVENT
DTSTART;VALUE=DATE:20230107
DTEND;VALUE=DATE:20230108
DTSTAMP:20260422T100240
CREATED:20230124T144559Z
LAST-MODIFIED:20230124T144559Z
UID:5361-1673049600-1673135999@www.psr.org.pl
SUMMARY:1610 Galileusz odkrył największe księżyce Jowisza
DESCRIPTION:1610 Галілео Галілей відкрив найбільші супутники Юпітера
URL:https://www.psr.org.pl/wydarzenie/1610-galileusz-odkryl-najwieksze-ksiezyce-jowisza-2/
END:VEVENT
BEGIN:VEVENT
DTSTART;VALUE=DATE:20230108
DTEND;VALUE=DATE:20230109
DTSTAMP:20260422T100240
CREATED:20230124T144638Z
LAST-MODIFIED:20230124T144638Z
UID:5363-1673136000-1673222399@www.psr.org.pl
SUMMARY:1851 Jean Foucault przeprowadził eksperyment z wahadłem
DESCRIPTION:1851 Жан Фуко провів експеримент з маятником
URL:https://www.psr.org.pl/wydarzenie/1851-jean-foucault-przeprowadzil-eksperyment-z-wahadlem-2/
END:VEVENT
BEGIN:VEVENT
DTSTART;VALUE=DATE:20230109
DTEND;VALUE=DATE:20230110
DTSTAMP:20260422T100240
CREATED:20230124T144713Z
LAST-MODIFIED:20230124T144736Z
UID:5365-1673222400-1673308799@www.psr.org.pl
SUMMARY:1992 Aleksander Wolszczan opublikował odkrycie pierwszego układu planet wokół pulsara
DESCRIPTION:1992 Александер Вольщан опублікував своє відкриття позасонячних планетних систем навколо пульсара
URL:https://www.psr.org.pl/wydarzenie/1992-aleksander-wolszczan-opublikowal-odkrycie-pierwszego-ukladu-planet-wokol-pulsara-2/
END:VEVENT
BEGIN:VEVENT
DTSTART;VALUE=DATE:20230110
DTEND;VALUE=DATE:20230111
DTSTAMP:20260422T100240
CREATED:20230124T144804Z
LAST-MODIFIED:20230124T144804Z
UID:5368-1673308800-1673395199@www.psr.org.pl
SUMMARY:1863 Pierwsza całkowicie podziemna linia metra została otwarta w Londynie
DESCRIPTION:1863 В Лондоні відкрито першу повністю підземну лінію метро
URL:https://www.psr.org.pl/wydarzenie/1863-pierwsza-calkowicie-podziemna-linia-metra-zostala-otwarta-w-londynie-2/
END:VEVENT
BEGIN:VEVENT
DTSTART;VALUE=DATE:20230111
DTEND;VALUE=DATE:20230112
DTSTAMP:20260422T100240
CREATED:20230124T144857Z
LAST-MODIFIED:20230124T144915Z
UID:5370-1673395200-1673481599@www.psr.org.pl
SUMMARY:1922 Czternastoletni Leonard Thompson został pierwszym pacjentem\, któremu podano insulinę
DESCRIPTION:1922 Чотирнадцятирічний Леонард Томпсон став першим пацієнтом\, якому введено інсулін
URL:https://www.psr.org.pl/wydarzenie/1922-czternastoletni-leonard-thompson-zostal-pierwszym-pacjentem-ktoremu-podano-insuline-2/
END:VEVENT
BEGIN:VEVENT
DTSTART;VALUE=DATE:20230112
DTEND;VALUE=DATE:20230113
DTSTAMP:20260422T100240
CREATED:20230124T144957Z
LAST-MODIFIED:20230124T144957Z
UID:5372-1673481600-1673567999@www.psr.org.pl
SUMMARY:1673 W Amsterdamie użyto po raz pierwszy wężów strażackich do gaszenia pożaru
DESCRIPTION:1673 Для гасіння пожежі в Амстердамі вперше використано пожежні рукави
URL:https://www.psr.org.pl/wydarzenie/1673-w-amsterdamie-uzyto-po-raz-pierwszy-wezow-strazackich-do-gaszenia-pozaru-2/
END:VEVENT
BEGIN:VEVENT
DTSTART;VALUE=DATE:20230113
DTEND;VALUE=DATE:20230114
DTSTAMP:20260422T100240
CREATED:20230125T140934Z
LAST-MODIFIED:20230125T140934Z
UID:5380-1673568000-1673654399@www.psr.org.pl
SUMMARY:1910 W Nowym Jorku dokonano pierwszej radiowej transmisji przedstawienia operowego na żywo
DESCRIPTION:1910 В Нью-Йорку відбулась перша радіотрансляція опери з оперного театру
URL:https://www.psr.org.pl/wydarzenie/1910-w-nowym-jorku-dokonano-pierwszej-radiowej-transmisji-przedstawienia-operowego-na-zywo-2/
END:VEVENT
BEGIN:VEVENT
DTSTART;VALUE=DATE:20230114
DTEND;VALUE=DATE:20230115
DTSTAMP:20260422T100240
CREATED:20230125T141022Z
LAST-MODIFIED:20230125T141034Z
UID:5382-1673654400-1673740799@www.psr.org.pl
SUMMARY:2005 Lądownik Huygens przesłał pierwsze zdjęcia z Tytana\, księżyca Saturna
DESCRIPTION:2005 Космічний зонд «Гюйгенс» відправив перші знімки супутника Сатурна – Титана
URL:https://www.psr.org.pl/wydarzenie/2005-ladownik-huygens-przeslal-pierwsze-zdjecia-z-tytana-ksiezyca-saturna-2/
END:VEVENT
BEGIN:VEVENT
DTSTART;VALUE=DATE:20230115
DTEND;VALUE=DATE:20230116
DTSTAMP:20260422T100240
CREATED:20230125T141134Z
LAST-MODIFIED:20230125T141134Z
UID:5384-1673740800-1673827199@www.psr.org.pl
SUMMARY:2003 Na Ziemię wróciła sonda Stardust wioząc próbki komety Wild 2
DESCRIPTION:2003 На Землю повернувся космічний зонд «Стардаст» зі зразками речовини комети Вільда 2
URL:https://www.psr.org.pl/wydarzenie/2003-na-ziemie-wrocila-sonda-stardust-wiozac-probki-komety-wild-2-2/
END:VEVENT
BEGIN:VEVENT
DTSTART;VALUE=DATE:20230116
DTEND;VALUE=DATE:20230117
DTSTAMP:20260422T100240
CREATED:20230125T141220Z
LAST-MODIFIED:20230125T141220Z
UID:5387-1673827200-1673913599@www.psr.org.pl
SUMMARY:1959 Utworzono Kampinoski i Karkonoski Park Narodowy
DESCRIPTION:1959 Утворено Кампіноський і Карконоський Національні парки
URL:https://www.psr.org.pl/wydarzenie/1959-utworzono-kampinoski-i-karkonoski-park-narodowy-2/
END:VEVENT
BEGIN:VEVENT
DTSTART;VALUE=DATE:20230117
DTEND;VALUE=DATE:20230118
DTSTAMP:20260422T100240
CREATED:20230125T141623Z
LAST-MODIFIED:20230125T141623Z
UID:5389-1673913600-1673999999@www.psr.org.pl
SUMMARY:1955 Pierwszy okręt podwodny o napędzie atomowym\, USS Nautilus\, wypłynął w pierwszy rejs
DESCRIPTION:1955 Перший підводний човен з ядерним реактором USS «Наутилус» вирушив у свій перший рейс
URL:https://www.psr.org.pl/wydarzenie/1955-pierwszy-okret-podwodny-o-napedzie-atomowym-uss-nautilus-wyplynal-w-pierwszy-rejs-2/
END:VEVENT
BEGIN:VEVENT
DTSTART;VALUE=DATE:20230118
DTEND;VALUE=DATE:20230119
DTSTAMP:20260422T100240
CREATED:20230125T141656Z
LAST-MODIFIED:20230125T141656Z
UID:5391-1674000000-1674086399@www.psr.org.pl
SUMMARY:1799 Nicholas Louis Robert opatentował pierwszą maszynę papierniczą
DESCRIPTION:1799 Луї-Ніколя Робер запатентував першу машину для виготовлення паперу
URL:https://www.psr.org.pl/wydarzenie/1799-nicholas-louis-robert-opatentowal-pierwsza-maszyne-papiernicza-2/
END:VEVENT
BEGIN:VEVENT
DTSTART;VALUE=DATE:20230119
DTEND;VALUE=DATE:20230120
DTSTAMP:20260422T100240
CREATED:20230125T142652Z
LAST-MODIFIED:20230125T142652Z
UID:5393-1674086400-1674172799@www.psr.org.pl
SUMMARY:1983 Firma Apple wprowadziła na rynek komputer osobisty Lisa
DESCRIPTION:1983 Компанія Apple запустила на ринок персональний комп’ютер «Lisa»
URL:https://www.psr.org.pl/wydarzenie/1983-firma-apple-wprowadzila-na-rynek-komputer-osobisty-lisa-2/
END:VEVENT
BEGIN:VEVENT
DTSTART;VALUE=DATE:20230120
DTEND;VALUE=DATE:20230121
DTSTAMP:20260422T100240
CREATED:20230125T142915Z
LAST-MODIFIED:20230125T142915Z
UID:5395-1674172800-1674259199@www.psr.org.pl
SUMMARY:1876 Urodził się Józef Hofmann\, pianista i wynalazca m.in. wycieraczek samochodowych
DESCRIPTION:1876 Народився Юзеф Хофман\, піаніст і винахідник\, зокрема\, склоочисників для автомобіля
URL:https://www.psr.org.pl/wydarzenie/1876-urodzil-sie-jozef-hofmann-pianista-i-wynalazca-m-in-wycieraczek-samochodowych/
END:VEVENT
BEGIN:VEVENT
DTSTART;VALUE=DATE:20230121
DTEND;VALUE=DATE:20230122
DTSTAMP:20260422T100240
CREATED:20230125T143306Z
LAST-MODIFIED:20230125T143314Z
UID:5397-1674259200-1674345599@www.psr.org.pl
SUMMARY:1862 Powstała firma Opel\, początkowo specjalizująca się w maszynach do szycia
DESCRIPTION:1862 Створено компанію Opel\, що спочатку спеціалізувалась на виробництві швейних машин
URL:https://www.psr.org.pl/wydarzenie/1862-powstala-firma-opel-poczatkowo-specjalizujaca-sie-w-maszynach-do-szycia-2/
END:VEVENT
BEGIN:VEVENT
DTSTART;VALUE=DATE:20230122
DTEND;VALUE=DATE:20230123
DTSTAMP:20260422T100240
CREATED:20230125T143451Z
LAST-MODIFIED:20230125T143451Z
UID:5399-1674345600-1674431999@www.psr.org.pl
SUMMARY:1865 Urodził się Wilbur Scoville\, chemik\, który opracował skalę i sposób mierzenia pikantności papryczek chili
DESCRIPTION:1865 Народився Вілбур Сковіл\, хімік\, який розробив тест і шкалу для вимірювання пекучості перцю чилі
URL:https://www.psr.org.pl/wydarzenie/1865-urodzil-sie-wilbur-scoville-chemik-ktory-opracowal-skale-i-sposob-mierzenia-pikantnosci-papryczek-chili-2/
END:VEVENT
BEGIN:VEVENT
DTSTART;VALUE=DATE:20230123
DTEND;VALUE=DATE:20230124
DTSTAMP:20260422T100240
CREATED:20230125T143522Z
LAST-MODIFIED:20230125T143522Z
UID:5401-1674432000-1674518399@www.psr.org.pl
SUMMARY:1843 Jakub Kryštof Rad opatentował cukier w kostkach
DESCRIPTION:1843 Якуб Криштоф Рад запатентував цукор- рафінад
URL:https://www.psr.org.pl/wydarzenie/1843-jakub-krystof-rad-opatentowal-cukier-w-kostkach-2/
END:VEVENT
BEGIN:VEVENT
DTSTART;VALUE=DATE:20230124
DTEND;VALUE=DATE:20230125
DTSTAMP:20260422T100240
CREATED:20230125T143630Z
LAST-MODIFIED:20230125T143630Z
UID:5403-1674518400-1674604799@www.psr.org.pl
SUMMARY:1860 Étienne Lenoir opatentował pierwszy użyteczny silnik spalinowy
DESCRIPTION:1860 Етьєн Ленуар запатентував перший придатний для використання двигун внутрішнього згоряння
URL:https://www.psr.org.pl/wydarzenie/1860-etienne-lenoir-opatentowal-pierwszy-uzyteczny-silnik-spalinowy-2/
END:VEVENT
BEGIN:VEVENT
DTSTART;VALUE=DATE:20230125
DTEND;VALUE=DATE:20230126
DTSTAMP:20260422T100240
CREATED:20230125T143653Z
LAST-MODIFIED:20230125T143653Z
UID:5405-1674604800-1674691199@www.psr.org.pl
SUMMARY:2004 Łazik Opportunity wylądował na Marsie i rozpoczął 15-letnie badania planety
DESCRIPTION:2004 Марсохід «Оппортьюніті» приземлився на Марс і розпочав своє 15-річне дослідження планети
URL:https://www.psr.org.pl/wydarzenie/2004-lazik-opportunity-wyladowal-na-marsie-i-rozpoczal-15-letnie-badania-planety/
END:VEVENT
BEGIN:VEVENT
DTSTART;VALUE=DATE:20230126
DTEND;VALUE=DATE:20230127
DTSTAMP:20260422T100240
CREATED:20230125T143731Z
LAST-MODIFIED:20230125T143731Z
UID:5407-1674691200-1674777599@www.psr.org.pl
SUMMARY:1875 George Green opatentował elektryczne wiertło dentystyczne
DESCRIPTION:1875 Джон Грінвуд запатентував електричний стоматологічний бор
URL:https://www.psr.org.pl/wydarzenie/1875-george-green-opatentowal-elektryczne-wiertlo-dentystyczne-2/
END:VEVENT
BEGIN:VEVENT
DTSTART;VALUE=DATE:20230127
DTEND;VALUE=DATE:20230128
DTSTAMP:20260422T100240
CREATED:20230125T143846Z
LAST-MODIFIED:20230125T143846Z
UID:5410-1674777600-1674863999@www.psr.org.pl
SUMMARY:1888 W Stanach Zjednoczonych powstało National Geographic Society
DESCRIPTION:1888 У Сполучених Штатах створено Національне Географічне Товариство
URL:https://www.psr.org.pl/wydarzenie/1888-w-stanach-zjednoczonych-powstalo-national-geographic-society-2/
END:VEVENT
BEGIN:VEVENT
DTSTART;VALUE=DATE:20230128
DTEND;VALUE=DATE:20230129
DTSTAMP:20260422T100240
CREATED:20230125T143952Z
LAST-MODIFIED:20230125T143952Z
UID:5412-1674864000-1674950399@www.psr.org.pl
SUMMARY:1841 James Clark Ross odkrył lodowiec szelfowy na Antarktydzie
DESCRIPTION:1841 Джеймс Кларк Росс відкрив найбільший шельфовий льодовик в Антарктиді
URL:https://www.psr.org.pl/wydarzenie/1841-james-clark-ross-odkryl-lodowiec-szelfowy-na-antarktydzie-2/
END:VEVENT
BEGIN:VEVENT
DTSTART;VALUE=DATE:20230129
DTEND;VALUE=DATE:20230130
DTSTAMP:20260422T100240
CREATED:20230125T144026Z
LAST-MODIFIED:20230125T144026Z
UID:5414-1674950400-1675036799@www.psr.org.pl
SUMMARY:1862 Urodził się kompozytor i miłośnik przyrody\, Frederick Delius
DESCRIPTION:1862 Народився Фредерік Деліус (1862 – 1934)\, композитор і шанувальник природи
URL:https://www.psr.org.pl/wydarzenie/1862-urodzil-sie-kompozytor-i-milosnik-przyrody-frederick-delius-2/
END:VEVENT
BEGIN:VEVENT
DTSTART;VALUE=DATE:20230130
DTEND;VALUE=DATE:20230131
DTSTAMP:20260422T100240
CREATED:20230125T144101Z
LAST-MODIFIED:20230125T144101Z
UID:5416-1675036800-1675123199@www.psr.org.pl
SUMMARY:2017 Androidka Fran Pepper otrzymała obywatelstwo Królestwa Belgii
DESCRIPTION:2017 Робот-андроїд пані Фран Пеппер отримала громадянство Королівства Бельгія
URL:https://www.psr.org.pl/wydarzenie/2017-androidka-fran-pepper-otrzymala-obywatelstwo-krolestwa-belgii-2/
END:VEVENT
END:VCALENDAR